BEGIN:VCALENDAR
VERSION:2.0
PRODID:-//Senso Voerendaal - ECPv6.15.16//NONSGML v1.0//EN
CALSCALE:GREGORIAN
METHOD:PUBLISH
X-ORIGINAL-URL:https://senso-voerendaal.nl
X-WR-CALDESC:Evenementen voor Senso Voerendaal
REFRESH-INTERVAL;VALUE=DURATION:PT1H
X-Robots-Tag:noindex
X-PUBLISHED-TTL:PT1H
BEGIN:VTIMEZONE
TZID:Europe/Amsterdam
BEGIN:DAYLIGHT
TZOFFSETFROM:+0100
TZOFFSETTO:+0200
TZNAME:CEST
DTSTART:20240331T010000
END:DAYLIGHT
BEGIN:STANDARD
TZOFFSETFROM:+0200
TZOFFSETTO:+0100
TZNAME:CET
DTSTART:20241027T010000
END:STANDARD
BEGIN:DAYLIGHT
TZOFFSETFROM:+0100
TZOFFSETTO:+0200
TZNAME:CEST
DTSTART:20250330T010000
END:DAYLIGHT
BEGIN:STANDARD
TZOFFSETFROM:+0200
TZOFFSETTO:+0100
TZNAME:CET
DTSTART:20251026T010000
END:STANDARD
BEGIN:DAYLIGHT
TZOFFSETFROM:+0100
TZOFFSETTO:+0200
TZNAME:CEST
DTSTART:20260329T010000
END:DAYLIGHT
BEGIN:STANDARD
TZOFFSETFROM:+0200
TZOFFSETTO:+0100
TZNAME:CET
DTSTART:20261025T010000
END:STANDARD
END:VTIMEZONE
BEGIN:VEVENT
DTSTART;TZID=Europe/Amsterdam:20251113T141500
DTEND;TZID=Europe/Amsterdam:20251113T151500
DTSTAMP:20260423T045712
CREATED:20240417T120315Z
LAST-MODIFIED:20251016T143635Z
UID:10002071-1763043300-1763046900@senso-voerendaal.nl
SUMMARY:Tai-Chi
DESCRIPTION:  \nBewegen – Senso Voerendaal \n 
URL:https://senso-voerendaal.nl/evenement/tai-chi-2-2-2/2025-11-13/
LOCATION:Limburg
ATTACH;FMTTYPE=image/jpeg:https://senso-voerendaal.nl/wp-content/uploads/2024/03/tai-chi.jpg
END:VEVENT
BEGIN:VEVENT
DTSTART;TZID=Europe/Amsterdam:20251113T140000
DTEND;TZID=Europe/Amsterdam:20251113T160000
DTSTAMP:20260423T045712
CREATED:20240325T121534Z
LAST-MODIFIED:20251016T143548Z
UID:10002921-1763042400-1763049600@senso-voerendaal.nl
SUMMARY:Soosmiddag
DESCRIPTION:
URL:https://senso-voerendaal.nl/evenement/soosmiddag-2/2025-11-13/
LOCATION:Kunderhoes\, Hogeweg 74\, Voerendaal\, Limburg\, 6367 BG\, Nederland
CATEGORIES:Activiteit
ATTACH;FMTTYPE=image/jpeg:https://senso-voerendaal.nl/wp-content/uploads/2024/03/downloaden-1.jpg
END:VEVENT
BEGIN:VEVENT
DTSTART;TZID=Europe/Amsterdam:20251113T093000
DTEND;TZID=Europe/Amsterdam:20251113T140000
DTSTAMP:20260423T045712
CREATED:20240320T132615Z
LAST-MODIFIED:20251006T163044Z
UID:10002220-1763026200-1763042400@senso-voerendaal.nl
SUMMARY:Fietstochten
DESCRIPTION:Bewegen – Senso Voerendaal \n 
URL:https://senso-voerendaal.nl/evenement/fietstochten-2-2/2025-11-13/
LOCATION:Kunderhoes\, Hogeweg 74\, Voerendaal\, Limburg\, 6367 BG\, Nederland
CATEGORIES:Bewegen
ATTACH;FMTTYPE=image/jpeg:https://senso-voerendaal.nl/wp-content/uploads/2024/03/fietstocht.jpg
END:VEVENT
BEGIN:VEVENT
DTSTART;TZID=Europe/Amsterdam:20251112T160000
DTEND;TZID=Europe/Amsterdam:20251112T170000
DTSTAMP:20260423T045712
CREATED:20240325T122413Z
LAST-MODIFIED:20251119T173325Z
UID:10002868-1762963200-1762966800@senso-voerendaal.nl
SUMMARY:Seniorenkoor
DESCRIPTION:Activiteiten/#seniorenkoor
URL:https://senso-voerendaal.nl/evenement/seniorenkoor-3/2025-11-12/
LOCATION:Kunderhoes\, Hogeweg 74\, Voerendaal\, Limburg\, 6367 BG\, Nederland
CATEGORIES:Activiteit
END:VEVENT
BEGIN:VEVENT
DTSTART;TZID=Europe/Amsterdam:20251112T111500
DTEND;TZID=Europe/Amsterdam:20251112T121500
DTSTAMP:20260423T045712
CREATED:20251006T155432Z
LAST-MODIFIED:20251016T143344Z
UID:10003220-1762946100-1762949700@senso-voerendaal.nl
SUMMARY:Tai CHI
DESCRIPTION:  \nBewegen – Senso Voerendaal \n 
URL:https://senso-voerendaal.nl/evenement/tai-chi-2-2-3/2025-11-12/
LOCATION:Kunderhoes\, Hogeweg 74\, Voerendaal\, Limburg\, 6367 BG\, Nederland
CATEGORIES:Bewegen
ATTACH;FMTTYPE=image/jpeg:https://senso-voerendaal.nl/wp-content/uploads/2024/03/tai-chi.jpg
END:VEVENT
BEGIN:VEVENT
DTSTART;TZID=Europe/Amsterdam:20251112T093000
DTEND;TZID=Europe/Amsterdam:20251112T120000
DTSTAMP:20260423T045712
CREATED:20240320T133016Z
LAST-MODIFIED:20251005T105739Z
UID:10002774-1762939800-1762948800@senso-voerendaal.nl
SUMMARY:Bridgen
DESCRIPTION:Activiteiten – Senso Voerendaal  \n 
URL:https://senso-voerendaal.nl/evenement/bridgen/2025-11-12/
LOCATION:Kunderhoes\, Hogeweg 74\, Voerendaal\, Limburg\, 6367 BG\, Nederland
CATEGORIES:Activiteit
ATTACH;FMTTYPE=image/jpeg:https://senso-voerendaal.nl/wp-content/uploads/2024/02/OIP-4.jpg
END:VEVENT
BEGIN:VEVENT
DTSTART;TZID=Europe/Amsterdam:20251112T093000
DTEND;TZID=Europe/Amsterdam:20251112T113000
DTSTAMP:20260423T045712
CREATED:20240320T132655Z
LAST-MODIFIED:20251201T140144Z
UID:10002435-1762939800-1762947000@senso-voerendaal.nl
SUMMARY:Tekenen en schilderen
DESCRIPTION:Activiteiten – Senso Voerendaal \n 
URL:https://senso-voerendaal.nl/evenement/tekenen-en-schilderen-2/2025-11-12/
LOCATION:Kunderhoes\, Hogeweg 74\, Voerendaal\, Limburg\, 6367 BG\, Nederland
CATEGORIES:Activiteit
ATTACH;FMTTYPE=image/jpeg:https://senso-voerendaal.nl/wp-content/uploads/2024/03/Schilderen_10-360x240-1.jpg
END:VEVENT
BEGIN:VEVENT
DTSTART;TZID=Europe/Amsterdam:20251111T190000
DTEND;TZID=Europe/Amsterdam:20251111T210000
DTSTAMP:20260423T045712
CREATED:20240325T125209Z
LAST-MODIFIED:20251016T144004Z
UID:10002654-1762887600-1762894800@senso-voerendaal.nl
SUMMARY:Koersballen
DESCRIPTION:Activiteiten – Senso Voerendaal
URL:https://senso-voerendaal.nl/evenement/koersballen-2-2-2-2/2025-11-11/
LOCATION:Kunderhoes\, Hogeweg 74\, Voerendaal\, Limburg\, 6367 BG\, Nederland
CATEGORIES:Activiteit
ATTACH;FMTTYPE=image/jpeg:https://senso-voerendaal.nl/wp-content/uploads/2024/02/koersball.jpg
END:VEVENT
BEGIN:VEVENT
DTSTART;TZID=Europe/Amsterdam:20251111T190000
DTEND;TZID=Europe/Amsterdam:20251111T203000
DTSTAMP:20260423T045712
CREATED:20240325T124542Z
LAST-MODIFIED:20251016T123312Z
UID:10002382-1762887600-1762893000@senso-voerendaal.nl
SUMMARY:Seniorenorkest
DESCRIPTION:  \nActiviteiten – Senso Voerendaal \n 
URL:https://senso-voerendaal.nl/evenement/seniorenorkest-2/2025-11-11/
LOCATION:De Borenburg\, Furenthela 16\, Voerendaal\, 6367 TL\, Nederland
CATEGORIES:Activiteit
ATTACH;FMTTYPE=image/jpeg:https://senso-voerendaal.nl/wp-content/uploads/2024/03/seniorenorkest-360x270-1.jpg
END:VEVENT
BEGIN:VEVENT
DTSTART;TZID=Europe/Amsterdam:20251111T150000
DTEND;TZID=Europe/Amsterdam:20251111T160000
DTSTAMP:20260423T045712
CREATED:20240417T115732Z
LAST-MODIFIED:20251016T143031Z
UID:10002278-1762873200-1762876800@senso-voerendaal.nl
SUMMARY:Bewegen op muziek
DESCRIPTION:Bewegen – Senso Voerendaal  \n 
URL:https://senso-voerendaal.nl/evenement/bewegen-op-muziek-3-2/2025-11-11/
LOCATION:Kunderhoes\, Hogeweg 74\, Voerendaal\, Limburg\, 6367 BG\, Nederland
CATEGORIES:Bewegen
ATTACH;FMTTYPE=image/jpeg:https://senso-voerendaal.nl/wp-content/uploads/2024/03/OIP-8.jpg
END:VEVENT
BEGIN:VEVENT
DTSTART;TZID=Europe/Amsterdam:20251111T103000
DTEND;TZID=Europe/Amsterdam:20251111T123000
DTSTAMP:20260423T045712
CREATED:20250818T080415Z
LAST-MODIFIED:20251016T141548Z
UID:10004012-1762857000-1762864200@senso-voerendaal.nl
SUMMARY:Chi Neng Qiong
DESCRIPTION:  \n  \n  \nBewegen – Senso Voerendaal
URL:https://senso-voerendaal.nl/evenement/chi-neng-qiong/2025-11-11/
LOCATION:Kunderhoes\, Hogeweg 74\, Voerendaal\, Limburg\, 6367 BG\, Nederland
CATEGORIES:Bewegen
ATTACH;FMTTYPE=image/jpeg:https://senso-voerendaal.nl/wp-content/uploads/2025/01/Qigong.jpg
END:VEVENT
BEGIN:VEVENT
DTSTART;TZID=Europe/Amsterdam:20251111T093000
DTEND;TZID=Europe/Amsterdam:20251111T140000
DTSTAMP:20260423T045712
CREATED:20240320T132615Z
LAST-MODIFIED:20251006T163044Z
UID:10002219-1762853400-1762869600@senso-voerendaal.nl
SUMMARY:Fietstochten
DESCRIPTION:Bewegen – Senso Voerendaal \n 
URL:https://senso-voerendaal.nl/evenement/fietstochten-2-2/2025-11-11/
LOCATION:Kunderhoes\, Hogeweg 74\, Voerendaal\, Limburg\, 6367 BG\, Nederland
CATEGORIES:Bewegen
ATTACH;FMTTYPE=image/jpeg:https://senso-voerendaal.nl/wp-content/uploads/2024/03/fietstocht.jpg
END:VEVENT
BEGIN:VEVENT
DTSTART;TZID=Europe/Amsterdam:20251110T143000
DTEND;TZID=Europe/Amsterdam:20251110T153000
DTSTAMP:20260423T045712
CREATED:20250410T083215Z
LAST-MODIFIED:20251016T142824Z
UID:10002330-1762785000-1762788600@senso-voerendaal.nl
SUMMARY:Senioren gym
DESCRIPTION:Bewegen – Senso Voerendaal \n 
URL:https://senso-voerendaal.nl/evenement/senioren-gym-2-2-2/2025-11-10/
LOCATION:Kunderhoes\, Hogeweg 74\, Voerendaal\, Limburg\, 6367 BG\, Nederland
CATEGORIES:Bewegen
ATTACH;FMTTYPE=image/jpeg:https://senso-voerendaal.nl/wp-content/uploads/2024/03/downloaden.jpg
END:VEVENT
BEGIN:VEVENT
DTSTART;TZID=Europe/Amsterdam:20251110T100000
DTEND;TZID=Europe/Amsterdam:20251110T120000
DTSTAMP:20260423T045712
CREATED:20250410T082812Z
LAST-MODIFIED:20251016T142711Z
UID:10002018-1762768800-1762776000@senso-voerendaal.nl
SUMMARY:Tafeltennis
DESCRIPTION:  \nBewegen – Senso Voerendaal (senso-voerendaal.nl) \n 
URL:https://senso-voerendaal.nl/evenement/tafeltennis-2-2/2025-11-10/
LOCATION:Kunderhoes\, Hogeweg 74\, Voerendaal\, Limburg\, 6367 BG\, Nederland
CATEGORIES:Bewegen
ATTACH;FMTTYPE=image/png:https://senso-voerendaal.nl/wp-content/uploads/2024/02/image-248x300-1.png
END:VEVENT
BEGIN:VEVENT
DTSTART;TZID=Europe/Amsterdam:20251107T094500
DTEND;TZID=Europe/Amsterdam:20251107T104500
DTSTAMP:20260423T045712
CREATED:20240417T115933Z
LAST-MODIFIED:20251016T143839Z
UID:10002487-1762508700-1762512300@senso-voerendaal.nl
SUMMARY:Yoga
DESCRIPTION:bewegen/#yoga
URL:https://senso-voerendaal.nl/evenement/yoga-2-2-2/2025-11-07/
LOCATION:Limburg
CATEGORIES:Bewegen
ATTACH;FMTTYPE=image/jpeg:https://senso-voerendaal.nl/wp-content/uploads/2024/03/yoga.jpg
END:VEVENT
BEGIN:VEVENT
DTSTART;TZID=Europe/Amsterdam:20251107T093000
DTEND;TZID=Europe/Amsterdam:20251107T150000
DTSTAMP:20260423T045712
CREATED:20250207T143927Z
LAST-MODIFIED:20251108T093300Z
UID:10001924-1762507800-1762527600@senso-voerendaal.nl
SUMMARY:Wandelen
DESCRIPTION:Bewegen – Senso Voerendaal \n  \n 
URL:https://senso-voerendaal.nl/evenement/wandelen-2-2-2/2025-11-07/
LOCATION:Capoolplaats Kerkplein Voerendaal\, Kerkplein 43\, Voerendaal\, Limburg\, 6367 EN\, Nederland
CATEGORIES:Bewegen
ATTACH;FMTTYPE=image/jpeg:https://senso-voerendaal.nl/wp-content/uploads/2024/03/Afbeelding1-360x225-1.jpg
END:VEVENT
BEGIN:VEVENT
DTSTART;TZID=Europe/Amsterdam:20251106T190000
DTEND;TZID=Europe/Amsterdam:20251106T210000
DTSTAMP:20260423T045712
CREATED:20240325T125209Z
LAST-MODIFIED:20251016T144004Z
UID:10002653-1762455600-1762462800@senso-voerendaal.nl
SUMMARY:Koersballen
DESCRIPTION:Activiteiten – Senso Voerendaal
URL:https://senso-voerendaal.nl/evenement/koersballen-2-2-2-2/2025-11-06/
LOCATION:Kunderhoes\, Hogeweg 74\, Voerendaal\, Limburg\, 6367 BG\, Nederland
CATEGORIES:Activiteit
ATTACH;FMTTYPE=image/jpeg:https://senso-voerendaal.nl/wp-content/uploads/2024/02/koersball.jpg
END:VEVENT
BEGIN:VEVENT
DTSTART;TZID=Europe/Amsterdam:20251106T153000
DTEND;TZID=Europe/Amsterdam:20251106T163000
DTSTAMP:20260423T045712
CREATED:20240417T120721Z
LAST-MODIFIED:20251016T143720Z
UID:10002122-1762443000-1762446600@senso-voerendaal.nl
SUMMARY:Line dance
DESCRIPTION:
URL:https://senso-voerendaal.nl/evenement/line-dance-2/2025-11-06/
LOCATION:Kunderhoes\, Hogeweg 74\, Voerendaal\, Limburg\, 6367 BG\, Nederland
CATEGORIES:Bewegen
ATTACH;FMTTYPE=image/jpeg:https://senso-voerendaal.nl/wp-content/uploads/2024/02/download-1.jpg
END:VEVENT
BEGIN:VEVENT
DTSTART;TZID=Europe/Amsterdam:20251106T141500
DTEND;TZID=Europe/Amsterdam:20251106T151500
DTSTAMP:20260423T045712
CREATED:20240417T120315Z
LAST-MODIFIED:20251016T143635Z
UID:10002070-1762438500-1762442100@senso-voerendaal.nl
SUMMARY:Tai-Chi
DESCRIPTION:  \nBewegen – Senso Voerendaal \n 
URL:https://senso-voerendaal.nl/evenement/tai-chi-2-2-2/2025-11-06/
LOCATION:Limburg
ATTACH;FMTTYPE=image/jpeg:https://senso-voerendaal.nl/wp-content/uploads/2024/03/tai-chi.jpg
END:VEVENT
BEGIN:VEVENT
DTSTART;TZID=Europe/Amsterdam:20251106T140000
DTEND;TZID=Europe/Amsterdam:20251106T160000
DTSTAMP:20260423T045712
CREATED:20240325T121534Z
LAST-MODIFIED:20251016T143548Z
UID:10002920-1762437600-1762444800@senso-voerendaal.nl
SUMMARY:Soosmiddag
DESCRIPTION:
URL:https://senso-voerendaal.nl/evenement/soosmiddag-2/2025-11-06/
LOCATION:Kunderhoes\, Hogeweg 74\, Voerendaal\, Limburg\, 6367 BG\, Nederland
CATEGORIES:Activiteit
ATTACH;FMTTYPE=image/jpeg:https://senso-voerendaal.nl/wp-content/uploads/2024/03/downloaden-1.jpg
END:VEVENT
BEGIN:VEVENT
DTSTART;TZID=Europe/Amsterdam:20251106T093000
DTEND;TZID=Europe/Amsterdam:20251106T140000
DTSTAMP:20260423T045712
CREATED:20240320T132615Z
LAST-MODIFIED:20251006T163044Z
UID:10002218-1762421400-1762437600@senso-voerendaal.nl
SUMMARY:Fietstochten
DESCRIPTION:Bewegen – Senso Voerendaal \n 
URL:https://senso-voerendaal.nl/evenement/fietstochten-2-2/2025-11-06/
LOCATION:Kunderhoes\, Hogeweg 74\, Voerendaal\, Limburg\, 6367 BG\, Nederland
CATEGORIES:Bewegen
ATTACH;FMTTYPE=image/jpeg:https://senso-voerendaal.nl/wp-content/uploads/2024/03/fietstocht.jpg
END:VEVENT
BEGIN:VEVENT
DTSTART;TZID=Europe/Amsterdam:20251105T160000
DTEND;TZID=Europe/Amsterdam:20251105T170000
DTSTAMP:20260423T045712
CREATED:20240325T122413Z
LAST-MODIFIED:20251119T173325Z
UID:10002867-1762358400-1762362000@senso-voerendaal.nl
SUMMARY:Seniorenkoor
DESCRIPTION:Activiteiten/#seniorenkoor
URL:https://senso-voerendaal.nl/evenement/seniorenkoor-3/2025-11-05/
LOCATION:Kunderhoes\, Hogeweg 74\, Voerendaal\, Limburg\, 6367 BG\, Nederland
CATEGORIES:Activiteit
END:VEVENT
BEGIN:VEVENT
DTSTART;TZID=Europe/Amsterdam:20251105T111500
DTEND;TZID=Europe/Amsterdam:20251105T121500
DTSTAMP:20260423T045712
CREATED:20251006T155432Z
LAST-MODIFIED:20251016T143344Z
UID:10003219-1762341300-1762344900@senso-voerendaal.nl
SUMMARY:Tai CHI
DESCRIPTION:  \nBewegen – Senso Voerendaal \n 
URL:https://senso-voerendaal.nl/evenement/tai-chi-2-2-3/2025-11-05/
LOCATION:Kunderhoes\, Hogeweg 74\, Voerendaal\, Limburg\, 6367 BG\, Nederland
CATEGORIES:Bewegen
ATTACH;FMTTYPE=image/jpeg:https://senso-voerendaal.nl/wp-content/uploads/2024/03/tai-chi.jpg
END:VEVENT
BEGIN:VEVENT
DTSTART;TZID=Europe/Amsterdam:20251105T093000
DTEND;TZID=Europe/Amsterdam:20251105T120000
DTSTAMP:20260423T045712
CREATED:20240320T133016Z
LAST-MODIFIED:20251005T105739Z
UID:10002773-1762335000-1762344000@senso-voerendaal.nl
SUMMARY:Bridgen
DESCRIPTION:Activiteiten – Senso Voerendaal  \n 
URL:https://senso-voerendaal.nl/evenement/bridgen/2025-11-05/
LOCATION:Kunderhoes\, Hogeweg 74\, Voerendaal\, Limburg\, 6367 BG\, Nederland
CATEGORIES:Activiteit
ATTACH;FMTTYPE=image/jpeg:https://senso-voerendaal.nl/wp-content/uploads/2024/02/OIP-4.jpg
END:VEVENT
BEGIN:VEVENT
DTSTART;TZID=Europe/Amsterdam:20251105T093000
DTEND;TZID=Europe/Amsterdam:20251105T113000
DTSTAMP:20260423T045712
CREATED:20240320T132655Z
LAST-MODIFIED:20251201T140144Z
UID:10002434-1762335000-1762342200@senso-voerendaal.nl
SUMMARY:Tekenen en schilderen
DESCRIPTION:Activiteiten – Senso Voerendaal \n 
URL:https://senso-voerendaal.nl/evenement/tekenen-en-schilderen-2/2025-11-05/
LOCATION:Kunderhoes\, Hogeweg 74\, Voerendaal\, Limburg\, 6367 BG\, Nederland
CATEGORIES:Activiteit
ATTACH;FMTTYPE=image/jpeg:https://senso-voerendaal.nl/wp-content/uploads/2024/03/Schilderen_10-360x240-1.jpg
END:VEVENT
BEGIN:VEVENT
DTSTART;TZID=Europe/Amsterdam:20251104T190000
DTEND;TZID=Europe/Amsterdam:20251104T210000
DTSTAMP:20260423T045712
CREATED:20240325T125209Z
LAST-MODIFIED:20251016T144004Z
UID:10002652-1762282800-1762290000@senso-voerendaal.nl
SUMMARY:Koersballen
DESCRIPTION:Activiteiten – Senso Voerendaal
URL:https://senso-voerendaal.nl/evenement/koersballen-2-2-2-2/2025-11-04/
LOCATION:Kunderhoes\, Hogeweg 74\, Voerendaal\, Limburg\, 6367 BG\, Nederland
CATEGORIES:Activiteit
ATTACH;FMTTYPE=image/jpeg:https://senso-voerendaal.nl/wp-content/uploads/2024/02/koersball.jpg
END:VEVENT
BEGIN:VEVENT
DTSTART;TZID=Europe/Amsterdam:20251104T190000
DTEND;TZID=Europe/Amsterdam:20251104T203000
DTSTAMP:20260423T045712
CREATED:20240325T124542Z
LAST-MODIFIED:20251016T123312Z
UID:10002381-1762282800-1762288200@senso-voerendaal.nl
SUMMARY:Seniorenorkest
DESCRIPTION:  \nActiviteiten – Senso Voerendaal \n 
URL:https://senso-voerendaal.nl/evenement/seniorenorkest-2/2025-11-04/
LOCATION:De Borenburg\, Furenthela 16\, Voerendaal\, 6367 TL\, Nederland
CATEGORIES:Activiteit
ATTACH;FMTTYPE=image/jpeg:https://senso-voerendaal.nl/wp-content/uploads/2024/03/seniorenorkest-360x270-1.jpg
END:VEVENT
BEGIN:VEVENT
DTSTART;TZID=Europe/Amsterdam:20251104T150000
DTEND;TZID=Europe/Amsterdam:20251104T160000
DTSTAMP:20260423T045712
CREATED:20240417T115732Z
LAST-MODIFIED:20251016T143031Z
UID:10002277-1762268400-1762272000@senso-voerendaal.nl
SUMMARY:Bewegen op muziek
DESCRIPTION:Bewegen – Senso Voerendaal  \n 
URL:https://senso-voerendaal.nl/evenement/bewegen-op-muziek-3-2/2025-11-04/
LOCATION:Kunderhoes\, Hogeweg 74\, Voerendaal\, Limburg\, 6367 BG\, Nederland
CATEGORIES:Bewegen
ATTACH;FMTTYPE=image/jpeg:https://senso-voerendaal.nl/wp-content/uploads/2024/03/OIP-8.jpg
END:VEVENT
BEGIN:VEVENT
DTSTART;TZID=Europe/Amsterdam:20251104T140000
DTEND;TZID=Europe/Amsterdam:20251104T160000
DTSTAMP:20260423T045712
CREATED:20240313T131655Z
LAST-MODIFIED:20251201T140529Z
UID:10001215-1762264800-1762272000@senso-voerendaal.nl
SUMMARY:Workshop
DESCRIPTION:Activiteiten – Senso Voerendaal 
URL:https://senso-voerendaal.nl/evenement/workshop-1-2/2025-11-04/
LOCATION:Kunderhoes\, Hogeweg 74\, Voerendaal\, Limburg\, 6367 BG\, Nederland
CATEGORIES:Activiteit
ATTACH;FMTTYPE=image/jpeg:https://senso-voerendaal.nl/wp-content/uploads/2024/03/Schilderen_10-360x240-1.jpg
END:VEVENT
BEGIN:VEVENT
DTSTART;TZID=Europe/Amsterdam:20251104T103000
DTEND;TZID=Europe/Amsterdam:20251104T123000
DTSTAMP:20260423T045712
CREATED:20250818T080415Z
LAST-MODIFIED:20251016T141548Z
UID:10004011-1762252200-1762259400@senso-voerendaal.nl
SUMMARY:Chi Neng Qiong
DESCRIPTION:  \n  \n  \nBewegen – Senso Voerendaal
URL:https://senso-voerendaal.nl/evenement/chi-neng-qiong/2025-11-04/
LOCATION:Kunderhoes\, Hogeweg 74\, Voerendaal\, Limburg\, 6367 BG\, Nederland
CATEGORIES:Bewegen
ATTACH;FMTTYPE=image/jpeg:https://senso-voerendaal.nl/wp-content/uploads/2025/01/Qigong.jpg
END:VEVENT
END:VCALENDAR