BEGIN:VCALENDAR
VERSION:2.0
PRODID:-//Senso Voerendaal - ECPv6.15.16//NONSGML v1.0//EN
CALSCALE:GREGORIAN
METHOD:PUBLISH
X-WR-CALNAME:Senso Voerendaal
X-ORIGINAL-URL:https://senso-voerendaal.nl
X-WR-CALDESC:Evenementen voor Senso Voerendaal
REFRESH-INTERVAL;VALUE=DURATION:PT1H
X-Robots-Tag:noindex
X-PUBLISHED-TTL:PT1H
BEGIN:VTIMEZONE
TZID:Europe/Amsterdam
BEGIN:DAYLIGHT
TZOFFSETFROM:+0100
TZOFFSETTO:+0200
TZNAME:CEST
DTSTART:20240331T010000
END:DAYLIGHT
BEGIN:STANDARD
TZOFFSETFROM:+0200
TZOFFSETTO:+0100
TZNAME:CET
DTSTART:20241027T010000
END:STANDARD
BEGIN:DAYLIGHT
TZOFFSETFROM:+0100
TZOFFSETTO:+0200
TZNAME:CEST
DTSTART:20250330T010000
END:DAYLIGHT
BEGIN:STANDARD
TZOFFSETFROM:+0200
TZOFFSETTO:+0100
TZNAME:CET
DTSTART:20251026T010000
END:STANDARD
BEGIN:DAYLIGHT
TZOFFSETFROM:+0100
TZOFFSETTO:+0200
TZNAME:CEST
DTSTART:20260329T010000
END:DAYLIGHT
BEGIN:STANDARD
TZOFFSETFROM:+0200
TZOFFSETTO:+0100
TZNAME:CET
DTSTART:20261025T010000
END:STANDARD
END:VTIMEZONE
BEGIN:VEVENT
DTSTART;TZID=Europe/Amsterdam:20251230T190000
DTEND;TZID=Europe/Amsterdam:20251230T203000
DTSTAMP:20260420T225533
CREATED:20240325T124542Z
LAST-MODIFIED:20251016T123312Z
UID:10002389-1767121200-1767126600@senso-voerendaal.nl
SUMMARY:Seniorenorkest
DESCRIPTION:  \nActiviteiten – Senso Voerendaal \n 
URL:https://senso-voerendaal.nl/evenement/seniorenorkest-2/2025-12-30/
LOCATION:De Borenburg\, Furenthela 16\, Voerendaal\, 6367 TL\, Nederland
CATEGORIES:Activiteit
ATTACH;FMTTYPE=image/jpeg:https://senso-voerendaal.nl/wp-content/uploads/2024/03/seniorenorkest-360x270-1.jpg
END:VEVENT
BEGIN:VEVENT
DTSTART;TZID=Europe/Amsterdam:20251230T093000
DTEND;TZID=Europe/Amsterdam:20251230T140000
DTSTAMP:20260420T225533
CREATED:20240320T132615Z
LAST-MODIFIED:20251006T163044Z
UID:10002233-1767087000-1767103200@senso-voerendaal.nl
SUMMARY:Fietstochten
DESCRIPTION:Bewegen – Senso Voerendaal \n 
URL:https://senso-voerendaal.nl/evenement/fietstochten-2-2/2025-12-30/
LOCATION:Kunderhoes\, Hogeweg 74\, Voerendaal\, Limburg\, 6367 BG\, Nederland
CATEGORIES:Bewegen
ATTACH;FMTTYPE=image/jpeg:https://senso-voerendaal.nl/wp-content/uploads/2024/03/fietstocht.jpg
END:VEVENT
BEGIN:VEVENT
DTSTART;TZID=Europe/Amsterdam:20251223T190000
DTEND;TZID=Europe/Amsterdam:20251223T203000
DTSTAMP:20260420T225533
CREATED:20240325T124542Z
LAST-MODIFIED:20251016T123312Z
UID:10002388-1766516400-1766521800@senso-voerendaal.nl
SUMMARY:Seniorenorkest
DESCRIPTION:  \nActiviteiten – Senso Voerendaal \n 
URL:https://senso-voerendaal.nl/evenement/seniorenorkest-2/2025-12-23/
LOCATION:De Borenburg\, Furenthela 16\, Voerendaal\, 6367 TL\, Nederland
CATEGORIES:Activiteit
ATTACH;FMTTYPE=image/jpeg:https://senso-voerendaal.nl/wp-content/uploads/2024/03/seniorenorkest-360x270-1.jpg
END:VEVENT
BEGIN:VEVENT
DTSTART;TZID=Europe/Amsterdam:20251223T093000
DTEND;TZID=Europe/Amsterdam:20251223T140000
DTSTAMP:20260420T225533
CREATED:20240320T132615Z
LAST-MODIFIED:20251006T163044Z
UID:10002231-1766482200-1766498400@senso-voerendaal.nl
SUMMARY:Fietstochten
DESCRIPTION:Bewegen – Senso Voerendaal \n 
URL:https://senso-voerendaal.nl/evenement/fietstochten-2-2/2025-12-23/
LOCATION:Kunderhoes\, Hogeweg 74\, Voerendaal\, Limburg\, 6367 BG\, Nederland
CATEGORIES:Bewegen
ATTACH;FMTTYPE=image/jpeg:https://senso-voerendaal.nl/wp-content/uploads/2024/03/fietstocht.jpg
END:VEVENT
BEGIN:VEVENT
DTSTART;TZID=Europe/Amsterdam:20251219T094500
DTEND;TZID=Europe/Amsterdam:20251219T104500
DTSTAMP:20260420T225533
CREATED:20240417T115933Z
LAST-MODIFIED:20251016T143839Z
UID:10002493-1766137500-1766141100@senso-voerendaal.nl
SUMMARY:Yoga
DESCRIPTION:bewegen/#yoga
URL:https://senso-voerendaal.nl/evenement/yoga-2-2-2/2025-12-19/
CATEGORIES:Bewegen
ATTACH;FMTTYPE=image/jpeg:https://senso-voerendaal.nl/wp-content/uploads/2024/03/yoga.jpg
END:VEVENT
BEGIN:VEVENT
DTSTART;TZID=Europe/Amsterdam:20251218T190000
DTEND;TZID=Europe/Amsterdam:20251218T210000
DTSTAMP:20260420T225533
CREATED:20240325T125209Z
LAST-MODIFIED:20251016T144004Z
UID:10002665-1766084400-1766091600@senso-voerendaal.nl
SUMMARY:Koersballen
DESCRIPTION:Activiteiten – Senso Voerendaal
URL:https://senso-voerendaal.nl/evenement/koersballen-2-2-2-2/2025-12-18/
LOCATION:Kunderhoes\, Hogeweg 74\, Voerendaal\, Limburg\, 6367 BG\, Nederland
CATEGORIES:Activiteit
ATTACH;FMTTYPE=image/jpeg:https://senso-voerendaal.nl/wp-content/uploads/2024/02/koersball.jpg
END:VEVENT
BEGIN:VEVENT
DTSTART;TZID=Europe/Amsterdam:20251218T153000
DTEND;TZID=Europe/Amsterdam:20251218T163000
DTSTAMP:20260420T225533
CREATED:20240417T120721Z
LAST-MODIFIED:20251016T143720Z
UID:10002128-1766071800-1766075400@senso-voerendaal.nl
SUMMARY:Line dance
DESCRIPTION:
URL:https://senso-voerendaal.nl/evenement/line-dance-2/2025-12-18/
LOCATION:Kunderhoes\, Hogeweg 74\, Voerendaal\, Limburg\, 6367 BG\, Nederland
CATEGORIES:Bewegen
ATTACH;FMTTYPE=image/jpeg:https://senso-voerendaal.nl/wp-content/uploads/2024/02/download-1.jpg
END:VEVENT
BEGIN:VEVENT
DTSTART;TZID=Europe/Amsterdam:20251218T141500
DTEND;TZID=Europe/Amsterdam:20251218T151500
DTSTAMP:20260420T225533
CREATED:20240417T120315Z
LAST-MODIFIED:20251016T143635Z
UID:10002076-1766067300-1766070900@senso-voerendaal.nl
SUMMARY:Tai-Chi
DESCRIPTION:  \nBewegen – Senso Voerendaal \n 
URL:https://senso-voerendaal.nl/evenement/tai-chi-2-2-2/2025-12-18/
ATTACH;FMTTYPE=image/jpeg:https://senso-voerendaal.nl/wp-content/uploads/2024/03/tai-chi.jpg
END:VEVENT
BEGIN:VEVENT
DTSTART;TZID=Europe/Amsterdam:20251218T140000
DTEND;TZID=Europe/Amsterdam:20251218T160000
DTSTAMP:20260420T225533
CREATED:20240325T121534Z
LAST-MODIFIED:20251016T143548Z
UID:10002926-1766066400-1766073600@senso-voerendaal.nl
SUMMARY:Soosmiddag
DESCRIPTION:
URL:https://senso-voerendaal.nl/evenement/soosmiddag-2/2025-12-18/
LOCATION:Kunderhoes\, Hogeweg 74\, Voerendaal\, Limburg\, 6367 BG\, Nederland
CATEGORIES:Activiteit
ATTACH;FMTTYPE=image/jpeg:https://senso-voerendaal.nl/wp-content/uploads/2024/03/downloaden-1.jpg
END:VEVENT
BEGIN:VEVENT
DTSTART;TZID=Europe/Amsterdam:20251218T093000
DTEND;TZID=Europe/Amsterdam:20251218T140000
DTSTAMP:20260420T225533
CREATED:20240320T132615Z
LAST-MODIFIED:20251006T163044Z
UID:10002230-1766050200-1766066400@senso-voerendaal.nl
SUMMARY:Fietstochten
DESCRIPTION:Bewegen – Senso Voerendaal \n 
URL:https://senso-voerendaal.nl/evenement/fietstochten-2-2/2025-12-18/
LOCATION:Kunderhoes\, Hogeweg 74\, Voerendaal\, Limburg\, 6367 BG\, Nederland
CATEGORIES:Bewegen
ATTACH;FMTTYPE=image/jpeg:https://senso-voerendaal.nl/wp-content/uploads/2024/03/fietstocht.jpg
END:VEVENT
BEGIN:VEVENT
DTSTART;TZID=Europe/Amsterdam:20251217T160000
DTEND;TZID=Europe/Amsterdam:20251217T193000
DTSTAMP:20260420T225533
CREATED:20251006T162453Z
LAST-MODIFIED:20251006T165632Z
UID:10003283-1765987200-1765999800@senso-voerendaal.nl
SUMMARY:Kerstviering
DESCRIPTION:
URL:https://senso-voerendaal.nl/evenement/kerstviering/2025-12-17/
END:VEVENT
BEGIN:VEVENT
DTSTART;TZID=Europe/Amsterdam:20251217T160000
DTEND;TZID=Europe/Amsterdam:20251217T170000
DTSTAMP:20260420T225533
CREATED:20240325T122413Z
LAST-MODIFIED:20251119T173325Z
UID:10002873-1765987200-1765990800@senso-voerendaal.nl
SUMMARY:Seniorenkoor
DESCRIPTION:Activiteiten/#seniorenkoor
URL:https://senso-voerendaal.nl/evenement/seniorenkoor-3/2025-12-17/
LOCATION:Kunderhoes\, Hogeweg 74\, Voerendaal\, Limburg\, 6367 BG\, Nederland
CATEGORIES:Activiteit
END:VEVENT
BEGIN:VEVENT
DTSTART;TZID=Europe/Amsterdam:20251217T111500
DTEND;TZID=Europe/Amsterdam:20251217T121500
DTSTAMP:20260420T225533
CREATED:20251006T155432Z
LAST-MODIFIED:20251016T143344Z
UID:10003225-1765970100-1765973700@senso-voerendaal.nl
SUMMARY:Tai CHI
DESCRIPTION:  \nBewegen – Senso Voerendaal \n 
URL:https://senso-voerendaal.nl/evenement/tai-chi-2-2-3/2025-12-17/
LOCATION:Kunderhoes\, Hogeweg 74\, Voerendaal\, Limburg\, 6367 BG\, Nederland
CATEGORIES:Bewegen
ATTACH;FMTTYPE=image/jpeg:https://senso-voerendaal.nl/wp-content/uploads/2024/03/tai-chi.jpg
END:VEVENT
BEGIN:VEVENT
DTSTART;TZID=Europe/Amsterdam:20251217T093000
DTEND;TZID=Europe/Amsterdam:20251217T120000
DTSTAMP:20260420T225533
CREATED:20240320T133016Z
LAST-MODIFIED:20251005T105739Z
UID:10002779-1765963800-1765972800@senso-voerendaal.nl
SUMMARY:Bridgen
DESCRIPTION:Activiteiten – Senso Voerendaal  \n 
URL:https://senso-voerendaal.nl/evenement/bridgen/2025-12-17/
LOCATION:Kunderhoes\, Hogeweg 74\, Voerendaal\, Limburg\, 6367 BG\, Nederland
CATEGORIES:Activiteit
ATTACH;FMTTYPE=image/jpeg:https://senso-voerendaal.nl/wp-content/uploads/2024/02/OIP-4.jpg
END:VEVENT
BEGIN:VEVENT
DTSTART;TZID=Europe/Amsterdam:20251217T093000
DTEND;TZID=Europe/Amsterdam:20251217T113000
DTSTAMP:20260420T225533
CREATED:20240320T132655Z
LAST-MODIFIED:20251201T140144Z
UID:10002440-1765963800-1765971000@senso-voerendaal.nl
SUMMARY:Tekenen en schilderen
DESCRIPTION:Activiteiten – Senso Voerendaal \n 
URL:https://senso-voerendaal.nl/evenement/tekenen-en-schilderen-2/2025-12-17/
LOCATION:Kunderhoes\, Hogeweg 74\, Voerendaal\, Limburg\, 6367 BG\, Nederland
CATEGORIES:Activiteit
ATTACH;FMTTYPE=image/jpeg:https://senso-voerendaal.nl/wp-content/uploads/2024/03/Schilderen_10-360x240-1.jpg
END:VEVENT
BEGIN:VEVENT
DTSTART;TZID=Europe/Amsterdam:20251216T190000
DTEND;TZID=Europe/Amsterdam:20251216T210000
DTSTAMP:20260420T225533
CREATED:20240325T125209Z
LAST-MODIFIED:20251016T144004Z
UID:10002664-1765911600-1765918800@senso-voerendaal.nl
SUMMARY:Koersballen
DESCRIPTION:Activiteiten – Senso Voerendaal
URL:https://senso-voerendaal.nl/evenement/koersballen-2-2-2-2/2025-12-16/
LOCATION:Kunderhoes\, Hogeweg 74\, Voerendaal\, Limburg\, 6367 BG\, Nederland
CATEGORIES:Activiteit
ATTACH;FMTTYPE=image/jpeg:https://senso-voerendaal.nl/wp-content/uploads/2024/02/koersball.jpg
END:VEVENT
BEGIN:VEVENT
DTSTART;TZID=Europe/Amsterdam:20251216T190000
DTEND;TZID=Europe/Amsterdam:20251216T203000
DTSTAMP:20260420T225533
CREATED:20240325T124542Z
LAST-MODIFIED:20251016T123312Z
UID:10002387-1765911600-1765917000@senso-voerendaal.nl
SUMMARY:Seniorenorkest
DESCRIPTION:  \nActiviteiten – Senso Voerendaal \n 
URL:https://senso-voerendaal.nl/evenement/seniorenorkest-2/2025-12-16/
LOCATION:De Borenburg\, Furenthela 16\, Voerendaal\, 6367 TL\, Nederland
CATEGORIES:Activiteit
ATTACH;FMTTYPE=image/jpeg:https://senso-voerendaal.nl/wp-content/uploads/2024/03/seniorenorkest-360x270-1.jpg
END:VEVENT
BEGIN:VEVENT
DTSTART;TZID=Europe/Amsterdam:20251216T150000
DTEND;TZID=Europe/Amsterdam:20251216T160000
DTSTAMP:20260420T225533
CREATED:20240417T115732Z
LAST-MODIFIED:20251016T143031Z
UID:10002283-1765897200-1765900800@senso-voerendaal.nl
SUMMARY:Bewegen op muziek
DESCRIPTION:Bewegen – Senso Voerendaal  \n 
URL:https://senso-voerendaal.nl/evenement/bewegen-op-muziek-3-2/2025-12-16/
LOCATION:Kunderhoes\, Hogeweg 74\, Voerendaal\, Limburg\, 6367 BG\, Nederland
CATEGORIES:Bewegen
ATTACH;FMTTYPE=image/jpeg:https://senso-voerendaal.nl/wp-content/uploads/2024/03/OIP-8.jpg
END:VEVENT
BEGIN:VEVENT
DTSTART;TZID=Europe/Amsterdam:20251216T140000
DTEND;TZID=Europe/Amsterdam:20251216T160000
DTSTAMP:20260420T225533
CREATED:20240313T131655Z
LAST-MODIFIED:20251201T140529Z
UID:10001218-1765893600-1765900800@senso-voerendaal.nl
SUMMARY:Workshop
DESCRIPTION:Activiteiten – Senso Voerendaal 
URL:https://senso-voerendaal.nl/evenement/workshop-1-2/2025-12-16/
LOCATION:Kunderhoes\, Hogeweg 74\, Voerendaal\, Limburg\, 6367 BG\, Nederland
CATEGORIES:Activiteit
ATTACH;FMTTYPE=image/jpeg:https://senso-voerendaal.nl/wp-content/uploads/2024/03/Schilderen_10-360x240-1.jpg
END:VEVENT
BEGIN:VEVENT
DTSTART;TZID=Europe/Amsterdam:20251216T103000
DTEND;TZID=Europe/Amsterdam:20251216T123000
DTSTAMP:20260420T225533
CREATED:20250818T080415Z
LAST-MODIFIED:20251016T141548Z
UID:10004017-1765881000-1765888200@senso-voerendaal.nl
SUMMARY:Chi Neng Qiong
DESCRIPTION:  \n  \n  \nBewegen – Senso Voerendaal
URL:https://senso-voerendaal.nl/evenement/chi-neng-qiong/2025-12-16/
LOCATION:Kunderhoes\, Hogeweg 74\, Voerendaal\, Limburg\, 6367 BG\, Nederland
CATEGORIES:Bewegen
ATTACH;FMTTYPE=image/jpeg:https://senso-voerendaal.nl/wp-content/uploads/2025/01/Qigong.jpg
END:VEVENT
BEGIN:VEVENT
DTSTART;TZID=Europe/Amsterdam:20251216T093000
DTEND;TZID=Europe/Amsterdam:20251216T140000
DTSTAMP:20260420T225533
CREATED:20240320T132615Z
LAST-MODIFIED:20251006T163044Z
UID:10002229-1765877400-1765893600@senso-voerendaal.nl
SUMMARY:Fietstochten
DESCRIPTION:Bewegen – Senso Voerendaal \n 
URL:https://senso-voerendaal.nl/evenement/fietstochten-2-2/2025-12-16/
LOCATION:Kunderhoes\, Hogeweg 74\, Voerendaal\, Limburg\, 6367 BG\, Nederland
CATEGORIES:Bewegen
ATTACH;FMTTYPE=image/jpeg:https://senso-voerendaal.nl/wp-content/uploads/2024/03/fietstocht.jpg
END:VEVENT
BEGIN:VEVENT
DTSTART;TZID=Europe/Amsterdam:20251215T143000
DTEND;TZID=Europe/Amsterdam:20251215T153000
DTSTAMP:20260420T225533
CREATED:20250410T083215Z
LAST-MODIFIED:20251016T142824Z
UID:10002335-1765809000-1765812600@senso-voerendaal.nl
SUMMARY:Senioren gym
DESCRIPTION:Bewegen – Senso Voerendaal \n 
URL:https://senso-voerendaal.nl/evenement/senioren-gym-2-2-2/2025-12-15/
LOCATION:Kunderhoes\, Hogeweg 74\, Voerendaal\, Limburg\, 6367 BG\, Nederland
CATEGORIES:Bewegen
ATTACH;FMTTYPE=image/jpeg:https://senso-voerendaal.nl/wp-content/uploads/2024/03/downloaden.jpg
END:VEVENT
BEGIN:VEVENT
DTSTART;TZID=Europe/Amsterdam:20251215T100000
DTEND;TZID=Europe/Amsterdam:20251215T120000
DTSTAMP:20260420T225533
CREATED:20250410T082812Z
LAST-MODIFIED:20251016T142711Z
UID:10002023-1765792800-1765800000@senso-voerendaal.nl
SUMMARY:Tafeltennis
DESCRIPTION:  \nBewegen – Senso Voerendaal (senso-voerendaal.nl) \n 
URL:https://senso-voerendaal.nl/evenement/tafeltennis-2-2/2025-12-15/
LOCATION:Kunderhoes\, Hogeweg 74\, Voerendaal\, Limburg\, 6367 BG\, Nederland
CATEGORIES:Bewegen
ATTACH;FMTTYPE=image/png:https://senso-voerendaal.nl/wp-content/uploads/2024/02/image-248x300-1.png
END:VEVENT
BEGIN:VEVENT
DTSTART;TZID=Europe/Amsterdam:20251212T094500
DTEND;TZID=Europe/Amsterdam:20251212T104500
DTSTAMP:20260420T225533
CREATED:20240417T115933Z
LAST-MODIFIED:20251016T143839Z
UID:10002492-1765532700-1765536300@senso-voerendaal.nl
SUMMARY:Yoga
DESCRIPTION:bewegen/#yoga
URL:https://senso-voerendaal.nl/evenement/yoga-2-2-2/2025-12-12/
CATEGORIES:Bewegen
ATTACH;FMTTYPE=image/jpeg:https://senso-voerendaal.nl/wp-content/uploads/2024/03/yoga.jpg
END:VEVENT
BEGIN:VEVENT
DTSTART;TZID=Europe/Amsterdam:20251211T190000
DTEND;TZID=Europe/Amsterdam:20251211T210000
DTSTAMP:20260420T225533
CREATED:20240325T125209Z
LAST-MODIFIED:20251016T144004Z
UID:10002663-1765479600-1765486800@senso-voerendaal.nl
SUMMARY:Koersballen
DESCRIPTION:Activiteiten – Senso Voerendaal
URL:https://senso-voerendaal.nl/evenement/koersballen-2-2-2-2/2025-12-11/
LOCATION:Kunderhoes\, Hogeweg 74\, Voerendaal\, Limburg\, 6367 BG\, Nederland
CATEGORIES:Activiteit
ATTACH;FMTTYPE=image/jpeg:https://senso-voerendaal.nl/wp-content/uploads/2024/02/koersball.jpg
END:VEVENT
BEGIN:VEVENT
DTSTART;TZID=Europe/Amsterdam:20251211T153000
DTEND;TZID=Europe/Amsterdam:20251211T163000
DTSTAMP:20260420T225533
CREATED:20240417T120721Z
LAST-MODIFIED:20251016T143720Z
UID:10002127-1765467000-1765470600@senso-voerendaal.nl
SUMMARY:Line dance
DESCRIPTION:
URL:https://senso-voerendaal.nl/evenement/line-dance-2/2025-12-11/
LOCATION:Kunderhoes\, Hogeweg 74\, Voerendaal\, Limburg\, 6367 BG\, Nederland
CATEGORIES:Bewegen
ATTACH;FMTTYPE=image/jpeg:https://senso-voerendaal.nl/wp-content/uploads/2024/02/download-1.jpg
END:VEVENT
BEGIN:VEVENT
DTSTART;TZID=Europe/Amsterdam:20251211T141500
DTEND;TZID=Europe/Amsterdam:20251211T151500
DTSTAMP:20260420T225533
CREATED:20240417T120315Z
LAST-MODIFIED:20251016T143635Z
UID:10002075-1765462500-1765466100@senso-voerendaal.nl
SUMMARY:Tai-Chi
DESCRIPTION:  \nBewegen – Senso Voerendaal \n 
URL:https://senso-voerendaal.nl/evenement/tai-chi-2-2-2/2025-12-11/
ATTACH;FMTTYPE=image/jpeg:https://senso-voerendaal.nl/wp-content/uploads/2024/03/tai-chi.jpg
END:VEVENT
BEGIN:VEVENT
DTSTART;TZID=Europe/Amsterdam:20251211T140000
DTEND;TZID=Europe/Amsterdam:20251211T160000
DTSTAMP:20260420T225533
CREATED:20240325T121534Z
LAST-MODIFIED:20251016T143548Z
UID:10002925-1765461600-1765468800@senso-voerendaal.nl
SUMMARY:Soosmiddag
DESCRIPTION:
URL:https://senso-voerendaal.nl/evenement/soosmiddag-2/2025-12-11/
LOCATION:Kunderhoes\, Hogeweg 74\, Voerendaal\, Limburg\, 6367 BG\, Nederland
CATEGORIES:Activiteit
ATTACH;FMTTYPE=image/jpeg:https://senso-voerendaal.nl/wp-content/uploads/2024/03/downloaden-1.jpg
END:VEVENT
BEGIN:VEVENT
DTSTART;TZID=Europe/Amsterdam:20251211T093000
DTEND;TZID=Europe/Amsterdam:20251211T140000
DTSTAMP:20260420T225533
CREATED:20240320T132615Z
LAST-MODIFIED:20251006T163044Z
UID:10002228-1765445400-1765461600@senso-voerendaal.nl
SUMMARY:Fietstochten
DESCRIPTION:Bewegen – Senso Voerendaal \n 
URL:https://senso-voerendaal.nl/evenement/fietstochten-2-2/2025-12-11/
LOCATION:Kunderhoes\, Hogeweg 74\, Voerendaal\, Limburg\, 6367 BG\, Nederland
CATEGORIES:Bewegen
ATTACH;FMTTYPE=image/jpeg:https://senso-voerendaal.nl/wp-content/uploads/2024/03/fietstocht.jpg
END:VEVENT
BEGIN:VEVENT
DTSTART;TZID=Europe/Amsterdam:20251210T160000
DTEND;TZID=Europe/Amsterdam:20251210T170000
DTSTAMP:20260420T225533
CREATED:20240325T122413Z
LAST-MODIFIED:20251119T173325Z
UID:10002872-1765382400-1765386000@senso-voerendaal.nl
SUMMARY:Seniorenkoor
DESCRIPTION:Activiteiten/#seniorenkoor
URL:https://senso-voerendaal.nl/evenement/seniorenkoor-3/2025-12-10/
LOCATION:Kunderhoes\, Hogeweg 74\, Voerendaal\, Limburg\, 6367 BG\, Nederland
CATEGORIES:Activiteit
END:VEVENT
END:VCALENDAR