BEGIN:VCALENDAR
VERSION:2.0
PRODID:-//Senso Voerendaal - ECPv6.15.16//NONSGML v1.0//EN
CALSCALE:GREGORIAN
METHOD:PUBLISH
X-ORIGINAL-URL:https://senso-voerendaal.nl
X-WR-CALDESC:Evenementen voor Senso Voerendaal
REFRESH-INTERVAL;VALUE=DURATION:PT1H
X-Robots-Tag:noindex
X-PUBLISHED-TTL:PT1H
BEGIN:VTIMEZONE
TZID:Europe/Amsterdam
BEGIN:DAYLIGHT
TZOFFSETFROM:+0100
TZOFFSETTO:+0200
TZNAME:CEST
DTSTART:20250330T010000
END:DAYLIGHT
BEGIN:STANDARD
TZOFFSETFROM:+0200
TZOFFSETTO:+0100
TZNAME:CET
DTSTART:20251026T010000
END:STANDARD
BEGIN:DAYLIGHT
TZOFFSETFROM:+0100
TZOFFSETTO:+0200
TZNAME:CEST
DTSTART:20260329T010000
END:DAYLIGHT
BEGIN:STANDARD
TZOFFSETFROM:+0200
TZOFFSETTO:+0100
TZNAME:CET
DTSTART:20261025T010000
END:STANDARD
BEGIN:DAYLIGHT
TZOFFSETFROM:+0100
TZOFFSETTO:+0200
TZNAME:CEST
DTSTART:20270328T010000
END:DAYLIGHT
BEGIN:STANDARD
TZOFFSETFROM:+0200
TZOFFSETTO:+0100
TZNAME:CET
DTSTART:20271031T010000
END:STANDARD
END:VTIMEZONE
BEGIN:VEVENT
DTSTART;VALUE=DATE:20260713
DTEND;VALUE=DATE:20260824
DTSTAMP:20260421T002549
CREATED:20240417T122014Z
LAST-MODIFIED:20251016T132531Z
UID:10001893-1783900800-1787529599@senso-voerendaal.nl
SUMMARY:Vakantie 2026
DESCRIPTION:De Senso gaat met vakantie\, van 3 juli 2026 t/m 23 augustus 2026. De geplande activiteiten in deze periode gaan niet door. De activiteiten van de fietstochten en de maandelijkse Senso wandeling gaan wel door.
URL:https://senso-voerendaal.nl/evenement/vakantie-2024/
LOCATION:Kunderhoes\, Hogeweg 74\, Voerendaal\, Limburg\, 6367 BG\, Nederland
CATEGORIES:Activiteit
ATTACH;FMTTYPE=image/jpeg:https://senso-voerendaal.nl/wp-content/uploads/2024/04/vakantie-2019.jpg
END:VEVENT
BEGIN:VEVENT
DTSTART;TZID=Europe/Amsterdam:20260804T093000
DTEND;TZID=Europe/Amsterdam:20260804T140000
DTSTAMP:20260421T002549
CREATED:20240320T132615Z
LAST-MODIFIED:20251006T163044Z
UID:10003369-1785835800-1785852000@senso-voerendaal.nl
SUMMARY:Fietstochten
DESCRIPTION:Bewegen – Senso Voerendaal \n 
URL:https://senso-voerendaal.nl/evenement/fietstochten-2-2/2026-08-04/
LOCATION:Kunderhoes\, Hogeweg 74\, Voerendaal\, Limburg\, 6367 BG\, Nederland
CATEGORIES:Bewegen
ATTACH;FMTTYPE=image/jpeg:https://senso-voerendaal.nl/wp-content/uploads/2024/03/fietstocht.jpg
END:VEVENT
BEGIN:VEVENT
DTSTART;TZID=Europe/Amsterdam:20260804T190000
DTEND;TZID=Europe/Amsterdam:20260804T203000
DTSTAMP:20260421T002549
CREATED:20240325T124542Z
LAST-MODIFIED:20251016T123312Z
UID:10003495-1785870000-1785875400@senso-voerendaal.nl
SUMMARY:Seniorenorkest
DESCRIPTION:  \nActiviteiten – Senso Voerendaal \n 
URL:https://senso-voerendaal.nl/evenement/seniorenorkest-2/2026-08-04/
LOCATION:De Borenburg\, Furenthela 16\, Voerendaal\, 6367 TL\, Nederland
CATEGORIES:Activiteit
ATTACH;FMTTYPE=image/jpeg:https://senso-voerendaal.nl/wp-content/uploads/2024/03/seniorenorkest-360x270-1.jpg
END:VEVENT
BEGIN:VEVENT
DTSTART;TZID=Europe/Amsterdam:20260804T190000
DTEND;TZID=Europe/Amsterdam:20260804T210000
DTSTAMP:20260421T002549
CREATED:20240325T125209Z
LAST-MODIFIED:20251016T144004Z
UID:10004122-1785870000-1785877200@senso-voerendaal.nl
SUMMARY:Koersballen
DESCRIPTION:Activiteiten – Senso Voerendaal
URL:https://senso-voerendaal.nl/evenement/koersballen-2-2-2-2/2026-08-04/
LOCATION:Kunderhoes\, Hogeweg 74\, Voerendaal\, Limburg\, 6367 BG\, Nederland
CATEGORIES:Activiteit
ATTACH;FMTTYPE=image/jpeg:https://senso-voerendaal.nl/wp-content/uploads/2024/02/koersball.jpg
END:VEVENT
BEGIN:VEVENT
DTSTART;TZID=Europe/Amsterdam:20260806T093000
DTEND;TZID=Europe/Amsterdam:20260806T140000
DTSTAMP:20260421T002549
CREATED:20240320T132615Z
LAST-MODIFIED:20251006T163044Z
UID:10003370-1786008600-1786024800@senso-voerendaal.nl
SUMMARY:Fietstochten
DESCRIPTION:Bewegen – Senso Voerendaal \n 
URL:https://senso-voerendaal.nl/evenement/fietstochten-2-2/2026-08-06/
LOCATION:Kunderhoes\, Hogeweg 74\, Voerendaal\, Limburg\, 6367 BG\, Nederland
CATEGORIES:Bewegen
ATTACH;FMTTYPE=image/jpeg:https://senso-voerendaal.nl/wp-content/uploads/2024/03/fietstocht.jpg
END:VEVENT
BEGIN:VEVENT
DTSTART;TZID=Europe/Amsterdam:20260806T190000
DTEND;TZID=Europe/Amsterdam:20260806T210000
DTSTAMP:20260421T002549
CREATED:20240325T125209Z
LAST-MODIFIED:20251016T144004Z
UID:10004123-1786042800-1786050000@senso-voerendaal.nl
SUMMARY:Koersballen
DESCRIPTION:Activiteiten – Senso Voerendaal
URL:https://senso-voerendaal.nl/evenement/koersballen-2-2-2-2/2026-08-06/
LOCATION:Kunderhoes\, Hogeweg 74\, Voerendaal\, Limburg\, 6367 BG\, Nederland
CATEGORIES:Activiteit
ATTACH;FMTTYPE=image/jpeg:https://senso-voerendaal.nl/wp-content/uploads/2024/02/koersball.jpg
END:VEVENT
BEGIN:VEVENT
DTSTART;TZID=Europe/Amsterdam:20260807T093000
DTEND;TZID=Europe/Amsterdam:20260807T150000
DTSTAMP:20260421T002549
CREATED:20250207T143927Z
LAST-MODIFIED:20251108T093300Z
UID:10003303-1786095000-1786114800@senso-voerendaal.nl
SUMMARY:Wandelen
DESCRIPTION:Bewegen – Senso Voerendaal \n  \n 
URL:https://senso-voerendaal.nl/evenement/wandelen-2-2-2/2026-08-07/
LOCATION:Capoolplaats Kerkplein Voerendaal\, Kerkplein 43\, Voerendaal\, Limburg\, 6367 EN\, Nederland
CATEGORIES:Bewegen
ATTACH;FMTTYPE=image/jpeg:https://senso-voerendaal.nl/wp-content/uploads/2024/03/Afbeelding1-360x225-1.jpg
END:VEVENT
BEGIN:VEVENT
DTSTART;TZID=Europe/Amsterdam:20260811T093000
DTEND;TZID=Europe/Amsterdam:20260811T140000
DTSTAMP:20260421T002549
CREATED:20240320T132615Z
LAST-MODIFIED:20251006T163044Z
UID:10003371-1786440600-1786456800@senso-voerendaal.nl
SUMMARY:Fietstochten
DESCRIPTION:Bewegen – Senso Voerendaal \n 
URL:https://senso-voerendaal.nl/evenement/fietstochten-2-2/2026-08-11/
LOCATION:Kunderhoes\, Hogeweg 74\, Voerendaal\, Limburg\, 6367 BG\, Nederland
CATEGORIES:Bewegen
ATTACH;FMTTYPE=image/jpeg:https://senso-voerendaal.nl/wp-content/uploads/2024/03/fietstocht.jpg
END:VEVENT
BEGIN:VEVENT
DTSTART;TZID=Europe/Amsterdam:20260811T190000
DTEND;TZID=Europe/Amsterdam:20260811T203000
DTSTAMP:20260421T002549
CREATED:20240325T124542Z
LAST-MODIFIED:20251016T123312Z
UID:10003496-1786474800-1786480200@senso-voerendaal.nl
SUMMARY:Seniorenorkest
DESCRIPTION:  \nActiviteiten – Senso Voerendaal \n 
URL:https://senso-voerendaal.nl/evenement/seniorenorkest-2/2026-08-11/
LOCATION:De Borenburg\, Furenthela 16\, Voerendaal\, 6367 TL\, Nederland
CATEGORIES:Activiteit
ATTACH;FMTTYPE=image/jpeg:https://senso-voerendaal.nl/wp-content/uploads/2024/03/seniorenorkest-360x270-1.jpg
END:VEVENT
BEGIN:VEVENT
DTSTART;TZID=Europe/Amsterdam:20260811T190000
DTEND;TZID=Europe/Amsterdam:20260811T210000
DTSTAMP:20260421T002549
CREATED:20240325T125209Z
LAST-MODIFIED:20251016T144004Z
UID:10004124-1786474800-1786482000@senso-voerendaal.nl
SUMMARY:Koersballen
DESCRIPTION:Activiteiten – Senso Voerendaal
URL:https://senso-voerendaal.nl/evenement/koersballen-2-2-2-2/2026-08-11/
LOCATION:Kunderhoes\, Hogeweg 74\, Voerendaal\, Limburg\, 6367 BG\, Nederland
CATEGORIES:Activiteit
ATTACH;FMTTYPE=image/jpeg:https://senso-voerendaal.nl/wp-content/uploads/2024/02/koersball.jpg
END:VEVENT
BEGIN:VEVENT
DTSTART;TZID=Europe/Amsterdam:20260813T093000
DTEND;TZID=Europe/Amsterdam:20260813T140000
DTSTAMP:20260421T002549
CREATED:20240320T132615Z
LAST-MODIFIED:20251006T163044Z
UID:10003372-1786613400-1786629600@senso-voerendaal.nl
SUMMARY:Fietstochten
DESCRIPTION:Bewegen – Senso Voerendaal \n 
URL:https://senso-voerendaal.nl/evenement/fietstochten-2-2/2026-08-13/
LOCATION:Kunderhoes\, Hogeweg 74\, Voerendaal\, Limburg\, 6367 BG\, Nederland
CATEGORIES:Bewegen
ATTACH;FMTTYPE=image/jpeg:https://senso-voerendaal.nl/wp-content/uploads/2024/03/fietstocht.jpg
END:VEVENT
BEGIN:VEVENT
DTSTART;TZID=Europe/Amsterdam:20260813T190000
DTEND;TZID=Europe/Amsterdam:20260813T210000
DTSTAMP:20260421T002549
CREATED:20240325T125209Z
LAST-MODIFIED:20251016T144004Z
UID:10004125-1786647600-1786654800@senso-voerendaal.nl
SUMMARY:Koersballen
DESCRIPTION:Activiteiten – Senso Voerendaal
URL:https://senso-voerendaal.nl/evenement/koersballen-2-2-2-2/2026-08-13/
LOCATION:Kunderhoes\, Hogeweg 74\, Voerendaal\, Limburg\, 6367 BG\, Nederland
CATEGORIES:Activiteit
ATTACH;FMTTYPE=image/jpeg:https://senso-voerendaal.nl/wp-content/uploads/2024/02/koersball.jpg
END:VEVENT
BEGIN:VEVENT
DTSTART;TZID=Europe/Amsterdam:20260818T093000
DTEND;TZID=Europe/Amsterdam:20260818T140000
DTSTAMP:20260421T002549
CREATED:20240320T132615Z
LAST-MODIFIED:20251006T163044Z
UID:10003373-1787045400-1787061600@senso-voerendaal.nl
SUMMARY:Fietstochten
DESCRIPTION:Bewegen – Senso Voerendaal \n 
URL:https://senso-voerendaal.nl/evenement/fietstochten-2-2/2026-08-18/
LOCATION:Kunderhoes\, Hogeweg 74\, Voerendaal\, Limburg\, 6367 BG\, Nederland
CATEGORIES:Bewegen
ATTACH;FMTTYPE=image/jpeg:https://senso-voerendaal.nl/wp-content/uploads/2024/03/fietstocht.jpg
END:VEVENT
BEGIN:VEVENT
DTSTART;TZID=Europe/Amsterdam:20260818T190000
DTEND;TZID=Europe/Amsterdam:20260818T203000
DTSTAMP:20260421T002549
CREATED:20240325T124542Z
LAST-MODIFIED:20251016T123312Z
UID:10003497-1787079600-1787085000@senso-voerendaal.nl
SUMMARY:Seniorenorkest
DESCRIPTION:  \nActiviteiten – Senso Voerendaal \n 
URL:https://senso-voerendaal.nl/evenement/seniorenorkest-2/2026-08-18/
LOCATION:De Borenburg\, Furenthela 16\, Voerendaal\, 6367 TL\, Nederland
CATEGORIES:Activiteit
ATTACH;FMTTYPE=image/jpeg:https://senso-voerendaal.nl/wp-content/uploads/2024/03/seniorenorkest-360x270-1.jpg
END:VEVENT
BEGIN:VEVENT
DTSTART;TZID=Europe/Amsterdam:20260818T190000
DTEND;TZID=Europe/Amsterdam:20260818T210000
DTSTAMP:20260421T002549
CREATED:20240325T125209Z
LAST-MODIFIED:20251016T144004Z
UID:10004126-1787079600-1787086800@senso-voerendaal.nl
SUMMARY:Koersballen
DESCRIPTION:Activiteiten – Senso Voerendaal
URL:https://senso-voerendaal.nl/evenement/koersballen-2-2-2-2/2026-08-18/
LOCATION:Kunderhoes\, Hogeweg 74\, Voerendaal\, Limburg\, 6367 BG\, Nederland
CATEGORIES:Activiteit
ATTACH;FMTTYPE=image/jpeg:https://senso-voerendaal.nl/wp-content/uploads/2024/02/koersball.jpg
END:VEVENT
BEGIN:VEVENT
DTSTART;TZID=Europe/Amsterdam:20260820T093000
DTEND;TZID=Europe/Amsterdam:20260820T140000
DTSTAMP:20260421T002549
CREATED:20240320T132615Z
LAST-MODIFIED:20251006T163044Z
UID:10003374-1787218200-1787234400@senso-voerendaal.nl
SUMMARY:Fietstochten
DESCRIPTION:Bewegen – Senso Voerendaal \n 
URL:https://senso-voerendaal.nl/evenement/fietstochten-2-2/2026-08-20/
LOCATION:Kunderhoes\, Hogeweg 74\, Voerendaal\, Limburg\, 6367 BG\, Nederland
CATEGORIES:Bewegen
ATTACH;FMTTYPE=image/jpeg:https://senso-voerendaal.nl/wp-content/uploads/2024/03/fietstocht.jpg
END:VEVENT
BEGIN:VEVENT
DTSTART;TZID=Europe/Amsterdam:20260820T190000
DTEND;TZID=Europe/Amsterdam:20260820T210000
DTSTAMP:20260421T002549
CREATED:20240325T125209Z
LAST-MODIFIED:20251016T144004Z
UID:10004127-1787252400-1787259600@senso-voerendaal.nl
SUMMARY:Koersballen
DESCRIPTION:Activiteiten – Senso Voerendaal
URL:https://senso-voerendaal.nl/evenement/koersballen-2-2-2-2/2026-08-20/
LOCATION:Kunderhoes\, Hogeweg 74\, Voerendaal\, Limburg\, 6367 BG\, Nederland
CATEGORIES:Activiteit
ATTACH;FMTTYPE=image/jpeg:https://senso-voerendaal.nl/wp-content/uploads/2024/02/koersball.jpg
END:VEVENT
BEGIN:VEVENT
DTSTART;TZID=Europe/Amsterdam:20260824T100000
DTEND;TZID=Europe/Amsterdam:20260824T120000
DTSTAMP:20260421T002549
CREATED:20250410T082812Z
LAST-MODIFIED:20251016T142711Z
UID:10003602-1787565600-1787572800@senso-voerendaal.nl
SUMMARY:Tafeltennis
DESCRIPTION:  \nBewegen – Senso Voerendaal (senso-voerendaal.nl) \n 
URL:https://senso-voerendaal.nl/evenement/tafeltennis-2-2/2026-08-24/
LOCATION:Kunderhoes\, Hogeweg 74\, Voerendaal\, Limburg\, 6367 BG\, Nederland
CATEGORIES:Bewegen
ATTACH;FMTTYPE=image/png:https://senso-voerendaal.nl/wp-content/uploads/2024/02/image-248x300-1.png
END:VEVENT
BEGIN:VEVENT
DTSTART;TZID=Europe/Amsterdam:20260824T143000
DTEND;TZID=Europe/Amsterdam:20260824T153000
DTSTAMP:20260421T002549
CREATED:20250410T083215Z
LAST-MODIFIED:20251016T142824Z
UID:10003446-1787581800-1787585400@senso-voerendaal.nl
SUMMARY:Senioren gym
DESCRIPTION:Bewegen – Senso Voerendaal \n 
URL:https://senso-voerendaal.nl/evenement/senioren-gym-2-2-2/2026-08-24/
LOCATION:Kunderhoes\, Hogeweg 74\, Voerendaal\, Limburg\, 6367 BG\, Nederland
CATEGORIES:Bewegen
ATTACH;FMTTYPE=image/jpeg:https://senso-voerendaal.nl/wp-content/uploads/2024/03/downloaden.jpg
END:VEVENT
BEGIN:VEVENT
DTSTART;TZID=Europe/Amsterdam:20260825T093000
DTEND;TZID=Europe/Amsterdam:20260825T140000
DTSTAMP:20260421T002549
CREATED:20240320T132615Z
LAST-MODIFIED:20251006T163044Z
UID:10003375-1787650200-1787666400@senso-voerendaal.nl
SUMMARY:Fietstochten
DESCRIPTION:Bewegen – Senso Voerendaal \n 
URL:https://senso-voerendaal.nl/evenement/fietstochten-2-2/2026-08-25/
LOCATION:Kunderhoes\, Hogeweg 74\, Voerendaal\, Limburg\, 6367 BG\, Nederland
CATEGORIES:Bewegen
ATTACH;FMTTYPE=image/jpeg:https://senso-voerendaal.nl/wp-content/uploads/2024/03/fietstocht.jpg
END:VEVENT
BEGIN:VEVENT
DTSTART;TZID=Europe/Amsterdam:20260825T103000
DTEND;TZID=Europe/Amsterdam:20260825T123000
DTSTAMP:20260421T002549
CREATED:20250818T080415Z
LAST-MODIFIED:20251016T141548Z
UID:10004051-1787653800-1787661000@senso-voerendaal.nl
SUMMARY:Chi Neng Qiong
DESCRIPTION:  \n  \n  \nBewegen – Senso Voerendaal
URL:https://senso-voerendaal.nl/evenement/chi-neng-qiong/2026-08-25/
LOCATION:Kunderhoes\, Hogeweg 74\, Voerendaal\, Limburg\, 6367 BG\, Nederland
CATEGORIES:Bewegen
ATTACH;FMTTYPE=image/jpeg:https://senso-voerendaal.nl/wp-content/uploads/2025/01/Qigong.jpg
END:VEVENT
BEGIN:VEVENT
DTSTART;TZID=Europe/Amsterdam:20260825T140000
DTEND;TZID=Europe/Amsterdam:20260825T160000
DTSTAMP:20260421T002549
CREATED:20240313T131655Z
LAST-MODIFIED:20251201T140529Z
UID:10004001-1787666400-1787673600@senso-voerendaal.nl
SUMMARY:Workshop
DESCRIPTION:Activiteiten – Senso Voerendaal 
URL:https://senso-voerendaal.nl/evenement/workshop-1-2/2026-08-25/
LOCATION:Kunderhoes\, Hogeweg 74\, Voerendaal\, Limburg\, 6367 BG\, Nederland
CATEGORIES:Activiteit
ATTACH;FMTTYPE=image/jpeg:https://senso-voerendaal.nl/wp-content/uploads/2024/03/Schilderen_10-360x240-1.jpg
END:VEVENT
BEGIN:VEVENT
DTSTART;TZID=Europe/Amsterdam:20260825T150000
DTEND;TZID=Europe/Amsterdam:20260825T160000
DTSTAMP:20260421T002549
CREATED:20240417T115732Z
LAST-MODIFIED:20251016T143031Z
UID:10003810-1787670000-1787673600@senso-voerendaal.nl
SUMMARY:Bewegen op muziek
DESCRIPTION:Bewegen – Senso Voerendaal  \n 
URL:https://senso-voerendaal.nl/evenement/bewegen-op-muziek-3-2/2026-08-25/
LOCATION:Kunderhoes\, Hogeweg 74\, Voerendaal\, Limburg\, 6367 BG\, Nederland
CATEGORIES:Bewegen
ATTACH;FMTTYPE=image/jpeg:https://senso-voerendaal.nl/wp-content/uploads/2024/03/OIP-8.jpg
END:VEVENT
BEGIN:VEVENT
DTSTART;TZID=Europe/Amsterdam:20260825T190000
DTEND;TZID=Europe/Amsterdam:20260825T203000
DTSTAMP:20260421T002549
CREATED:20240325T124542Z
LAST-MODIFIED:20251016T123312Z
UID:10003498-1787684400-1787689800@senso-voerendaal.nl
SUMMARY:Seniorenorkest
DESCRIPTION:  \nActiviteiten – Senso Voerendaal \n 
URL:https://senso-voerendaal.nl/evenement/seniorenorkest-2/2026-08-25/
LOCATION:De Borenburg\, Furenthela 16\, Voerendaal\, 6367 TL\, Nederland
CATEGORIES:Activiteit
ATTACH;FMTTYPE=image/jpeg:https://senso-voerendaal.nl/wp-content/uploads/2024/03/seniorenorkest-360x270-1.jpg
END:VEVENT
BEGIN:VEVENT
DTSTART;TZID=Europe/Amsterdam:20260825T190000
DTEND;TZID=Europe/Amsterdam:20260825T210000
DTSTAMP:20260421T002549
CREATED:20240325T125209Z
LAST-MODIFIED:20251016T144004Z
UID:10004128-1787684400-1787691600@senso-voerendaal.nl
SUMMARY:Koersballen
DESCRIPTION:Activiteiten – Senso Voerendaal
URL:https://senso-voerendaal.nl/evenement/koersballen-2-2-2-2/2026-08-25/
LOCATION:Kunderhoes\, Hogeweg 74\, Voerendaal\, Limburg\, 6367 BG\, Nederland
CATEGORIES:Activiteit
ATTACH;FMTTYPE=image/jpeg:https://senso-voerendaal.nl/wp-content/uploads/2024/02/koersball.jpg
END:VEVENT
BEGIN:VEVENT
DTSTART;TZID=Europe/Amsterdam:20260826T093000
DTEND;TZID=Europe/Amsterdam:20260826T113000
DTSTAMP:20260421T002549
CREATED:20240320T132655Z
LAST-MODIFIED:20251201T140144Z
UID:10003862-1787736600-1787743800@senso-voerendaal.nl
SUMMARY:Tekenen en schilderen
DESCRIPTION:Activiteiten – Senso Voerendaal \n 
URL:https://senso-voerendaal.nl/evenement/tekenen-en-schilderen-2/2026-08-26/
LOCATION:Kunderhoes\, Hogeweg 74\, Voerendaal\, Limburg\, 6367 BG\, Nederland
CATEGORIES:Activiteit
ATTACH;FMTTYPE=image/jpeg:https://senso-voerendaal.nl/wp-content/uploads/2024/03/Schilderen_10-360x240-1.jpg
END:VEVENT
BEGIN:VEVENT
DTSTART;TZID=Europe/Amsterdam:20260826T111500
DTEND;TZID=Europe/Amsterdam:20260826T121500
DTSTAMP:20260421T002549
CREATED:20251006T155432Z
LAST-MODIFIED:20251016T143344Z
UID:10003654-1787742900-1787746500@senso-voerendaal.nl
SUMMARY:Tai CHI
DESCRIPTION:  \nBewegen – Senso Voerendaal \n 
URL:https://senso-voerendaal.nl/evenement/tai-chi-2-2-3/2026-08-26/
LOCATION:Kunderhoes\, Hogeweg 74\, Voerendaal\, Limburg\, 6367 BG\, Nederland
CATEGORIES:Bewegen
ATTACH;FMTTYPE=image/jpeg:https://senso-voerendaal.nl/wp-content/uploads/2024/03/tai-chi.jpg
END:VEVENT
BEGIN:VEVENT
DTSTART;TZID=Europe/Amsterdam:20260826T160000
DTEND;TZID=Europe/Amsterdam:20260826T170000
DTSTAMP:20260421T002549
CREATED:20240325T122413Z
LAST-MODIFIED:20251119T173325Z
UID:10003550-1787760000-1787763600@senso-voerendaal.nl
SUMMARY:Seniorenkoor
DESCRIPTION:Activiteiten/#seniorenkoor
URL:https://senso-voerendaal.nl/evenement/seniorenkoor-3/2026-08-26/
LOCATION:Kunderhoes\, Hogeweg 74\, Voerendaal\, Limburg\, 6367 BG\, Nederland
CATEGORIES:Activiteit
END:VEVENT
BEGIN:VEVENT
DTSTART;TZID=Europe/Amsterdam:20260827T093000
DTEND;TZID=Europe/Amsterdam:20260827T140000
DTSTAMP:20260421T002549
CREATED:20240320T132615Z
LAST-MODIFIED:20251006T163044Z
UID:10003376-1787823000-1787839200@senso-voerendaal.nl
SUMMARY:Fietstochten
DESCRIPTION:Bewegen – Senso Voerendaal \n 
URL:https://senso-voerendaal.nl/evenement/fietstochten-2-2/2026-08-27/
LOCATION:Kunderhoes\, Hogeweg 74\, Voerendaal\, Limburg\, 6367 BG\, Nederland
CATEGORIES:Bewegen
ATTACH;FMTTYPE=image/jpeg:https://senso-voerendaal.nl/wp-content/uploads/2024/03/fietstocht.jpg
END:VEVENT
BEGIN:VEVENT
DTSTART;TZID=Europe/Amsterdam:20260827T140000
DTEND;TZID=Europe/Amsterdam:20260827T160000
DTSTAMP:20260421T002549
CREATED:20240325T121534Z
LAST-MODIFIED:20251016T143548Z
UID:10003966-1787839200-1787846400@senso-voerendaal.nl
SUMMARY:Soosmiddag
DESCRIPTION:
URL:https://senso-voerendaal.nl/evenement/soosmiddag-2/2026-08-27/
LOCATION:Kunderhoes\, Hogeweg 74\, Voerendaal\, Limburg\, 6367 BG\, Nederland
CATEGORIES:Activiteit
ATTACH;FMTTYPE=image/jpeg:https://senso-voerendaal.nl/wp-content/uploads/2024/03/downloaden-1.jpg
END:VEVENT
END:VCALENDAR