BEGIN:VCALENDAR
VERSION:2.0
PRODID:-//Senso Voerendaal - ECPv6.15.16//NONSGML v1.0//EN
CALSCALE:GREGORIAN
METHOD:PUBLISH
X-WR-CALNAME:Senso Voerendaal
X-ORIGINAL-URL:https://senso-voerendaal.nl
X-WR-CALDESC:Evenementen voor Senso Voerendaal
REFRESH-INTERVAL;VALUE=DURATION:PT1H
X-Robots-Tag:noindex
X-PUBLISHED-TTL:PT1H
BEGIN:VTIMEZONE
TZID:Europe/Amsterdam
BEGIN:DAYLIGHT
TZOFFSETFROM:+0100
TZOFFSETTO:+0200
TZNAME:CEST
DTSTART:20250330T010000
END:DAYLIGHT
BEGIN:STANDARD
TZOFFSETFROM:+0200
TZOFFSETTO:+0100
TZNAME:CET
DTSTART:20251026T010000
END:STANDARD
BEGIN:DAYLIGHT
TZOFFSETFROM:+0100
TZOFFSETTO:+0200
TZNAME:CEST
DTSTART:20260329T010000
END:DAYLIGHT
BEGIN:STANDARD
TZOFFSETFROM:+0200
TZOFFSETTO:+0100
TZNAME:CET
DTSTART:20261025T010000
END:STANDARD
BEGIN:DAYLIGHT
TZOFFSETFROM:+0100
TZOFFSETTO:+0200
TZNAME:CEST
DTSTART:20270328T010000
END:DAYLIGHT
BEGIN:STANDARD
TZOFFSETFROM:+0200
TZOFFSETTO:+0100
TZNAME:CET
DTSTART:20271031T010000
END:STANDARD
END:VTIMEZONE
BEGIN:VEVENT
DTSTART;TZID=Europe/Amsterdam:20260409T093000
DTEND;TZID=Europe/Amsterdam:20260409T140000
DTSTAMP:20260420T040149
CREATED:20240320T132615Z
LAST-MODIFIED:20251006T163044Z
UID:10003336-1775727000-1775743200@senso-voerendaal.nl
SUMMARY:Fietstochten
DESCRIPTION:Bewegen – Senso Voerendaal \n 
URL:https://senso-voerendaal.nl/evenement/fietstochten-2-2/2026-04-09/
LOCATION:Kunderhoes\, Hogeweg 74\, Voerendaal\, Limburg\, 6367 BG\, Nederland
CATEGORIES:Bewegen
ATTACH;FMTTYPE=image/jpeg:https://senso-voerendaal.nl/wp-content/uploads/2024/03/fietstocht.jpg
END:VEVENT
BEGIN:VEVENT
DTSTART;TZID=Europe/Amsterdam:20260409T140000
DTEND;TZID=Europe/Amsterdam:20260409T160000
DTSTAMP:20260420T040149
CREATED:20240325T121534Z
LAST-MODIFIED:20251016T143548Z
UID:10003946-1775743200-1775750400@senso-voerendaal.nl
SUMMARY:Soosmiddag
DESCRIPTION:
URL:https://senso-voerendaal.nl/evenement/soosmiddag-2/2026-04-09/
LOCATION:Kunderhoes\, Hogeweg 74\, Voerendaal\, Limburg\, 6367 BG\, Nederland
CATEGORIES:Activiteit
ATTACH;FMTTYPE=image/jpeg:https://senso-voerendaal.nl/wp-content/uploads/2024/03/downloaden-1.jpg
END:VEVENT
BEGIN:VEVENT
DTSTART;TZID=Europe/Amsterdam:20260409T141500
DTEND;TZID=Europe/Amsterdam:20260409T151500
DTSTAMP:20260420T040149
CREATED:20240417T120315Z
LAST-MODIFIED:20251016T143635Z
UID:10003686-1775744100-1775747700@senso-voerendaal.nl
SUMMARY:Tai-Chi
DESCRIPTION:  \nBewegen – Senso Voerendaal \n 
URL:https://senso-voerendaal.nl/evenement/tai-chi-2-2-2/2026-04-09/
ATTACH;FMTTYPE=image/jpeg:https://senso-voerendaal.nl/wp-content/uploads/2024/03/tai-chi.jpg
END:VEVENT
BEGIN:VEVENT
DTSTART;TZID=Europe/Amsterdam:20260409T153000
DTEND;TZID=Europe/Amsterdam:20260409T163000
DTSTAMP:20260420T040149
CREATED:20240417T120721Z
LAST-MODIFIED:20251016T143720Z
UID:10003738-1775748600-1775752200@senso-voerendaal.nl
SUMMARY:Line dance
DESCRIPTION:
URL:https://senso-voerendaal.nl/evenement/line-dance-2/2026-04-09/
LOCATION:Kunderhoes\, Hogeweg 74\, Voerendaal\, Limburg\, 6367 BG\, Nederland
CATEGORIES:Bewegen
ATTACH;FMTTYPE=image/jpeg:https://senso-voerendaal.nl/wp-content/uploads/2024/02/download-1.jpg
END:VEVENT
BEGIN:VEVENT
DTSTART;TZID=Europe/Amsterdam:20260409T190000
DTEND;TZID=Europe/Amsterdam:20260409T210000
DTSTAMP:20260420T040149
CREATED:20240325T125209Z
LAST-MODIFIED:20251016T144004Z
UID:10004089-1775761200-1775768400@senso-voerendaal.nl
SUMMARY:Koersballen
DESCRIPTION:Activiteiten – Senso Voerendaal
URL:https://senso-voerendaal.nl/evenement/koersballen-2-2-2-2/2026-04-09/
LOCATION:Kunderhoes\, Hogeweg 74\, Voerendaal\, Limburg\, 6367 BG\, Nederland
CATEGORIES:Activiteit
ATTACH;FMTTYPE=image/jpeg:https://senso-voerendaal.nl/wp-content/uploads/2024/02/koersball.jpg
END:VEVENT
BEGIN:VEVENT
DTSTART;TZID=Europe/Amsterdam:20260410T094500
DTEND;TZID=Europe/Amsterdam:20260410T104500
DTSTAMP:20260420T040149
CREATED:20240417T115933Z
LAST-MODIFIED:20251016T143839Z
UID:10003895-1775814300-1775817900@senso-voerendaal.nl
SUMMARY:Yoga
DESCRIPTION:bewegen/#yoga
URL:https://senso-voerendaal.nl/evenement/yoga-2-2-2/2026-04-10/
CATEGORIES:Bewegen
ATTACH;FMTTYPE=image/jpeg:https://senso-voerendaal.nl/wp-content/uploads/2024/03/yoga.jpg
END:VEVENT
BEGIN:VEVENT
DTSTART;TZID=Europe/Amsterdam:20260413T100000
DTEND;TZID=Europe/Amsterdam:20260413T120000
DTSTAMP:20260420T040149
CREATED:20250410T082812Z
LAST-MODIFIED:20251016T142711Z
UID:10003583-1776074400-1776081600@senso-voerendaal.nl
SUMMARY:Tafeltennis
DESCRIPTION:  \nBewegen – Senso Voerendaal (senso-voerendaal.nl) \n 
URL:https://senso-voerendaal.nl/evenement/tafeltennis-2-2/2026-04-13/
LOCATION:Kunderhoes\, Hogeweg 74\, Voerendaal\, Limburg\, 6367 BG\, Nederland
CATEGORIES:Bewegen
ATTACH;FMTTYPE=image/png:https://senso-voerendaal.nl/wp-content/uploads/2024/02/image-248x300-1.png
END:VEVENT
BEGIN:VEVENT
DTSTART;TZID=Europe/Amsterdam:20260413T143000
DTEND;TZID=Europe/Amsterdam:20260413T153000
DTSTAMP:20260420T040149
CREATED:20250410T083215Z
LAST-MODIFIED:20251016T142824Z
UID:10003427-1776090600-1776094200@senso-voerendaal.nl
SUMMARY:Senioren gym
DESCRIPTION:Bewegen – Senso Voerendaal \n 
URL:https://senso-voerendaal.nl/evenement/senioren-gym-2-2-2/2026-04-13/
LOCATION:Kunderhoes\, Hogeweg 74\, Voerendaal\, Limburg\, 6367 BG\, Nederland
CATEGORIES:Bewegen
ATTACH;FMTTYPE=image/jpeg:https://senso-voerendaal.nl/wp-content/uploads/2024/03/downloaden.jpg
END:VEVENT
BEGIN:VEVENT
DTSTART;TZID=Europe/Amsterdam:20260414T093000
DTEND;TZID=Europe/Amsterdam:20260414T140000
DTSTAMP:20260420T040149
CREATED:20240320T132615Z
LAST-MODIFIED:20251006T163044Z
UID:10003337-1776159000-1776175200@senso-voerendaal.nl
SUMMARY:Fietstochten
DESCRIPTION:Bewegen – Senso Voerendaal \n 
URL:https://senso-voerendaal.nl/evenement/fietstochten-2-2/2026-04-14/
LOCATION:Kunderhoes\, Hogeweg 74\, Voerendaal\, Limburg\, 6367 BG\, Nederland
CATEGORIES:Bewegen
ATTACH;FMTTYPE=image/jpeg:https://senso-voerendaal.nl/wp-content/uploads/2024/03/fietstocht.jpg
END:VEVENT
BEGIN:VEVENT
DTSTART;TZID=Europe/Amsterdam:20260414T103000
DTEND;TZID=Europe/Amsterdam:20260414T123000
DTSTAMP:20260420T040149
CREATED:20250818T080415Z
LAST-MODIFIED:20251016T141548Z
UID:10004032-1776162600-1776169800@senso-voerendaal.nl
SUMMARY:Chi Neng Qiong
DESCRIPTION:  \n  \n  \nBewegen – Senso Voerendaal
URL:https://senso-voerendaal.nl/evenement/chi-neng-qiong/2026-04-14/
LOCATION:Kunderhoes\, Hogeweg 74\, Voerendaal\, Limburg\, 6367 BG\, Nederland
CATEGORIES:Bewegen
ATTACH;FMTTYPE=image/jpeg:https://senso-voerendaal.nl/wp-content/uploads/2025/01/Qigong.jpg
END:VEVENT
BEGIN:VEVENT
DTSTART;TZID=Europe/Amsterdam:20260414T150000
DTEND;TZID=Europe/Amsterdam:20260414T160000
DTSTAMP:20260420T040149
CREATED:20240417T115732Z
LAST-MODIFIED:20251016T143031Z
UID:10003791-1776178800-1776182400@senso-voerendaal.nl
SUMMARY:Bewegen op muziek
DESCRIPTION:Bewegen – Senso Voerendaal  \n 
URL:https://senso-voerendaal.nl/evenement/bewegen-op-muziek-3-2/2026-04-14/
LOCATION:Kunderhoes\, Hogeweg 74\, Voerendaal\, Limburg\, 6367 BG\, Nederland
CATEGORIES:Bewegen
ATTACH;FMTTYPE=image/jpeg:https://senso-voerendaal.nl/wp-content/uploads/2024/03/OIP-8.jpg
END:VEVENT
BEGIN:VEVENT
DTSTART;TZID=Europe/Amsterdam:20260414T190000
DTEND;TZID=Europe/Amsterdam:20260414T203000
DTSTAMP:20260420T040149
CREATED:20240325T124542Z
LAST-MODIFIED:20251016T123312Z
UID:10003479-1776193200-1776198600@senso-voerendaal.nl
SUMMARY:Seniorenorkest
DESCRIPTION:  \nActiviteiten – Senso Voerendaal \n 
URL:https://senso-voerendaal.nl/evenement/seniorenorkest-2/2026-04-14/
LOCATION:De Borenburg\, Furenthela 16\, Voerendaal\, 6367 TL\, Nederland
CATEGORIES:Activiteit
ATTACH;FMTTYPE=image/jpeg:https://senso-voerendaal.nl/wp-content/uploads/2024/03/seniorenorkest-360x270-1.jpg
END:VEVENT
BEGIN:VEVENT
DTSTART;TZID=Europe/Amsterdam:20260414T190000
DTEND;TZID=Europe/Amsterdam:20260414T210000
DTSTAMP:20260420T040149
CREATED:20240325T125209Z
LAST-MODIFIED:20251016T144004Z
UID:10004090-1776193200-1776200400@senso-voerendaal.nl
SUMMARY:Koersballen
DESCRIPTION:Activiteiten – Senso Voerendaal
URL:https://senso-voerendaal.nl/evenement/koersballen-2-2-2-2/2026-04-14/
LOCATION:Kunderhoes\, Hogeweg 74\, Voerendaal\, Limburg\, 6367 BG\, Nederland
CATEGORIES:Activiteit
ATTACH;FMTTYPE=image/jpeg:https://senso-voerendaal.nl/wp-content/uploads/2024/02/koersball.jpg
END:VEVENT
BEGIN:VEVENT
DTSTART;TZID=Europe/Amsterdam:20260415T093000
DTEND;TZID=Europe/Amsterdam:20260415T113000
DTSTAMP:20260420T040149
CREATED:20240320T132655Z
LAST-MODIFIED:20251201T140144Z
UID:10003843-1776245400-1776252600@senso-voerendaal.nl
SUMMARY:Tekenen en schilderen
DESCRIPTION:Activiteiten – Senso Voerendaal \n 
URL:https://senso-voerendaal.nl/evenement/tekenen-en-schilderen-2/2026-04-15/
LOCATION:Kunderhoes\, Hogeweg 74\, Voerendaal\, Limburg\, 6367 BG\, Nederland
CATEGORIES:Activiteit
ATTACH;FMTTYPE=image/jpeg:https://senso-voerendaal.nl/wp-content/uploads/2024/03/Schilderen_10-360x240-1.jpg
END:VEVENT
BEGIN:VEVENT
DTSTART;TZID=Europe/Amsterdam:20260415T111500
DTEND;TZID=Europe/Amsterdam:20260415T121500
DTSTAMP:20260420T040149
CREATED:20251006T155432Z
LAST-MODIFIED:20251016T143344Z
UID:10003635-1776251700-1776255300@senso-voerendaal.nl
SUMMARY:Tai CHI
DESCRIPTION:  \nBewegen – Senso Voerendaal \n 
URL:https://senso-voerendaal.nl/evenement/tai-chi-2-2-3/2026-04-15/
LOCATION:Kunderhoes\, Hogeweg 74\, Voerendaal\, Limburg\, 6367 BG\, Nederland
CATEGORIES:Bewegen
ATTACH;FMTTYPE=image/jpeg:https://senso-voerendaal.nl/wp-content/uploads/2024/03/tai-chi.jpg
END:VEVENT
BEGIN:VEVENT
DTSTART;TZID=Europe/Amsterdam:20260415T160000
DTEND;TZID=Europe/Amsterdam:20260415T170000
DTSTAMP:20260420T040149
CREATED:20240325T122413Z
LAST-MODIFIED:20251119T173325Z
UID:10003531-1776268800-1776272400@senso-voerendaal.nl
SUMMARY:Seniorenkoor
DESCRIPTION:Activiteiten/#seniorenkoor
URL:https://senso-voerendaal.nl/evenement/seniorenkoor-3/2026-04-15/
LOCATION:Kunderhoes\, Hogeweg 74\, Voerendaal\, Limburg\, 6367 BG\, Nederland
CATEGORIES:Activiteit
END:VEVENT
BEGIN:VEVENT
DTSTART;TZID=Europe/Amsterdam:20260416T093000
DTEND;TZID=Europe/Amsterdam:20260416T140000
DTSTAMP:20260420T040149
CREATED:20240320T132615Z
LAST-MODIFIED:20251006T163044Z
UID:10003338-1776331800-1776348000@senso-voerendaal.nl
SUMMARY:Fietstochten
DESCRIPTION:Bewegen – Senso Voerendaal \n 
URL:https://senso-voerendaal.nl/evenement/fietstochten-2-2/2026-04-16/
LOCATION:Kunderhoes\, Hogeweg 74\, Voerendaal\, Limburg\, 6367 BG\, Nederland
CATEGORIES:Bewegen
ATTACH;FMTTYPE=image/jpeg:https://senso-voerendaal.nl/wp-content/uploads/2024/03/fietstocht.jpg
END:VEVENT
BEGIN:VEVENT
DTSTART;TZID=Europe/Amsterdam:20260416T140000
DTEND;TZID=Europe/Amsterdam:20260416T160000
DTSTAMP:20260420T040149
CREATED:20240325T121534Z
LAST-MODIFIED:20251016T143548Z
UID:10003947-1776348000-1776355200@senso-voerendaal.nl
SUMMARY:Soosmiddag
DESCRIPTION:
URL:https://senso-voerendaal.nl/evenement/soosmiddag-2/2026-04-16/
LOCATION:Kunderhoes\, Hogeweg 74\, Voerendaal\, Limburg\, 6367 BG\, Nederland
CATEGORIES:Activiteit
ATTACH;FMTTYPE=image/jpeg:https://senso-voerendaal.nl/wp-content/uploads/2024/03/downloaden-1.jpg
END:VEVENT
BEGIN:VEVENT
DTSTART;TZID=Europe/Amsterdam:20260416T141500
DTEND;TZID=Europe/Amsterdam:20260416T151500
DTSTAMP:20260420T040149
CREATED:20240417T120315Z
LAST-MODIFIED:20251016T143635Z
UID:10003687-1776348900-1776352500@senso-voerendaal.nl
SUMMARY:Tai-Chi
DESCRIPTION:  \nBewegen – Senso Voerendaal \n 
URL:https://senso-voerendaal.nl/evenement/tai-chi-2-2-2/2026-04-16/
ATTACH;FMTTYPE=image/jpeg:https://senso-voerendaal.nl/wp-content/uploads/2024/03/tai-chi.jpg
END:VEVENT
BEGIN:VEVENT
DTSTART;TZID=Europe/Amsterdam:20260416T153000
DTEND;TZID=Europe/Amsterdam:20260416T163000
DTSTAMP:20260420T040149
CREATED:20240417T120721Z
LAST-MODIFIED:20251016T143720Z
UID:10003739-1776353400-1776357000@senso-voerendaal.nl
SUMMARY:Line dance
DESCRIPTION:
URL:https://senso-voerendaal.nl/evenement/line-dance-2/2026-04-16/
LOCATION:Kunderhoes\, Hogeweg 74\, Voerendaal\, Limburg\, 6367 BG\, Nederland
CATEGORIES:Bewegen
ATTACH;FMTTYPE=image/jpeg:https://senso-voerendaal.nl/wp-content/uploads/2024/02/download-1.jpg
END:VEVENT
BEGIN:VEVENT
DTSTART;TZID=Europe/Amsterdam:20260416T190000
DTEND;TZID=Europe/Amsterdam:20260416T210000
DTSTAMP:20260420T040149
CREATED:20240325T125209Z
LAST-MODIFIED:20251016T144004Z
UID:10004091-1776366000-1776373200@senso-voerendaal.nl
SUMMARY:Koersballen
DESCRIPTION:Activiteiten – Senso Voerendaal
URL:https://senso-voerendaal.nl/evenement/koersballen-2-2-2-2/2026-04-16/
LOCATION:Kunderhoes\, Hogeweg 74\, Voerendaal\, Limburg\, 6367 BG\, Nederland
CATEGORIES:Activiteit
ATTACH;FMTTYPE=image/jpeg:https://senso-voerendaal.nl/wp-content/uploads/2024/02/koersball.jpg
END:VEVENT
BEGIN:VEVENT
DTSTART;TZID=Europe/Amsterdam:20260417T094500
DTEND;TZID=Europe/Amsterdam:20260417T104500
DTSTAMP:20260420T040149
CREATED:20240417T115933Z
LAST-MODIFIED:20251016T143839Z
UID:10003896-1776419100-1776422700@senso-voerendaal.nl
SUMMARY:Yoga
DESCRIPTION:bewegen/#yoga
URL:https://senso-voerendaal.nl/evenement/yoga-2-2-2/2026-04-17/
CATEGORIES:Bewegen
ATTACH;FMTTYPE=image/jpeg:https://senso-voerendaal.nl/wp-content/uploads/2024/03/yoga.jpg
END:VEVENT
BEGIN:VEVENT
DTSTART;TZID=Europe/Amsterdam:20260417T130000
DTEND;TZID=Europe/Amsterdam:20260417T170000
DTSTAMP:20260420T040149
CREATED:20260224T135829Z
LAST-MODIFIED:20260224T135829Z
UID:10004190-1776430800-1776445200@senso-voerendaal.nl
SUMMARY:Themamiddag rondleiding Valkenburg
DESCRIPTION:
URL:https://senso-voerendaal.nl/evenement/themamiddag-rondleiding-valkenburg/
CATEGORIES:Activiteit
END:VEVENT
BEGIN:VEVENT
DTSTART;TZID=Europe/Amsterdam:20260420T100000
DTEND;TZID=Europe/Amsterdam:20260420T120000
DTSTAMP:20260420T040149
CREATED:20250410T082812Z
LAST-MODIFIED:20251016T142711Z
UID:10003584-1776679200-1776686400@senso-voerendaal.nl
SUMMARY:Tafeltennis
DESCRIPTION:  \nBewegen – Senso Voerendaal (senso-voerendaal.nl) \n 
URL:https://senso-voerendaal.nl/evenement/tafeltennis-2-2/2026-04-20/
LOCATION:Kunderhoes\, Hogeweg 74\, Voerendaal\, Limburg\, 6367 BG\, Nederland
CATEGORIES:Bewegen
ATTACH;FMTTYPE=image/png:https://senso-voerendaal.nl/wp-content/uploads/2024/02/image-248x300-1.png
END:VEVENT
BEGIN:VEVENT
DTSTART;TZID=Europe/Amsterdam:20260420T143000
DTEND;TZID=Europe/Amsterdam:20260420T153000
DTSTAMP:20260420T040149
CREATED:20250410T083215Z
LAST-MODIFIED:20251016T142824Z
UID:10003428-1776695400-1776699000@senso-voerendaal.nl
SUMMARY:Senioren gym
DESCRIPTION:Bewegen – Senso Voerendaal \n 
URL:https://senso-voerendaal.nl/evenement/senioren-gym-2-2-2/2026-04-20/
LOCATION:Kunderhoes\, Hogeweg 74\, Voerendaal\, Limburg\, 6367 BG\, Nederland
CATEGORIES:Bewegen
ATTACH;FMTTYPE=image/jpeg:https://senso-voerendaal.nl/wp-content/uploads/2024/03/downloaden.jpg
END:VEVENT
BEGIN:VEVENT
DTSTART;TZID=Europe/Amsterdam:20260421T093000
DTEND;TZID=Europe/Amsterdam:20260421T140000
DTSTAMP:20260420T040149
CREATED:20240320T132615Z
LAST-MODIFIED:20251006T163044Z
UID:10003339-1776763800-1776780000@senso-voerendaal.nl
SUMMARY:Fietstochten
DESCRIPTION:Bewegen – Senso Voerendaal \n 
URL:https://senso-voerendaal.nl/evenement/fietstochten-2-2/2026-04-21/
LOCATION:Kunderhoes\, Hogeweg 74\, Voerendaal\, Limburg\, 6367 BG\, Nederland
CATEGORIES:Bewegen
ATTACH;FMTTYPE=image/jpeg:https://senso-voerendaal.nl/wp-content/uploads/2024/03/fietstocht.jpg
END:VEVENT
BEGIN:VEVENT
DTSTART;TZID=Europe/Amsterdam:20260421T103000
DTEND;TZID=Europe/Amsterdam:20260421T123000
DTSTAMP:20260420T040149
CREATED:20250818T080415Z
LAST-MODIFIED:20251016T141548Z
UID:10004033-1776767400-1776774600@senso-voerendaal.nl
SUMMARY:Chi Neng Qiong
DESCRIPTION:  \n  \n  \nBewegen – Senso Voerendaal
URL:https://senso-voerendaal.nl/evenement/chi-neng-qiong/2026-04-21/
LOCATION:Kunderhoes\, Hogeweg 74\, Voerendaal\, Limburg\, 6367 BG\, Nederland
CATEGORIES:Bewegen
ATTACH;FMTTYPE=image/jpeg:https://senso-voerendaal.nl/wp-content/uploads/2025/01/Qigong.jpg
END:VEVENT
BEGIN:VEVENT
DTSTART;TZID=Europe/Amsterdam:20260421T140000
DTEND;TZID=Europe/Amsterdam:20260421T160000
DTSTAMP:20260420T040149
CREATED:20240313T131655Z
LAST-MODIFIED:20251201T140529Z
UID:10003992-1776780000-1776787200@senso-voerendaal.nl
SUMMARY:Workshop
DESCRIPTION:Activiteiten – Senso Voerendaal 
URL:https://senso-voerendaal.nl/evenement/workshop-1-2/2026-04-21/
LOCATION:Kunderhoes\, Hogeweg 74\, Voerendaal\, Limburg\, 6367 BG\, Nederland
CATEGORIES:Activiteit
ATTACH;FMTTYPE=image/jpeg:https://senso-voerendaal.nl/wp-content/uploads/2024/03/Schilderen_10-360x240-1.jpg
END:VEVENT
BEGIN:VEVENT
DTSTART;TZID=Europe/Amsterdam:20260421T150000
DTEND;TZID=Europe/Amsterdam:20260421T160000
DTSTAMP:20260420T040149
CREATED:20240417T115732Z
LAST-MODIFIED:20251016T143031Z
UID:10003792-1776783600-1776787200@senso-voerendaal.nl
SUMMARY:Bewegen op muziek
DESCRIPTION:Bewegen – Senso Voerendaal  \n 
URL:https://senso-voerendaal.nl/evenement/bewegen-op-muziek-3-2/2026-04-21/
LOCATION:Kunderhoes\, Hogeweg 74\, Voerendaal\, Limburg\, 6367 BG\, Nederland
CATEGORIES:Bewegen
ATTACH;FMTTYPE=image/jpeg:https://senso-voerendaal.nl/wp-content/uploads/2024/03/OIP-8.jpg
END:VEVENT
BEGIN:VEVENT
DTSTART;TZID=Europe/Amsterdam:20260421T190000
DTEND;TZID=Europe/Amsterdam:20260421T203000
DTSTAMP:20260420T040149
CREATED:20240325T124542Z
LAST-MODIFIED:20251016T123312Z
UID:10003480-1776798000-1776803400@senso-voerendaal.nl
SUMMARY:Seniorenorkest
DESCRIPTION:  \nActiviteiten – Senso Voerendaal \n 
URL:https://senso-voerendaal.nl/evenement/seniorenorkest-2/2026-04-21/
LOCATION:De Borenburg\, Furenthela 16\, Voerendaal\, 6367 TL\, Nederland
CATEGORIES:Activiteit
ATTACH;FMTTYPE=image/jpeg:https://senso-voerendaal.nl/wp-content/uploads/2024/03/seniorenorkest-360x270-1.jpg
END:VEVENT
END:VCALENDAR