BEGIN:VCALENDAR
VERSION:2.0
PRODID:-//Senso Voerendaal - ECPv6.15.16//NONSGML v1.0//EN
CALSCALE:GREGORIAN
METHOD:PUBLISH
X-ORIGINAL-URL:https://senso-voerendaal.nl
X-WR-CALDESC:Evenementen voor Senso Voerendaal
REFRESH-INTERVAL;VALUE=DURATION:PT1H
X-Robots-Tag:noindex
X-PUBLISHED-TTL:PT1H
BEGIN:VTIMEZONE
TZID:Europe/Amsterdam
BEGIN:DAYLIGHT
TZOFFSETFROM:+0100
TZOFFSETTO:+0200
TZNAME:CEST
DTSTART:20250330T010000
END:DAYLIGHT
BEGIN:STANDARD
TZOFFSETFROM:+0200
TZOFFSETTO:+0100
TZNAME:CET
DTSTART:20251026T010000
END:STANDARD
BEGIN:DAYLIGHT
TZOFFSETFROM:+0100
TZOFFSETTO:+0200
TZNAME:CEST
DTSTART:20260329T010000
END:DAYLIGHT
BEGIN:STANDARD
TZOFFSETFROM:+0200
TZOFFSETTO:+0100
TZNAME:CET
DTSTART:20261025T010000
END:STANDARD
BEGIN:DAYLIGHT
TZOFFSETFROM:+0100
TZOFFSETTO:+0200
TZNAME:CEST
DTSTART:20270328T010000
END:DAYLIGHT
BEGIN:STANDARD
TZOFFSETFROM:+0200
TZOFFSETTO:+0100
TZNAME:CET
DTSTART:20271031T010000
END:STANDARD
END:VTIMEZONE
BEGIN:VEVENT
DTSTART;TZID=Europe/Amsterdam:20260305T140000
DTEND;TZID=Europe/Amsterdam:20260305T160000
DTSTAMP:20260420T041545
CREATED:20240325T121534Z
LAST-MODIFIED:20251016T143548Z
UID:10003941-1772719200-1772726400@senso-voerendaal.nl
SUMMARY:Soosmiddag
DESCRIPTION:
URL:https://senso-voerendaal.nl/evenement/soosmiddag-2/2026-03-05/
LOCATION:Kunderhoes\, Hogeweg 74\, Voerendaal\, Limburg\, 6367 BG\, Nederland
CATEGORIES:Activiteit
ATTACH;FMTTYPE=image/jpeg:https://senso-voerendaal.nl/wp-content/uploads/2024/03/downloaden-1.jpg
END:VEVENT
BEGIN:VEVENT
DTSTART;TZID=Europe/Amsterdam:20260305T141500
DTEND;TZID=Europe/Amsterdam:20260305T151500
DTSTAMP:20260420T041545
CREATED:20240417T120315Z
LAST-MODIFIED:20251016T143635Z
UID:10003681-1772720100-1772723700@senso-voerendaal.nl
SUMMARY:Tai-Chi
DESCRIPTION:  \nBewegen – Senso Voerendaal \n 
URL:https://senso-voerendaal.nl/evenement/tai-chi-2-2-2/2026-03-05/
ATTACH;FMTTYPE=image/jpeg:https://senso-voerendaal.nl/wp-content/uploads/2024/03/tai-chi.jpg
END:VEVENT
BEGIN:VEVENT
DTSTART;TZID=Europe/Amsterdam:20260305T153000
DTEND;TZID=Europe/Amsterdam:20260305T163000
DTSTAMP:20260420T041545
CREATED:20240417T120721Z
LAST-MODIFIED:20251016T143720Z
UID:10003733-1772724600-1772728200@senso-voerendaal.nl
SUMMARY:Line dance
DESCRIPTION:
URL:https://senso-voerendaal.nl/evenement/line-dance-2/2026-03-05/
LOCATION:Kunderhoes\, Hogeweg 74\, Voerendaal\, Limburg\, 6367 BG\, Nederland
CATEGORIES:Bewegen
ATTACH;FMTTYPE=image/jpeg:https://senso-voerendaal.nl/wp-content/uploads/2024/02/download-1.jpg
END:VEVENT
BEGIN:VEVENT
DTSTART;TZID=Europe/Amsterdam:20260305T190000
DTEND;TZID=Europe/Amsterdam:20260305T210000
DTSTAMP:20260420T041545
CREATED:20240325T125209Z
LAST-MODIFIED:20251016T144004Z
UID:10004079-1772737200-1772744400@senso-voerendaal.nl
SUMMARY:Koersballen
DESCRIPTION:Activiteiten – Senso Voerendaal
URL:https://senso-voerendaal.nl/evenement/koersballen-2-2-2-2/2026-03-05/
LOCATION:Kunderhoes\, Hogeweg 74\, Voerendaal\, Limburg\, 6367 BG\, Nederland
CATEGORIES:Activiteit
ATTACH;FMTTYPE=image/jpeg:https://senso-voerendaal.nl/wp-content/uploads/2024/02/koersball.jpg
END:VEVENT
BEGIN:VEVENT
DTSTART;TZID=Europe/Amsterdam:20260306T093000
DTEND;TZID=Europe/Amsterdam:20260306T150000
DTSTAMP:20260420T041545
CREATED:20250207T143927Z
LAST-MODIFIED:20251108T093300Z
UID:10003298-1772789400-1772809200@senso-voerendaal.nl
SUMMARY:Wandelen
DESCRIPTION:Bewegen – Senso Voerendaal \n  \n 
URL:https://senso-voerendaal.nl/evenement/wandelen-2-2-2/2026-03-06/
LOCATION:Capoolplaats Kerkplein Voerendaal\, Kerkplein 43\, Voerendaal\, Limburg\, 6367 EN\, Nederland
CATEGORIES:Bewegen
ATTACH;FMTTYPE=image/jpeg:https://senso-voerendaal.nl/wp-content/uploads/2024/03/Afbeelding1-360x225-1.jpg
END:VEVENT
BEGIN:VEVENT
DTSTART;TZID=Europe/Amsterdam:20260306T094500
DTEND;TZID=Europe/Amsterdam:20260306T104500
DTSTAMP:20260420T041545
CREATED:20240417T115933Z
LAST-MODIFIED:20251016T143839Z
UID:10003890-1772790300-1772793900@senso-voerendaal.nl
SUMMARY:Yoga
DESCRIPTION:bewegen/#yoga
URL:https://senso-voerendaal.nl/evenement/yoga-2-2-2/2026-03-06/
CATEGORIES:Bewegen
ATTACH;FMTTYPE=image/jpeg:https://senso-voerendaal.nl/wp-content/uploads/2024/03/yoga.jpg
END:VEVENT
BEGIN:VEVENT
DTSTART;TZID=Europe/Amsterdam:20260309T100000
DTEND;TZID=Europe/Amsterdam:20260309T120000
DTSTAMP:20260420T041545
CREATED:20250410T082812Z
LAST-MODIFIED:20251016T142711Z
UID:10003578-1773050400-1773057600@senso-voerendaal.nl
SUMMARY:Tafeltennis
DESCRIPTION:  \nBewegen – Senso Voerendaal (senso-voerendaal.nl) \n 
URL:https://senso-voerendaal.nl/evenement/tafeltennis-2-2/2026-03-09/
LOCATION:Kunderhoes\, Hogeweg 74\, Voerendaal\, Limburg\, 6367 BG\, Nederland
CATEGORIES:Bewegen
ATTACH;FMTTYPE=image/png:https://senso-voerendaal.nl/wp-content/uploads/2024/02/image-248x300-1.png
END:VEVENT
BEGIN:VEVENT
DTSTART;TZID=Europe/Amsterdam:20260309T143000
DTEND;TZID=Europe/Amsterdam:20260309T153000
DTSTAMP:20260420T041545
CREATED:20250410T083215Z
LAST-MODIFIED:20251016T142824Z
UID:10003422-1773066600-1773070200@senso-voerendaal.nl
SUMMARY:Senioren gym
DESCRIPTION:Bewegen – Senso Voerendaal \n 
URL:https://senso-voerendaal.nl/evenement/senioren-gym-2-2-2/2026-03-09/
LOCATION:Kunderhoes\, Hogeweg 74\, Voerendaal\, Limburg\, 6367 BG\, Nederland
CATEGORIES:Bewegen
ATTACH;FMTTYPE=image/jpeg:https://senso-voerendaal.nl/wp-content/uploads/2024/03/downloaden.jpg
END:VEVENT
BEGIN:VEVENT
DTSTART;TZID=Europe/Amsterdam:20260310T093000
DTEND;TZID=Europe/Amsterdam:20260310T140000
DTSTAMP:20260420T041545
CREATED:20240320T132615Z
LAST-MODIFIED:20251006T163044Z
UID:10003327-1773135000-1773151200@senso-voerendaal.nl
SUMMARY:Fietstochten
DESCRIPTION:Bewegen – Senso Voerendaal \n 
URL:https://senso-voerendaal.nl/evenement/fietstochten-2-2/2026-03-10/
LOCATION:Kunderhoes\, Hogeweg 74\, Voerendaal\, Limburg\, 6367 BG\, Nederland
CATEGORIES:Bewegen
ATTACH;FMTTYPE=image/jpeg:https://senso-voerendaal.nl/wp-content/uploads/2024/03/fietstocht.jpg
END:VEVENT
BEGIN:VEVENT
DTSTART;TZID=Europe/Amsterdam:20260310T103000
DTEND;TZID=Europe/Amsterdam:20260310T123000
DTSTAMP:20260420T041545
CREATED:20250818T080415Z
LAST-MODIFIED:20251016T141548Z
UID:10004027-1773138600-1773145800@senso-voerendaal.nl
SUMMARY:Chi Neng Qiong
DESCRIPTION:  \n  \n  \nBewegen – Senso Voerendaal
URL:https://senso-voerendaal.nl/evenement/chi-neng-qiong/2026-03-10/
LOCATION:Kunderhoes\, Hogeweg 74\, Voerendaal\, Limburg\, 6367 BG\, Nederland
CATEGORIES:Bewegen
ATTACH;FMTTYPE=image/jpeg:https://senso-voerendaal.nl/wp-content/uploads/2025/01/Qigong.jpg
END:VEVENT
BEGIN:VEVENT
DTSTART;TZID=Europe/Amsterdam:20260310T140000
DTEND;TZID=Europe/Amsterdam:20260310T160000
DTSTAMP:20260420T041545
CREATED:20240313T131655Z
LAST-MODIFIED:20251201T140529Z
UID:10003989-1773151200-1773158400@senso-voerendaal.nl
SUMMARY:Workshop
DESCRIPTION:Activiteiten – Senso Voerendaal 
URL:https://senso-voerendaal.nl/evenement/workshop-1-2/2026-03-10/
LOCATION:Kunderhoes\, Hogeweg 74\, Voerendaal\, Limburg\, 6367 BG\, Nederland
CATEGORIES:Activiteit
ATTACH;FMTTYPE=image/jpeg:https://senso-voerendaal.nl/wp-content/uploads/2024/03/Schilderen_10-360x240-1.jpg
END:VEVENT
BEGIN:VEVENT
DTSTART;TZID=Europe/Amsterdam:20260310T150000
DTEND;TZID=Europe/Amsterdam:20260310T160000
DTSTAMP:20260420T041545
CREATED:20240417T115732Z
LAST-MODIFIED:20251016T143031Z
UID:10003786-1773154800-1773158400@senso-voerendaal.nl
SUMMARY:Bewegen op muziek
DESCRIPTION:Bewegen – Senso Voerendaal  \n 
URL:https://senso-voerendaal.nl/evenement/bewegen-op-muziek-3-2/2026-03-10/
LOCATION:Kunderhoes\, Hogeweg 74\, Voerendaal\, Limburg\, 6367 BG\, Nederland
CATEGORIES:Bewegen
ATTACH;FMTTYPE=image/jpeg:https://senso-voerendaal.nl/wp-content/uploads/2024/03/OIP-8.jpg
END:VEVENT
BEGIN:VEVENT
DTSTART;TZID=Europe/Amsterdam:20260310T190000
DTEND;TZID=Europe/Amsterdam:20260310T203000
DTSTAMP:20260420T041545
CREATED:20240325T124542Z
LAST-MODIFIED:20251016T123312Z
UID:10003474-1773169200-1773174600@senso-voerendaal.nl
SUMMARY:Seniorenorkest
DESCRIPTION:  \nActiviteiten – Senso Voerendaal \n 
URL:https://senso-voerendaal.nl/evenement/seniorenorkest-2/2026-03-10/
LOCATION:De Borenburg\, Furenthela 16\, Voerendaal\, 6367 TL\, Nederland
CATEGORIES:Activiteit
ATTACH;FMTTYPE=image/jpeg:https://senso-voerendaal.nl/wp-content/uploads/2024/03/seniorenorkest-360x270-1.jpg
END:VEVENT
BEGIN:VEVENT
DTSTART;TZID=Europe/Amsterdam:20260310T190000
DTEND;TZID=Europe/Amsterdam:20260310T210000
DTSTAMP:20260420T041545
CREATED:20240325T125209Z
LAST-MODIFIED:20251016T144004Z
UID:10004080-1773169200-1773176400@senso-voerendaal.nl
SUMMARY:Koersballen
DESCRIPTION:Activiteiten – Senso Voerendaal
URL:https://senso-voerendaal.nl/evenement/koersballen-2-2-2-2/2026-03-10/
LOCATION:Kunderhoes\, Hogeweg 74\, Voerendaal\, Limburg\, 6367 BG\, Nederland
CATEGORIES:Activiteit
ATTACH;FMTTYPE=image/jpeg:https://senso-voerendaal.nl/wp-content/uploads/2024/02/koersball.jpg
END:VEVENT
BEGIN:VEVENT
DTSTART;TZID=Europe/Amsterdam:20260311T093000
DTEND;TZID=Europe/Amsterdam:20260311T113000
DTSTAMP:20260420T041545
CREATED:20240320T132655Z
LAST-MODIFIED:20251201T140144Z
UID:10003838-1773221400-1773228600@senso-voerendaal.nl
SUMMARY:Tekenen en schilderen
DESCRIPTION:Activiteiten – Senso Voerendaal \n 
URL:https://senso-voerendaal.nl/evenement/tekenen-en-schilderen-2/2026-03-11/
LOCATION:Kunderhoes\, Hogeweg 74\, Voerendaal\, Limburg\, 6367 BG\, Nederland
CATEGORIES:Activiteit
ATTACH;FMTTYPE=image/jpeg:https://senso-voerendaal.nl/wp-content/uploads/2024/03/Schilderen_10-360x240-1.jpg
END:VEVENT
BEGIN:VEVENT
DTSTART;TZID=Europe/Amsterdam:20260311T111500
DTEND;TZID=Europe/Amsterdam:20260311T121500
DTSTAMP:20260420T041545
CREATED:20251006T155432Z
LAST-MODIFIED:20251016T143344Z
UID:10003630-1773227700-1773231300@senso-voerendaal.nl
SUMMARY:Tai CHI
DESCRIPTION:  \nBewegen – Senso Voerendaal \n 
URL:https://senso-voerendaal.nl/evenement/tai-chi-2-2-3/2026-03-11/
LOCATION:Kunderhoes\, Hogeweg 74\, Voerendaal\, Limburg\, 6367 BG\, Nederland
CATEGORIES:Bewegen
ATTACH;FMTTYPE=image/jpeg:https://senso-voerendaal.nl/wp-content/uploads/2024/03/tai-chi.jpg
END:VEVENT
BEGIN:VEVENT
DTSTART;TZID=Europe/Amsterdam:20260311T160000
DTEND;TZID=Europe/Amsterdam:20260311T170000
DTSTAMP:20260420T041545
CREATED:20240325T122413Z
LAST-MODIFIED:20251119T173325Z
UID:10003526-1773244800-1773248400@senso-voerendaal.nl
SUMMARY:Seniorenkoor
DESCRIPTION:Activiteiten/#seniorenkoor
URL:https://senso-voerendaal.nl/evenement/seniorenkoor-3/2026-03-11/
LOCATION:Kunderhoes\, Hogeweg 74\, Voerendaal\, Limburg\, 6367 BG\, Nederland
CATEGORIES:Activiteit
END:VEVENT
BEGIN:VEVENT
DTSTART;TZID=Europe/Amsterdam:20260312T093000
DTEND;TZID=Europe/Amsterdam:20260312T140000
DTSTAMP:20260420T041545
CREATED:20240320T132615Z
LAST-MODIFIED:20251006T163044Z
UID:10003328-1773307800-1773324000@senso-voerendaal.nl
SUMMARY:Fietstochten
DESCRIPTION:Bewegen – Senso Voerendaal \n 
URL:https://senso-voerendaal.nl/evenement/fietstochten-2-2/2026-03-12/
LOCATION:Kunderhoes\, Hogeweg 74\, Voerendaal\, Limburg\, 6367 BG\, Nederland
CATEGORIES:Bewegen
ATTACH;FMTTYPE=image/jpeg:https://senso-voerendaal.nl/wp-content/uploads/2024/03/fietstocht.jpg
END:VEVENT
BEGIN:VEVENT
DTSTART;TZID=Europe/Amsterdam:20260312T140000
DTEND;TZID=Europe/Amsterdam:20260312T160000
DTSTAMP:20260420T041545
CREATED:20240325T121534Z
LAST-MODIFIED:20251016T143548Z
UID:10003942-1773324000-1773331200@senso-voerendaal.nl
SUMMARY:Soosmiddag
DESCRIPTION:
URL:https://senso-voerendaal.nl/evenement/soosmiddag-2/2026-03-12/
LOCATION:Kunderhoes\, Hogeweg 74\, Voerendaal\, Limburg\, 6367 BG\, Nederland
CATEGORIES:Activiteit
ATTACH;FMTTYPE=image/jpeg:https://senso-voerendaal.nl/wp-content/uploads/2024/03/downloaden-1.jpg
END:VEVENT
BEGIN:VEVENT
DTSTART;TZID=Europe/Amsterdam:20260312T141500
DTEND;TZID=Europe/Amsterdam:20260312T151500
DTSTAMP:20260420T041545
CREATED:20240417T120315Z
LAST-MODIFIED:20251016T143635Z
UID:10003682-1773324900-1773328500@senso-voerendaal.nl
SUMMARY:Tai-Chi
DESCRIPTION:  \nBewegen – Senso Voerendaal \n 
URL:https://senso-voerendaal.nl/evenement/tai-chi-2-2-2/2026-03-12/
ATTACH;FMTTYPE=image/jpeg:https://senso-voerendaal.nl/wp-content/uploads/2024/03/tai-chi.jpg
END:VEVENT
BEGIN:VEVENT
DTSTART;TZID=Europe/Amsterdam:20260312T153000
DTEND;TZID=Europe/Amsterdam:20260312T163000
DTSTAMP:20260420T041545
CREATED:20240417T120721Z
LAST-MODIFIED:20251016T143720Z
UID:10003734-1773329400-1773333000@senso-voerendaal.nl
SUMMARY:Line dance
DESCRIPTION:
URL:https://senso-voerendaal.nl/evenement/line-dance-2/2026-03-12/
LOCATION:Kunderhoes\, Hogeweg 74\, Voerendaal\, Limburg\, 6367 BG\, Nederland
CATEGORIES:Bewegen
ATTACH;FMTTYPE=image/jpeg:https://senso-voerendaal.nl/wp-content/uploads/2024/02/download-1.jpg
END:VEVENT
BEGIN:VEVENT
DTSTART;TZID=Europe/Amsterdam:20260312T190000
DTEND;TZID=Europe/Amsterdam:20260312T210000
DTSTAMP:20260420T041545
CREATED:20240325T125209Z
LAST-MODIFIED:20251016T144004Z
UID:10004081-1773342000-1773349200@senso-voerendaal.nl
SUMMARY:Koersballen
DESCRIPTION:Activiteiten – Senso Voerendaal
URL:https://senso-voerendaal.nl/evenement/koersballen-2-2-2-2/2026-03-12/
LOCATION:Kunderhoes\, Hogeweg 74\, Voerendaal\, Limburg\, 6367 BG\, Nederland
CATEGORIES:Activiteit
ATTACH;FMTTYPE=image/jpeg:https://senso-voerendaal.nl/wp-content/uploads/2024/02/koersball.jpg
END:VEVENT
BEGIN:VEVENT
DTSTART;TZID=Europe/Amsterdam:20260313T094500
DTEND;TZID=Europe/Amsterdam:20260313T104500
DTSTAMP:20260420T041545
CREATED:20240417T115933Z
LAST-MODIFIED:20251016T143839Z
UID:10003891-1773395100-1773398700@senso-voerendaal.nl
SUMMARY:Yoga
DESCRIPTION:bewegen/#yoga
URL:https://senso-voerendaal.nl/evenement/yoga-2-2-2/2026-03-13/
CATEGORIES:Bewegen
ATTACH;FMTTYPE=image/jpeg:https://senso-voerendaal.nl/wp-content/uploads/2024/03/yoga.jpg
END:VEVENT
BEGIN:VEVENT
DTSTART;TZID=Europe/Amsterdam:20260316T100000
DTEND;TZID=Europe/Amsterdam:20260316T120000
DTSTAMP:20260420T041545
CREATED:20250410T082812Z
LAST-MODIFIED:20251016T142711Z
UID:10003579-1773655200-1773662400@senso-voerendaal.nl
SUMMARY:Tafeltennis
DESCRIPTION:  \nBewegen – Senso Voerendaal (senso-voerendaal.nl) \n 
URL:https://senso-voerendaal.nl/evenement/tafeltennis-2-2/2026-03-16/
LOCATION:Kunderhoes\, Hogeweg 74\, Voerendaal\, Limburg\, 6367 BG\, Nederland
CATEGORIES:Bewegen
ATTACH;FMTTYPE=image/png:https://senso-voerendaal.nl/wp-content/uploads/2024/02/image-248x300-1.png
END:VEVENT
BEGIN:VEVENT
DTSTART;TZID=Europe/Amsterdam:20260316T143000
DTEND;TZID=Europe/Amsterdam:20260316T153000
DTSTAMP:20260420T041545
CREATED:20250410T083215Z
LAST-MODIFIED:20251016T142824Z
UID:10003423-1773671400-1773675000@senso-voerendaal.nl
SUMMARY:Senioren gym
DESCRIPTION:Bewegen – Senso Voerendaal \n 
URL:https://senso-voerendaal.nl/evenement/senioren-gym-2-2-2/2026-03-16/
LOCATION:Kunderhoes\, Hogeweg 74\, Voerendaal\, Limburg\, 6367 BG\, Nederland
CATEGORIES:Bewegen
ATTACH;FMTTYPE=image/jpeg:https://senso-voerendaal.nl/wp-content/uploads/2024/03/downloaden.jpg
END:VEVENT
BEGIN:VEVENT
DTSTART;TZID=Europe/Amsterdam:20260316T190000
DTEND;TZID=Europe/Amsterdam:20260316T213000
DTSTAMP:20260420T041545
CREATED:20251006T164652Z
LAST-MODIFIED:20251006T164859Z
UID:10004167-1773687600-1773696600@senso-voerendaal.nl
SUMMARY:Info avond
DESCRIPTION:
URL:https://senso-voerendaal.nl/evenement/info-avond/2026-03-16/
END:VEVENT
BEGIN:VEVENT
DTSTART;TZID=Europe/Amsterdam:20260316T190000
DTEND;TZID=Europe/Amsterdam:20260316T213000
DTSTAMP:20260420T041545
CREATED:20260224T135311Z
LAST-MODIFIED:20260224T135957Z
UID:10004189-1773687600-1773696600@senso-voerendaal.nl
SUMMARY:Info avond geschiedenis Voerendaal
DESCRIPTION:Info avond geschiedenis Voerendaal
URL:https://senso-voerendaal.nl/evenement/info-avond-geschiedenis-voerendaal/
LOCATION:Kunderhoes\, Hogeweg 74\, Voerendaal\, Limburg\, 6367 BG\, Nederland
CATEGORIES:Activiteit
END:VEVENT
BEGIN:VEVENT
DTSTART;TZID=Europe/Amsterdam:20260317T093000
DTEND;TZID=Europe/Amsterdam:20260317T140000
DTSTAMP:20260420T041545
CREATED:20240320T132615Z
LAST-MODIFIED:20251006T163044Z
UID:10003329-1773739800-1773756000@senso-voerendaal.nl
SUMMARY:Fietstochten
DESCRIPTION:Bewegen – Senso Voerendaal \n 
URL:https://senso-voerendaal.nl/evenement/fietstochten-2-2/2026-03-17/
LOCATION:Kunderhoes\, Hogeweg 74\, Voerendaal\, Limburg\, 6367 BG\, Nederland
CATEGORIES:Bewegen
ATTACH;FMTTYPE=image/jpeg:https://senso-voerendaal.nl/wp-content/uploads/2024/03/fietstocht.jpg
END:VEVENT
BEGIN:VEVENT
DTSTART;TZID=Europe/Amsterdam:20260317T103000
DTEND;TZID=Europe/Amsterdam:20260317T123000
DTSTAMP:20260420T041545
CREATED:20250818T080415Z
LAST-MODIFIED:20251016T141548Z
UID:10004028-1773743400-1773750600@senso-voerendaal.nl
SUMMARY:Chi Neng Qiong
DESCRIPTION:  \n  \n  \nBewegen – Senso Voerendaal
URL:https://senso-voerendaal.nl/evenement/chi-neng-qiong/2026-03-17/
LOCATION:Kunderhoes\, Hogeweg 74\, Voerendaal\, Limburg\, 6367 BG\, Nederland
CATEGORIES:Bewegen
ATTACH;FMTTYPE=image/jpeg:https://senso-voerendaal.nl/wp-content/uploads/2025/01/Qigong.jpg
END:VEVENT
BEGIN:VEVENT
DTSTART;TZID=Europe/Amsterdam:20260317T150000
DTEND;TZID=Europe/Amsterdam:20260317T160000
DTSTAMP:20260420T041545
CREATED:20240417T115732Z
LAST-MODIFIED:20251016T143031Z
UID:10003787-1773759600-1773763200@senso-voerendaal.nl
SUMMARY:Bewegen op muziek
DESCRIPTION:Bewegen – Senso Voerendaal  \n 
URL:https://senso-voerendaal.nl/evenement/bewegen-op-muziek-3-2/2026-03-17/
LOCATION:Kunderhoes\, Hogeweg 74\, Voerendaal\, Limburg\, 6367 BG\, Nederland
CATEGORIES:Bewegen
ATTACH;FMTTYPE=image/jpeg:https://senso-voerendaal.nl/wp-content/uploads/2024/03/OIP-8.jpg
END:VEVENT
END:VCALENDAR