BEGIN:VCALENDAR
VERSION:2.0
PRODID:-//Senso Voerendaal - ECPv6.15.16//NONSGML v1.0//EN
CALSCALE:GREGORIAN
METHOD:PUBLISH
X-ORIGINAL-URL:https://senso-voerendaal.nl
X-WR-CALDESC:Evenementen voor Senso Voerendaal
REFRESH-INTERVAL;VALUE=DURATION:PT1H
X-Robots-Tag:noindex
X-PUBLISHED-TTL:PT1H
BEGIN:VTIMEZONE
TZID:Europe/Amsterdam
BEGIN:DAYLIGHT
TZOFFSETFROM:+0100
TZOFFSETTO:+0200
TZNAME:CEST
DTSTART:20250330T010000
END:DAYLIGHT
BEGIN:STANDARD
TZOFFSETFROM:+0200
TZOFFSETTO:+0100
TZNAME:CET
DTSTART:20251026T010000
END:STANDARD
BEGIN:DAYLIGHT
TZOFFSETFROM:+0100
TZOFFSETTO:+0200
TZNAME:CEST
DTSTART:20260329T010000
END:DAYLIGHT
BEGIN:STANDARD
TZOFFSETFROM:+0200
TZOFFSETTO:+0100
TZNAME:CET
DTSTART:20261025T010000
END:STANDARD
BEGIN:DAYLIGHT
TZOFFSETFROM:+0100
TZOFFSETTO:+0200
TZNAME:CEST
DTSTART:20270328T010000
END:DAYLIGHT
BEGIN:STANDARD
TZOFFSETFROM:+0200
TZOFFSETTO:+0100
TZNAME:CET
DTSTART:20271031T010000
END:STANDARD
END:VTIMEZONE
BEGIN:VEVENT
DTSTART;TZID=Europe/Amsterdam:20260616T103000
DTEND;TZID=Europe/Amsterdam:20260616T123000
DTSTAMP:20260420T083622
CREATED:20250818T080415Z
LAST-MODIFIED:20251016T141548Z
UID:10004041-1781605800-1781613000@senso-voerendaal.nl
SUMMARY:Chi Neng Qiong
DESCRIPTION:  \n  \n  \nBewegen – Senso Voerendaal
URL:https://senso-voerendaal.nl/evenement/chi-neng-qiong/2026-06-16/
LOCATION:Kunderhoes\, Hogeweg 74\, Voerendaal\, Limburg\, 6367 BG\, Nederland
CATEGORIES:Bewegen
ATTACH;FMTTYPE=image/jpeg:https://senso-voerendaal.nl/wp-content/uploads/2025/01/Qigong.jpg
END:VEVENT
BEGIN:VEVENT
DTSTART;TZID=Europe/Amsterdam:20260616T140000
DTEND;TZID=Europe/Amsterdam:20260616T160000
DTSTAMP:20260420T083622
CREATED:20240313T131655Z
LAST-MODIFIED:20251201T140529Z
UID:10003996-1781618400-1781625600@senso-voerendaal.nl
SUMMARY:Workshop
DESCRIPTION:Activiteiten – Senso Voerendaal 
URL:https://senso-voerendaal.nl/evenement/workshop-1-2/2026-06-16/
LOCATION:Kunderhoes\, Hogeweg 74\, Voerendaal\, Limburg\, 6367 BG\, Nederland
CATEGORIES:Activiteit
ATTACH;FMTTYPE=image/jpeg:https://senso-voerendaal.nl/wp-content/uploads/2024/03/Schilderen_10-360x240-1.jpg
END:VEVENT
BEGIN:VEVENT
DTSTART;TZID=Europe/Amsterdam:20260616T150000
DTEND;TZID=Europe/Amsterdam:20260616T160000
DTSTAMP:20260420T083622
CREATED:20240417T115732Z
LAST-MODIFIED:20251016T143031Z
UID:10003800-1781622000-1781625600@senso-voerendaal.nl
SUMMARY:Bewegen op muziek
DESCRIPTION:Bewegen – Senso Voerendaal  \n 
URL:https://senso-voerendaal.nl/evenement/bewegen-op-muziek-3-2/2026-06-16/
LOCATION:Kunderhoes\, Hogeweg 74\, Voerendaal\, Limburg\, 6367 BG\, Nederland
CATEGORIES:Bewegen
ATTACH;FMTTYPE=image/jpeg:https://senso-voerendaal.nl/wp-content/uploads/2024/03/OIP-8.jpg
END:VEVENT
BEGIN:VEVENT
DTSTART;TZID=Europe/Amsterdam:20260616T190000
DTEND;TZID=Europe/Amsterdam:20260616T203000
DTSTAMP:20260420T083622
CREATED:20240325T124542Z
LAST-MODIFIED:20251016T123312Z
UID:10003488-1781636400-1781641800@senso-voerendaal.nl
SUMMARY:Seniorenorkest
DESCRIPTION:  \nActiviteiten – Senso Voerendaal \n 
URL:https://senso-voerendaal.nl/evenement/seniorenorkest-2/2026-06-16/
LOCATION:De Borenburg\, Furenthela 16\, Voerendaal\, 6367 TL\, Nederland
CATEGORIES:Activiteit
ATTACH;FMTTYPE=image/jpeg:https://senso-voerendaal.nl/wp-content/uploads/2024/03/seniorenorkest-360x270-1.jpg
END:VEVENT
BEGIN:VEVENT
DTSTART;TZID=Europe/Amsterdam:20260616T190000
DTEND;TZID=Europe/Amsterdam:20260616T210000
DTSTAMP:20260420T083622
CREATED:20240325T125209Z
LAST-MODIFIED:20251016T144004Z
UID:10004108-1781636400-1781643600@senso-voerendaal.nl
SUMMARY:Koersballen
DESCRIPTION:Activiteiten – Senso Voerendaal
URL:https://senso-voerendaal.nl/evenement/koersballen-2-2-2-2/2026-06-16/
LOCATION:Kunderhoes\, Hogeweg 74\, Voerendaal\, Limburg\, 6367 BG\, Nederland
CATEGORIES:Activiteit
ATTACH;FMTTYPE=image/jpeg:https://senso-voerendaal.nl/wp-content/uploads/2024/02/koersball.jpg
END:VEVENT
BEGIN:VEVENT
DTSTART;TZID=Europe/Amsterdam:20260617T093000
DTEND;TZID=Europe/Amsterdam:20260617T113000
DTSTAMP:20260420T083622
CREATED:20240320T132655Z
LAST-MODIFIED:20251201T140144Z
UID:10003852-1781688600-1781695800@senso-voerendaal.nl
SUMMARY:Tekenen en schilderen
DESCRIPTION:Activiteiten – Senso Voerendaal \n 
URL:https://senso-voerendaal.nl/evenement/tekenen-en-schilderen-2/2026-06-17/
LOCATION:Kunderhoes\, Hogeweg 74\, Voerendaal\, Limburg\, 6367 BG\, Nederland
CATEGORIES:Activiteit
ATTACH;FMTTYPE=image/jpeg:https://senso-voerendaal.nl/wp-content/uploads/2024/03/Schilderen_10-360x240-1.jpg
END:VEVENT
BEGIN:VEVENT
DTSTART;TZID=Europe/Amsterdam:20260617T111500
DTEND;TZID=Europe/Amsterdam:20260617T121500
DTSTAMP:20260420T083622
CREATED:20251006T155432Z
LAST-MODIFIED:20251016T143344Z
UID:10003644-1781694900-1781698500@senso-voerendaal.nl
SUMMARY:Tai CHI
DESCRIPTION:  \nBewegen – Senso Voerendaal \n 
URL:https://senso-voerendaal.nl/evenement/tai-chi-2-2-3/2026-06-17/
LOCATION:Kunderhoes\, Hogeweg 74\, Voerendaal\, Limburg\, 6367 BG\, Nederland
CATEGORIES:Bewegen
ATTACH;FMTTYPE=image/jpeg:https://senso-voerendaal.nl/wp-content/uploads/2024/03/tai-chi.jpg
END:VEVENT
BEGIN:VEVENT
DTSTART;TZID=Europe/Amsterdam:20260617T120000
DTEND;TZID=Europe/Amsterdam:20260617T190000
DTSTAMP:20260420T083622
CREATED:20250222T161848Z
LAST-MODIFIED:20251016T131322Z
UID:10002935-1781697600-1781722800@senso-voerendaal.nl
SUMMARY:Middag tocht 17 juni 2026
DESCRIPTION:
URL:https://senso-voerendaal.nl/evenement/middag-tocht-18-juni-2025/
CATEGORIES:Activiteit
END:VEVENT
BEGIN:VEVENT
DTSTART;TZID=Europe/Amsterdam:20260617T160000
DTEND;TZID=Europe/Amsterdam:20260617T170000
DTSTAMP:20260420T083622
CREATED:20240325T122413Z
LAST-MODIFIED:20251119T173325Z
UID:10003540-1781712000-1781715600@senso-voerendaal.nl
SUMMARY:Seniorenkoor
DESCRIPTION:Activiteiten/#seniorenkoor
URL:https://senso-voerendaal.nl/evenement/seniorenkoor-3/2026-06-17/
LOCATION:Kunderhoes\, Hogeweg 74\, Voerendaal\, Limburg\, 6367 BG\, Nederland
CATEGORIES:Activiteit
END:VEVENT
BEGIN:VEVENT
DTSTART;TZID=Europe/Amsterdam:20260618T093000
DTEND;TZID=Europe/Amsterdam:20260618T140000
DTSTAMP:20260420T083622
CREATED:20240320T132615Z
LAST-MODIFIED:20251006T163044Z
UID:10003356-1781775000-1781791200@senso-voerendaal.nl
SUMMARY:Fietstochten
DESCRIPTION:Bewegen – Senso Voerendaal \n 
URL:https://senso-voerendaal.nl/evenement/fietstochten-2-2/2026-06-18/
LOCATION:Kunderhoes\, Hogeweg 74\, Voerendaal\, Limburg\, 6367 BG\, Nederland
CATEGORIES:Bewegen
ATTACH;FMTTYPE=image/jpeg:https://senso-voerendaal.nl/wp-content/uploads/2024/03/fietstocht.jpg
END:VEVENT
BEGIN:VEVENT
DTSTART;TZID=Europe/Amsterdam:20260618T140000
DTEND;TZID=Europe/Amsterdam:20260618T160000
DTSTAMP:20260420T083622
CREATED:20240325T121534Z
LAST-MODIFIED:20251016T143548Z
UID:10003956-1781791200-1781798400@senso-voerendaal.nl
SUMMARY:Soosmiddag
DESCRIPTION:
URL:https://senso-voerendaal.nl/evenement/soosmiddag-2/2026-06-18/
LOCATION:Kunderhoes\, Hogeweg 74\, Voerendaal\, Limburg\, 6367 BG\, Nederland
CATEGORIES:Activiteit
ATTACH;FMTTYPE=image/jpeg:https://senso-voerendaal.nl/wp-content/uploads/2024/03/downloaden-1.jpg
END:VEVENT
BEGIN:VEVENT
DTSTART;TZID=Europe/Amsterdam:20260618T141500
DTEND;TZID=Europe/Amsterdam:20260618T151500
DTSTAMP:20260420T083622
CREATED:20240417T120315Z
LAST-MODIFIED:20251016T143635Z
UID:10003696-1781792100-1781795700@senso-voerendaal.nl
SUMMARY:Tai-Chi
DESCRIPTION:  \nBewegen – Senso Voerendaal \n 
URL:https://senso-voerendaal.nl/evenement/tai-chi-2-2-2/2026-06-18/
ATTACH;FMTTYPE=image/jpeg:https://senso-voerendaal.nl/wp-content/uploads/2024/03/tai-chi.jpg
END:VEVENT
BEGIN:VEVENT
DTSTART;TZID=Europe/Amsterdam:20260618T153000
DTEND;TZID=Europe/Amsterdam:20260618T163000
DTSTAMP:20260420T083622
CREATED:20240417T120721Z
LAST-MODIFIED:20251016T143720Z
UID:10003748-1781796600-1781800200@senso-voerendaal.nl
SUMMARY:Line dance
DESCRIPTION:
URL:https://senso-voerendaal.nl/evenement/line-dance-2/2026-06-18/
LOCATION:Kunderhoes\, Hogeweg 74\, Voerendaal\, Limburg\, 6367 BG\, Nederland
CATEGORIES:Bewegen
ATTACH;FMTTYPE=image/jpeg:https://senso-voerendaal.nl/wp-content/uploads/2024/02/download-1.jpg
END:VEVENT
BEGIN:VEVENT
DTSTART;TZID=Europe/Amsterdam:20260618T190000
DTEND;TZID=Europe/Amsterdam:20260618T210000
DTSTAMP:20260420T083622
CREATED:20240325T125209Z
LAST-MODIFIED:20251016T144004Z
UID:10004109-1781809200-1781816400@senso-voerendaal.nl
SUMMARY:Koersballen
DESCRIPTION:Activiteiten – Senso Voerendaal
URL:https://senso-voerendaal.nl/evenement/koersballen-2-2-2-2/2026-06-18/
LOCATION:Kunderhoes\, Hogeweg 74\, Voerendaal\, Limburg\, 6367 BG\, Nederland
CATEGORIES:Activiteit
ATTACH;FMTTYPE=image/jpeg:https://senso-voerendaal.nl/wp-content/uploads/2024/02/koersball.jpg
END:VEVENT
BEGIN:VEVENT
DTSTART;TZID=Europe/Amsterdam:20260619T094500
DTEND;TZID=Europe/Amsterdam:20260619T104500
DTSTAMP:20260420T083622
CREATED:20240417T115933Z
LAST-MODIFIED:20251016T143839Z
UID:10003905-1781862300-1781865900@senso-voerendaal.nl
SUMMARY:Yoga
DESCRIPTION:bewegen/#yoga
URL:https://senso-voerendaal.nl/evenement/yoga-2-2-2/2026-06-19/
CATEGORIES:Bewegen
ATTACH;FMTTYPE=image/jpeg:https://senso-voerendaal.nl/wp-content/uploads/2024/03/yoga.jpg
END:VEVENT
BEGIN:VEVENT
DTSTART;TZID=Europe/Amsterdam:20260622T100000
DTEND;TZID=Europe/Amsterdam:20260622T120000
DTSTAMP:20260420T083622
CREATED:20250410T082812Z
LAST-MODIFIED:20251016T142711Z
UID:10003593-1782122400-1782129600@senso-voerendaal.nl
SUMMARY:Tafeltennis
DESCRIPTION:  \nBewegen – Senso Voerendaal (senso-voerendaal.nl) \n 
URL:https://senso-voerendaal.nl/evenement/tafeltennis-2-2/2026-06-22/
LOCATION:Kunderhoes\, Hogeweg 74\, Voerendaal\, Limburg\, 6367 BG\, Nederland
CATEGORIES:Bewegen
ATTACH;FMTTYPE=image/png:https://senso-voerendaal.nl/wp-content/uploads/2024/02/image-248x300-1.png
END:VEVENT
BEGIN:VEVENT
DTSTART;TZID=Europe/Amsterdam:20260622T143000
DTEND;TZID=Europe/Amsterdam:20260622T153000
DTSTAMP:20260420T083622
CREATED:20250410T083215Z
LAST-MODIFIED:20251016T142824Z
UID:10003437-1782138600-1782142200@senso-voerendaal.nl
SUMMARY:Senioren gym
DESCRIPTION:Bewegen – Senso Voerendaal \n 
URL:https://senso-voerendaal.nl/evenement/senioren-gym-2-2-2/2026-06-22/
LOCATION:Kunderhoes\, Hogeweg 74\, Voerendaal\, Limburg\, 6367 BG\, Nederland
CATEGORIES:Bewegen
ATTACH;FMTTYPE=image/jpeg:https://senso-voerendaal.nl/wp-content/uploads/2024/03/downloaden.jpg
END:VEVENT
BEGIN:VEVENT
DTSTART;TZID=Europe/Amsterdam:20260623T093000
DTEND;TZID=Europe/Amsterdam:20260623T140000
DTSTAMP:20260420T083622
CREATED:20240320T132615Z
LAST-MODIFIED:20251006T163044Z
UID:10003357-1782207000-1782223200@senso-voerendaal.nl
SUMMARY:Fietstochten
DESCRIPTION:Bewegen – Senso Voerendaal \n 
URL:https://senso-voerendaal.nl/evenement/fietstochten-2-2/2026-06-23/
LOCATION:Kunderhoes\, Hogeweg 74\, Voerendaal\, Limburg\, 6367 BG\, Nederland
CATEGORIES:Bewegen
ATTACH;FMTTYPE=image/jpeg:https://senso-voerendaal.nl/wp-content/uploads/2024/03/fietstocht.jpg
END:VEVENT
BEGIN:VEVENT
DTSTART;TZID=Europe/Amsterdam:20260623T103000
DTEND;TZID=Europe/Amsterdam:20260623T123000
DTSTAMP:20260420T083622
CREATED:20250818T080415Z
LAST-MODIFIED:20251016T141548Z
UID:10004042-1782210600-1782217800@senso-voerendaal.nl
SUMMARY:Chi Neng Qiong
DESCRIPTION:  \n  \n  \nBewegen – Senso Voerendaal
URL:https://senso-voerendaal.nl/evenement/chi-neng-qiong/2026-06-23/
LOCATION:Kunderhoes\, Hogeweg 74\, Voerendaal\, Limburg\, 6367 BG\, Nederland
CATEGORIES:Bewegen
ATTACH;FMTTYPE=image/jpeg:https://senso-voerendaal.nl/wp-content/uploads/2025/01/Qigong.jpg
END:VEVENT
BEGIN:VEVENT
DTSTART;TZID=Europe/Amsterdam:20260623T150000
DTEND;TZID=Europe/Amsterdam:20260623T160000
DTSTAMP:20260420T083622
CREATED:20240417T115732Z
LAST-MODIFIED:20251016T143031Z
UID:10003801-1782226800-1782230400@senso-voerendaal.nl
SUMMARY:Bewegen op muziek
DESCRIPTION:Bewegen – Senso Voerendaal  \n 
URL:https://senso-voerendaal.nl/evenement/bewegen-op-muziek-3-2/2026-06-23/
LOCATION:Kunderhoes\, Hogeweg 74\, Voerendaal\, Limburg\, 6367 BG\, Nederland
CATEGORIES:Bewegen
ATTACH;FMTTYPE=image/jpeg:https://senso-voerendaal.nl/wp-content/uploads/2024/03/OIP-8.jpg
END:VEVENT
BEGIN:VEVENT
DTSTART;TZID=Europe/Amsterdam:20260623T190000
DTEND;TZID=Europe/Amsterdam:20260623T203000
DTSTAMP:20260420T083622
CREATED:20240325T124542Z
LAST-MODIFIED:20251016T123312Z
UID:10003489-1782241200-1782246600@senso-voerendaal.nl
SUMMARY:Seniorenorkest
DESCRIPTION:  \nActiviteiten – Senso Voerendaal \n 
URL:https://senso-voerendaal.nl/evenement/seniorenorkest-2/2026-06-23/
LOCATION:De Borenburg\, Furenthela 16\, Voerendaal\, 6367 TL\, Nederland
CATEGORIES:Activiteit
ATTACH;FMTTYPE=image/jpeg:https://senso-voerendaal.nl/wp-content/uploads/2024/03/seniorenorkest-360x270-1.jpg
END:VEVENT
BEGIN:VEVENT
DTSTART;TZID=Europe/Amsterdam:20260623T190000
DTEND;TZID=Europe/Amsterdam:20260623T210000
DTSTAMP:20260420T083622
CREATED:20240325T125209Z
LAST-MODIFIED:20251016T144004Z
UID:10004110-1782241200-1782248400@senso-voerendaal.nl
SUMMARY:Koersballen
DESCRIPTION:Activiteiten – Senso Voerendaal
URL:https://senso-voerendaal.nl/evenement/koersballen-2-2-2-2/2026-06-23/
LOCATION:Kunderhoes\, Hogeweg 74\, Voerendaal\, Limburg\, 6367 BG\, Nederland
CATEGORIES:Activiteit
ATTACH;FMTTYPE=image/jpeg:https://senso-voerendaal.nl/wp-content/uploads/2024/02/koersball.jpg
END:VEVENT
BEGIN:VEVENT
DTSTART;TZID=Europe/Amsterdam:20260624T093000
DTEND;TZID=Europe/Amsterdam:20260624T113000
DTSTAMP:20260420T083622
CREATED:20240320T132655Z
LAST-MODIFIED:20251201T140144Z
UID:10003853-1782293400-1782300600@senso-voerendaal.nl
SUMMARY:Tekenen en schilderen
DESCRIPTION:Activiteiten – Senso Voerendaal \n 
URL:https://senso-voerendaal.nl/evenement/tekenen-en-schilderen-2/2026-06-24/
LOCATION:Kunderhoes\, Hogeweg 74\, Voerendaal\, Limburg\, 6367 BG\, Nederland
CATEGORIES:Activiteit
ATTACH;FMTTYPE=image/jpeg:https://senso-voerendaal.nl/wp-content/uploads/2024/03/Schilderen_10-360x240-1.jpg
END:VEVENT
BEGIN:VEVENT
DTSTART;TZID=Europe/Amsterdam:20260624T111500
DTEND;TZID=Europe/Amsterdam:20260624T121500
DTSTAMP:20260420T083622
CREATED:20251006T155432Z
LAST-MODIFIED:20251016T143344Z
UID:10003645-1782299700-1782303300@senso-voerendaal.nl
SUMMARY:Tai CHI
DESCRIPTION:  \nBewegen – Senso Voerendaal \n 
URL:https://senso-voerendaal.nl/evenement/tai-chi-2-2-3/2026-06-24/
LOCATION:Kunderhoes\, Hogeweg 74\, Voerendaal\, Limburg\, 6367 BG\, Nederland
CATEGORIES:Bewegen
ATTACH;FMTTYPE=image/jpeg:https://senso-voerendaal.nl/wp-content/uploads/2024/03/tai-chi.jpg
END:VEVENT
BEGIN:VEVENT
DTSTART;TZID=Europe/Amsterdam:20260624T160000
DTEND;TZID=Europe/Amsterdam:20260624T170000
DTSTAMP:20260420T083622
CREATED:20240325T122413Z
LAST-MODIFIED:20251119T173325Z
UID:10003541-1782316800-1782320400@senso-voerendaal.nl
SUMMARY:Seniorenkoor
DESCRIPTION:Activiteiten/#seniorenkoor
URL:https://senso-voerendaal.nl/evenement/seniorenkoor-3/2026-06-24/
LOCATION:Kunderhoes\, Hogeweg 74\, Voerendaal\, Limburg\, 6367 BG\, Nederland
CATEGORIES:Activiteit
END:VEVENT
BEGIN:VEVENT
DTSTART;TZID=Europe/Amsterdam:20260625T093000
DTEND;TZID=Europe/Amsterdam:20260625T140000
DTSTAMP:20260420T083622
CREATED:20240320T132615Z
LAST-MODIFIED:20251006T163044Z
UID:10003358-1782379800-1782396000@senso-voerendaal.nl
SUMMARY:Fietstochten
DESCRIPTION:Bewegen – Senso Voerendaal \n 
URL:https://senso-voerendaal.nl/evenement/fietstochten-2-2/2026-06-25/
LOCATION:Kunderhoes\, Hogeweg 74\, Voerendaal\, Limburg\, 6367 BG\, Nederland
CATEGORIES:Bewegen
ATTACH;FMTTYPE=image/jpeg:https://senso-voerendaal.nl/wp-content/uploads/2024/03/fietstocht.jpg
END:VEVENT
BEGIN:VEVENT
DTSTART;TZID=Europe/Amsterdam:20260625T140000
DTEND;TZID=Europe/Amsterdam:20260625T160000
DTSTAMP:20260420T083622
CREATED:20240325T121534Z
LAST-MODIFIED:20251016T143548Z
UID:10003957-1782396000-1782403200@senso-voerendaal.nl
SUMMARY:Soosmiddag
DESCRIPTION:
URL:https://senso-voerendaal.nl/evenement/soosmiddag-2/2026-06-25/
LOCATION:Kunderhoes\, Hogeweg 74\, Voerendaal\, Limburg\, 6367 BG\, Nederland
CATEGORIES:Activiteit
ATTACH;FMTTYPE=image/jpeg:https://senso-voerendaal.nl/wp-content/uploads/2024/03/downloaden-1.jpg
END:VEVENT
BEGIN:VEVENT
DTSTART;TZID=Europe/Amsterdam:20260625T141500
DTEND;TZID=Europe/Amsterdam:20260625T151500
DTSTAMP:20260420T083622
CREATED:20240417T120315Z
LAST-MODIFIED:20251016T143635Z
UID:10003697-1782396900-1782400500@senso-voerendaal.nl
SUMMARY:Tai-Chi
DESCRIPTION:  \nBewegen – Senso Voerendaal \n 
URL:https://senso-voerendaal.nl/evenement/tai-chi-2-2-2/2026-06-25/
ATTACH;FMTTYPE=image/jpeg:https://senso-voerendaal.nl/wp-content/uploads/2024/03/tai-chi.jpg
END:VEVENT
BEGIN:VEVENT
DTSTART;TZID=Europe/Amsterdam:20260625T153000
DTEND;TZID=Europe/Amsterdam:20260625T163000
DTSTAMP:20260420T083622
CREATED:20240417T120721Z
LAST-MODIFIED:20251016T143720Z
UID:10003749-1782401400-1782405000@senso-voerendaal.nl
SUMMARY:Line dance
DESCRIPTION:
URL:https://senso-voerendaal.nl/evenement/line-dance-2/2026-06-25/
LOCATION:Kunderhoes\, Hogeweg 74\, Voerendaal\, Limburg\, 6367 BG\, Nederland
CATEGORIES:Bewegen
ATTACH;FMTTYPE=image/jpeg:https://senso-voerendaal.nl/wp-content/uploads/2024/02/download-1.jpg
END:VEVENT
BEGIN:VEVENT
DTSTART;TZID=Europe/Amsterdam:20260625T190000
DTEND;TZID=Europe/Amsterdam:20260625T210000
DTSTAMP:20260420T083622
CREATED:20240325T125209Z
LAST-MODIFIED:20251016T144004Z
UID:10004111-1782414000-1782421200@senso-voerendaal.nl
SUMMARY:Koersballen
DESCRIPTION:Activiteiten – Senso Voerendaal
URL:https://senso-voerendaal.nl/evenement/koersballen-2-2-2-2/2026-06-25/
LOCATION:Kunderhoes\, Hogeweg 74\, Voerendaal\, Limburg\, 6367 BG\, Nederland
CATEGORIES:Activiteit
ATTACH;FMTTYPE=image/jpeg:https://senso-voerendaal.nl/wp-content/uploads/2024/02/koersball.jpg
END:VEVENT
END:VCALENDAR