BEGIN:VCALENDAR
VERSION:2.0
PRODID:-//Senso Voerendaal - ECPv6.15.16//NONSGML v1.0//EN
CALSCALE:GREGORIAN
METHOD:PUBLISH
X-ORIGINAL-URL:https://senso-voerendaal.nl
X-WR-CALDESC:Evenementen voor Senso Voerendaal
REFRESH-INTERVAL;VALUE=DURATION:PT1H
X-Robots-Tag:noindex
X-PUBLISHED-TTL:PT1H
BEGIN:VTIMEZONE
TZID:Europe/Amsterdam
BEGIN:DAYLIGHT
TZOFFSETFROM:+0100
TZOFFSETTO:+0200
TZNAME:CEST
DTSTART:20250330T010000
END:DAYLIGHT
BEGIN:STANDARD
TZOFFSETFROM:+0200
TZOFFSETTO:+0100
TZNAME:CET
DTSTART:20251026T010000
END:STANDARD
BEGIN:DAYLIGHT
TZOFFSETFROM:+0100
TZOFFSETTO:+0200
TZNAME:CEST
DTSTART:20260329T010000
END:DAYLIGHT
BEGIN:STANDARD
TZOFFSETFROM:+0200
TZOFFSETTO:+0100
TZNAME:CET
DTSTART:20261025T010000
END:STANDARD
BEGIN:DAYLIGHT
TZOFFSETFROM:+0100
TZOFFSETTO:+0200
TZNAME:CEST
DTSTART:20270328T010000
END:DAYLIGHT
BEGIN:STANDARD
TZOFFSETFROM:+0200
TZOFFSETTO:+0100
TZNAME:CET
DTSTART:20271031T010000
END:STANDARD
END:VTIMEZONE
BEGIN:VEVENT
DTSTART;TZID=Europe/Amsterdam:20260701T093000
DTEND;TZID=Europe/Amsterdam:20260701T113000
DTSTAMP:20260420T215009
CREATED:20240320T132655Z
LAST-MODIFIED:20251201T140144Z
UID:10003854-1782898200-1782905400@senso-voerendaal.nl
SUMMARY:Tekenen en schilderen
DESCRIPTION:Activiteiten – Senso Voerendaal \n 
URL:https://senso-voerendaal.nl/evenement/tekenen-en-schilderen-2/2026-07-01/
LOCATION:Kunderhoes\, Hogeweg 74\, Voerendaal\, Limburg\, 6367 BG\, Nederland
CATEGORIES:Activiteit
ATTACH;FMTTYPE=image/jpeg:https://senso-voerendaal.nl/wp-content/uploads/2024/03/Schilderen_10-360x240-1.jpg
END:VEVENT
BEGIN:VEVENT
DTSTART;TZID=Europe/Amsterdam:20260701T111500
DTEND;TZID=Europe/Amsterdam:20260701T121500
DTSTAMP:20260420T215009
CREATED:20251006T155432Z
LAST-MODIFIED:20251016T143344Z
UID:10003646-1782904500-1782908100@senso-voerendaal.nl
SUMMARY:Tai CHI
DESCRIPTION:  \nBewegen – Senso Voerendaal \n 
URL:https://senso-voerendaal.nl/evenement/tai-chi-2-2-3/2026-07-01/
LOCATION:Kunderhoes\, Hogeweg 74\, Voerendaal\, Limburg\, 6367 BG\, Nederland
CATEGORIES:Bewegen
ATTACH;FMTTYPE=image/jpeg:https://senso-voerendaal.nl/wp-content/uploads/2024/03/tai-chi.jpg
END:VEVENT
BEGIN:VEVENT
DTSTART;TZID=Europe/Amsterdam:20260701T160000
DTEND;TZID=Europe/Amsterdam:20260701T170000
DTSTAMP:20260420T215009
CREATED:20240325T122413Z
LAST-MODIFIED:20251119T173325Z
UID:10003542-1782921600-1782925200@senso-voerendaal.nl
SUMMARY:Seniorenkoor
DESCRIPTION:Activiteiten/#seniorenkoor
URL:https://senso-voerendaal.nl/evenement/seniorenkoor-3/2026-07-01/
LOCATION:Kunderhoes\, Hogeweg 74\, Voerendaal\, Limburg\, 6367 BG\, Nederland
CATEGORIES:Activiteit
END:VEVENT
BEGIN:VEVENT
DTSTART;TZID=Europe/Amsterdam:20260702T093000
DTEND;TZID=Europe/Amsterdam:20260702T140000
DTSTAMP:20260420T215009
CREATED:20240320T132615Z
LAST-MODIFIED:20251006T163044Z
UID:10003360-1782984600-1783000800@senso-voerendaal.nl
SUMMARY:Fietstochten
DESCRIPTION:Bewegen – Senso Voerendaal \n 
URL:https://senso-voerendaal.nl/evenement/fietstochten-2-2/2026-07-02/
LOCATION:Kunderhoes\, Hogeweg 74\, Voerendaal\, Limburg\, 6367 BG\, Nederland
CATEGORIES:Bewegen
ATTACH;FMTTYPE=image/jpeg:https://senso-voerendaal.nl/wp-content/uploads/2024/03/fietstocht.jpg
END:VEVENT
BEGIN:VEVENT
DTSTART;TZID=Europe/Amsterdam:20260702T140000
DTEND;TZID=Europe/Amsterdam:20260702T160000
DTSTAMP:20260420T215009
CREATED:20240325T121534Z
LAST-MODIFIED:20251016T143548Z
UID:10003958-1783000800-1783008000@senso-voerendaal.nl
SUMMARY:Soosmiddag
DESCRIPTION:
URL:https://senso-voerendaal.nl/evenement/soosmiddag-2/2026-07-02/
LOCATION:Kunderhoes\, Hogeweg 74\, Voerendaal\, Limburg\, 6367 BG\, Nederland
CATEGORIES:Activiteit
ATTACH;FMTTYPE=image/jpeg:https://senso-voerendaal.nl/wp-content/uploads/2024/03/downloaden-1.jpg
END:VEVENT
BEGIN:VEVENT
DTSTART;TZID=Europe/Amsterdam:20260702T141500
DTEND;TZID=Europe/Amsterdam:20260702T151500
DTSTAMP:20260420T215009
CREATED:20240417T120315Z
LAST-MODIFIED:20251016T143635Z
UID:10003698-1783001700-1783005300@senso-voerendaal.nl
SUMMARY:Tai-Chi
DESCRIPTION:  \nBewegen – Senso Voerendaal \n 
URL:https://senso-voerendaal.nl/evenement/tai-chi-2-2-2/2026-07-02/
LOCATION:Limburg
ATTACH;FMTTYPE=image/jpeg:https://senso-voerendaal.nl/wp-content/uploads/2024/03/tai-chi.jpg
END:VEVENT
BEGIN:VEVENT
DTSTART;TZID=Europe/Amsterdam:20260702T153000
DTEND;TZID=Europe/Amsterdam:20260702T163000
DTSTAMP:20260420T215009
CREATED:20240417T120721Z
LAST-MODIFIED:20251016T143720Z
UID:10003750-1783006200-1783009800@senso-voerendaal.nl
SUMMARY:Line dance
DESCRIPTION:
URL:https://senso-voerendaal.nl/evenement/line-dance-2/2026-07-02/
LOCATION:Kunderhoes\, Hogeweg 74\, Voerendaal\, Limburg\, 6367 BG\, Nederland
CATEGORIES:Bewegen
ATTACH;FMTTYPE=image/jpeg:https://senso-voerendaal.nl/wp-content/uploads/2024/02/download-1.jpg
END:VEVENT
BEGIN:VEVENT
DTSTART;TZID=Europe/Amsterdam:20260702T190000
DTEND;TZID=Europe/Amsterdam:20260702T210000
DTSTAMP:20260420T215009
CREATED:20240325T125209Z
LAST-MODIFIED:20251016T144004Z
UID:10004113-1783018800-1783026000@senso-voerendaal.nl
SUMMARY:Koersballen
DESCRIPTION:Activiteiten – Senso Voerendaal
URL:https://senso-voerendaal.nl/evenement/koersballen-2-2-2-2/2026-07-02/
LOCATION:Kunderhoes\, Hogeweg 74\, Voerendaal\, Limburg\, 6367 BG\, Nederland
CATEGORIES:Activiteit
ATTACH;FMTTYPE=image/jpeg:https://senso-voerendaal.nl/wp-content/uploads/2024/02/koersball.jpg
END:VEVENT
BEGIN:VEVENT
DTSTART;TZID=Europe/Amsterdam:20260703T093000
DTEND;TZID=Europe/Amsterdam:20260703T150000
DTSTAMP:20260420T215009
CREATED:20250207T143927Z
LAST-MODIFIED:20251108T093300Z
UID:10003302-1783071000-1783090800@senso-voerendaal.nl
SUMMARY:Wandelen
DESCRIPTION:Bewegen – Senso Voerendaal \n  \n 
URL:https://senso-voerendaal.nl/evenement/wandelen-2-2-2/2026-07-03/
LOCATION:Capoolplaats Kerkplein Voerendaal\, Kerkplein 43\, Voerendaal\, Limburg\, 6367 EN\, Nederland
CATEGORIES:Bewegen
ATTACH;FMTTYPE=image/jpeg:https://senso-voerendaal.nl/wp-content/uploads/2024/03/Afbeelding1-360x225-1.jpg
END:VEVENT
BEGIN:VEVENT
DTSTART;TZID=Europe/Amsterdam:20260703T094500
DTEND;TZID=Europe/Amsterdam:20260703T104500
DTSTAMP:20260420T215009
CREATED:20240417T115933Z
LAST-MODIFIED:20251016T143839Z
UID:10003907-1783071900-1783075500@senso-voerendaal.nl
SUMMARY:Yoga
DESCRIPTION:bewegen/#yoga
URL:https://senso-voerendaal.nl/evenement/yoga-2-2-2/2026-07-03/
LOCATION:Limburg
CATEGORIES:Bewegen
ATTACH;FMTTYPE=image/jpeg:https://senso-voerendaal.nl/wp-content/uploads/2024/03/yoga.jpg
END:VEVENT
BEGIN:VEVENT
DTSTART;TZID=Europe/Amsterdam:20260706T100000
DTEND;TZID=Europe/Amsterdam:20260706T120000
DTSTAMP:20260420T215009
CREATED:20250410T082812Z
LAST-MODIFIED:20251016T142711Z
UID:10003595-1783332000-1783339200@senso-voerendaal.nl
SUMMARY:Tafeltennis
DESCRIPTION:  \nBewegen – Senso Voerendaal (senso-voerendaal.nl) \n 
URL:https://senso-voerendaal.nl/evenement/tafeltennis-2-2/2026-07-06/
LOCATION:Kunderhoes\, Hogeweg 74\, Voerendaal\, Limburg\, 6367 BG\, Nederland
CATEGORIES:Bewegen
ATTACH;FMTTYPE=image/png:https://senso-voerendaal.nl/wp-content/uploads/2024/02/image-248x300-1.png
END:VEVENT
BEGIN:VEVENT
DTSTART;TZID=Europe/Amsterdam:20260706T143000
DTEND;TZID=Europe/Amsterdam:20260706T153000
DTSTAMP:20260420T215009
CREATED:20250410T083215Z
LAST-MODIFIED:20251016T142824Z
UID:10003439-1783348200-1783351800@senso-voerendaal.nl
SUMMARY:Senioren gym
DESCRIPTION:Bewegen – Senso Voerendaal \n 
URL:https://senso-voerendaal.nl/evenement/senioren-gym-2-2-2/2026-07-06/
LOCATION:Kunderhoes\, Hogeweg 74\, Voerendaal\, Limburg\, 6367 BG\, Nederland
CATEGORIES:Bewegen
ATTACH;FMTTYPE=image/jpeg:https://senso-voerendaal.nl/wp-content/uploads/2024/03/downloaden.jpg
END:VEVENT
BEGIN:VEVENT
DTSTART;TZID=Europe/Amsterdam:20260706T190000
DTEND;TZID=Europe/Amsterdam:20260706T210000
DTSTAMP:20260420T215009
CREATED:20240308T134634Z
LAST-MODIFIED:20251016T140341Z
UID:10003290-1783364400-1783371600@senso-voerendaal.nl
SUMMARY:Senso Kienen
DESCRIPTION:
URL:https://senso-voerendaal.nl/evenement/senso-kienen-2/2026-07-06/
LOCATION:Limburg
CATEGORIES:Activiteit
END:VEVENT
BEGIN:VEVENT
DTSTART;TZID=Europe/Amsterdam:20260707T093000
DTEND;TZID=Europe/Amsterdam:20260707T140000
DTSTAMP:20260420T215009
CREATED:20240320T132615Z
LAST-MODIFIED:20251006T163044Z
UID:10003361-1783416600-1783432800@senso-voerendaal.nl
SUMMARY:Fietstochten
DESCRIPTION:Bewegen – Senso Voerendaal \n 
URL:https://senso-voerendaal.nl/evenement/fietstochten-2-2/2026-07-07/
LOCATION:Kunderhoes\, Hogeweg 74\, Voerendaal\, Limburg\, 6367 BG\, Nederland
CATEGORIES:Bewegen
ATTACH;FMTTYPE=image/jpeg:https://senso-voerendaal.nl/wp-content/uploads/2024/03/fietstocht.jpg
END:VEVENT
BEGIN:VEVENT
DTSTART;TZID=Europe/Amsterdam:20260707T103000
DTEND;TZID=Europe/Amsterdam:20260707T123000
DTSTAMP:20260420T215009
CREATED:20250818T080415Z
LAST-MODIFIED:20251016T141548Z
UID:10004044-1783420200-1783427400@senso-voerendaal.nl
SUMMARY:Chi Neng Qiong
DESCRIPTION:  \n  \n  \nBewegen – Senso Voerendaal
URL:https://senso-voerendaal.nl/evenement/chi-neng-qiong/2026-07-07/
LOCATION:Kunderhoes\, Hogeweg 74\, Voerendaal\, Limburg\, 6367 BG\, Nederland
CATEGORIES:Bewegen
ATTACH;FMTTYPE=image/jpeg:https://senso-voerendaal.nl/wp-content/uploads/2025/01/Qigong.jpg
END:VEVENT
BEGIN:VEVENT
DTSTART;TZID=Europe/Amsterdam:20260707T150000
DTEND;TZID=Europe/Amsterdam:20260707T160000
DTSTAMP:20260420T215009
CREATED:20240417T115732Z
LAST-MODIFIED:20251016T143031Z
UID:10003803-1783436400-1783440000@senso-voerendaal.nl
SUMMARY:Bewegen op muziek
DESCRIPTION:Bewegen – Senso Voerendaal  \n 
URL:https://senso-voerendaal.nl/evenement/bewegen-op-muziek-3-2/2026-07-07/
LOCATION:Kunderhoes\, Hogeweg 74\, Voerendaal\, Limburg\, 6367 BG\, Nederland
CATEGORIES:Bewegen
ATTACH;FMTTYPE=image/jpeg:https://senso-voerendaal.nl/wp-content/uploads/2024/03/OIP-8.jpg
END:VEVENT
BEGIN:VEVENT
DTSTART;TZID=Europe/Amsterdam:20260707T190000
DTEND;TZID=Europe/Amsterdam:20260707T203000
DTSTAMP:20260420T215009
CREATED:20240325T124542Z
LAST-MODIFIED:20251016T123312Z
UID:10003491-1783450800-1783456200@senso-voerendaal.nl
SUMMARY:Seniorenorkest
DESCRIPTION:  \nActiviteiten – Senso Voerendaal \n 
URL:https://senso-voerendaal.nl/evenement/seniorenorkest-2/2026-07-07/
LOCATION:De Borenburg\, Furenthela 16\, Voerendaal\, 6367 TL\, Nederland
CATEGORIES:Activiteit
ATTACH;FMTTYPE=image/jpeg:https://senso-voerendaal.nl/wp-content/uploads/2024/03/seniorenorkest-360x270-1.jpg
END:VEVENT
BEGIN:VEVENT
DTSTART;TZID=Europe/Amsterdam:20260707T190000
DTEND;TZID=Europe/Amsterdam:20260707T210000
DTSTAMP:20260420T215009
CREATED:20240325T125209Z
LAST-MODIFIED:20251016T144004Z
UID:10004114-1783450800-1783458000@senso-voerendaal.nl
SUMMARY:Koersballen
DESCRIPTION:Activiteiten – Senso Voerendaal
URL:https://senso-voerendaal.nl/evenement/koersballen-2-2-2-2/2026-07-07/
LOCATION:Kunderhoes\, Hogeweg 74\, Voerendaal\, Limburg\, 6367 BG\, Nederland
CATEGORIES:Activiteit
ATTACH;FMTTYPE=image/jpeg:https://senso-voerendaal.nl/wp-content/uploads/2024/02/koersball.jpg
END:VEVENT
BEGIN:VEVENT
DTSTART;TZID=Europe/Amsterdam:20260708T093000
DTEND;TZID=Europe/Amsterdam:20260708T113000
DTSTAMP:20260420T215009
CREATED:20240320T132655Z
LAST-MODIFIED:20251201T140144Z
UID:10003855-1783503000-1783510200@senso-voerendaal.nl
SUMMARY:Tekenen en schilderen
DESCRIPTION:Activiteiten – Senso Voerendaal \n 
URL:https://senso-voerendaal.nl/evenement/tekenen-en-schilderen-2/2026-07-08/
LOCATION:Kunderhoes\, Hogeweg 74\, Voerendaal\, Limburg\, 6367 BG\, Nederland
CATEGORIES:Activiteit
ATTACH;FMTTYPE=image/jpeg:https://senso-voerendaal.nl/wp-content/uploads/2024/03/Schilderen_10-360x240-1.jpg
END:VEVENT
BEGIN:VEVENT
DTSTART;TZID=Europe/Amsterdam:20260708T111500
DTEND;TZID=Europe/Amsterdam:20260708T121500
DTSTAMP:20260420T215009
CREATED:20251006T155432Z
LAST-MODIFIED:20251016T143344Z
UID:10003647-1783509300-1783512900@senso-voerendaal.nl
SUMMARY:Tai CHI
DESCRIPTION:  \nBewegen – Senso Voerendaal \n 
URL:https://senso-voerendaal.nl/evenement/tai-chi-2-2-3/2026-07-08/
LOCATION:Kunderhoes\, Hogeweg 74\, Voerendaal\, Limburg\, 6367 BG\, Nederland
CATEGORIES:Bewegen
ATTACH;FMTTYPE=image/jpeg:https://senso-voerendaal.nl/wp-content/uploads/2024/03/tai-chi.jpg
END:VEVENT
BEGIN:VEVENT
DTSTART;TZID=Europe/Amsterdam:20260708T160000
DTEND;TZID=Europe/Amsterdam:20260708T170000
DTSTAMP:20260420T215009
CREATED:20240325T122413Z
LAST-MODIFIED:20251119T173325Z
UID:10003543-1783526400-1783530000@senso-voerendaal.nl
SUMMARY:Seniorenkoor
DESCRIPTION:Activiteiten/#seniorenkoor
URL:https://senso-voerendaal.nl/evenement/seniorenkoor-3/2026-07-08/
LOCATION:Kunderhoes\, Hogeweg 74\, Voerendaal\, Limburg\, 6367 BG\, Nederland
CATEGORIES:Activiteit
END:VEVENT
BEGIN:VEVENT
DTSTART;TZID=Europe/Amsterdam:20260709T093000
DTEND;TZID=Europe/Amsterdam:20260709T140000
DTSTAMP:20260420T215009
CREATED:20240320T132615Z
LAST-MODIFIED:20251006T163044Z
UID:10003362-1783589400-1783605600@senso-voerendaal.nl
SUMMARY:Fietstochten
DESCRIPTION:Bewegen – Senso Voerendaal \n 
URL:https://senso-voerendaal.nl/evenement/fietstochten-2-2/2026-07-09/
LOCATION:Kunderhoes\, Hogeweg 74\, Voerendaal\, Limburg\, 6367 BG\, Nederland
CATEGORIES:Bewegen
ATTACH;FMTTYPE=image/jpeg:https://senso-voerendaal.nl/wp-content/uploads/2024/03/fietstocht.jpg
END:VEVENT
BEGIN:VEVENT
DTSTART;TZID=Europe/Amsterdam:20260709T140000
DTEND;TZID=Europe/Amsterdam:20260709T160000
DTSTAMP:20260420T215009
CREATED:20240325T121534Z
LAST-MODIFIED:20251016T143548Z
UID:10003959-1783605600-1783612800@senso-voerendaal.nl
SUMMARY:Soosmiddag
DESCRIPTION:
URL:https://senso-voerendaal.nl/evenement/soosmiddag-2/2026-07-09/
LOCATION:Kunderhoes\, Hogeweg 74\, Voerendaal\, Limburg\, 6367 BG\, Nederland
CATEGORIES:Activiteit
ATTACH;FMTTYPE=image/jpeg:https://senso-voerendaal.nl/wp-content/uploads/2024/03/downloaden-1.jpg
END:VEVENT
BEGIN:VEVENT
DTSTART;TZID=Europe/Amsterdam:20260709T141500
DTEND;TZID=Europe/Amsterdam:20260709T151500
DTSTAMP:20260420T215009
CREATED:20240417T120315Z
LAST-MODIFIED:20251016T143635Z
UID:10003699-1783606500-1783610100@senso-voerendaal.nl
SUMMARY:Tai-Chi
DESCRIPTION:  \nBewegen – Senso Voerendaal \n 
URL:https://senso-voerendaal.nl/evenement/tai-chi-2-2-2/2026-07-09/
LOCATION:Limburg
ATTACH;FMTTYPE=image/jpeg:https://senso-voerendaal.nl/wp-content/uploads/2024/03/tai-chi.jpg
END:VEVENT
BEGIN:VEVENT
DTSTART;TZID=Europe/Amsterdam:20260709T153000
DTEND;TZID=Europe/Amsterdam:20260709T163000
DTSTAMP:20260420T215009
CREATED:20240417T120721Z
LAST-MODIFIED:20251016T143720Z
UID:10003751-1783611000-1783614600@senso-voerendaal.nl
SUMMARY:Line dance
DESCRIPTION:
URL:https://senso-voerendaal.nl/evenement/line-dance-2/2026-07-09/
LOCATION:Kunderhoes\, Hogeweg 74\, Voerendaal\, Limburg\, 6367 BG\, Nederland
CATEGORIES:Bewegen
ATTACH;FMTTYPE=image/jpeg:https://senso-voerendaal.nl/wp-content/uploads/2024/02/download-1.jpg
END:VEVENT
BEGIN:VEVENT
DTSTART;TZID=Europe/Amsterdam:20260709T190000
DTEND;TZID=Europe/Amsterdam:20260709T210000
DTSTAMP:20260420T215009
CREATED:20240325T125209Z
LAST-MODIFIED:20251016T144004Z
UID:10004115-1783623600-1783630800@senso-voerendaal.nl
SUMMARY:Koersballen
DESCRIPTION:Activiteiten – Senso Voerendaal
URL:https://senso-voerendaal.nl/evenement/koersballen-2-2-2-2/2026-07-09/
LOCATION:Kunderhoes\, Hogeweg 74\, Voerendaal\, Limburg\, 6367 BG\, Nederland
CATEGORIES:Activiteit
ATTACH;FMTTYPE=image/jpeg:https://senso-voerendaal.nl/wp-content/uploads/2024/02/koersball.jpg
END:VEVENT
BEGIN:VEVENT
DTSTART;TZID=Europe/Amsterdam:20260710T094500
DTEND;TZID=Europe/Amsterdam:20260710T104500
DTSTAMP:20260420T215009
CREATED:20240417T115933Z
LAST-MODIFIED:20251016T143839Z
UID:10003908-1783676700-1783680300@senso-voerendaal.nl
SUMMARY:Yoga
DESCRIPTION:bewegen/#yoga
URL:https://senso-voerendaal.nl/evenement/yoga-2-2-2/2026-07-10/
LOCATION:Limburg
CATEGORIES:Bewegen
ATTACH;FMTTYPE=image/jpeg:https://senso-voerendaal.nl/wp-content/uploads/2024/03/yoga.jpg
END:VEVENT
BEGIN:VEVENT
DTSTART;VALUE=DATE:20260713
DTEND;VALUE=DATE:20260824
DTSTAMP:20260420T215009
CREATED:20240417T122014Z
LAST-MODIFIED:20251016T132531Z
UID:10001893-1783900800-1787529599@senso-voerendaal.nl
SUMMARY:Vakantie 2026
DESCRIPTION:De Senso gaat met vakantie\, van 3 juli 2026 t/m 23 augustus 2026. De geplande activiteiten in deze periode gaan niet door. De activiteiten van de fietstochten en de maandelijkse Senso wandeling gaan wel door.
URL:https://senso-voerendaal.nl/evenement/vakantie-2024/
LOCATION:Kunderhoes\, Hogeweg 74\, Voerendaal\, Limburg\, 6367 BG\, Nederland
CATEGORIES:Activiteit
ATTACH;FMTTYPE=image/jpeg:https://senso-voerendaal.nl/wp-content/uploads/2024/04/vakantie-2019.jpg
END:VEVENT
BEGIN:VEVENT
DTSTART;TZID=Europe/Amsterdam:20260714T093000
DTEND;TZID=Europe/Amsterdam:20260714T140000
DTSTAMP:20260420T215009
CREATED:20240320T132615Z
LAST-MODIFIED:20251006T163044Z
UID:10003363-1784021400-1784037600@senso-voerendaal.nl
SUMMARY:Fietstochten
DESCRIPTION:Bewegen – Senso Voerendaal \n 
URL:https://senso-voerendaal.nl/evenement/fietstochten-2-2/2026-07-14/
LOCATION:Kunderhoes\, Hogeweg 74\, Voerendaal\, Limburg\, 6367 BG\, Nederland
CATEGORIES:Bewegen
ATTACH;FMTTYPE=image/jpeg:https://senso-voerendaal.nl/wp-content/uploads/2024/03/fietstocht.jpg
END:VEVENT
BEGIN:VEVENT
DTSTART;TZID=Europe/Amsterdam:20260714T190000
DTEND;TZID=Europe/Amsterdam:20260714T203000
DTSTAMP:20260420T215009
CREATED:20240325T124542Z
LAST-MODIFIED:20251016T123312Z
UID:10003492-1784055600-1784061000@senso-voerendaal.nl
SUMMARY:Seniorenorkest
DESCRIPTION:  \nActiviteiten – Senso Voerendaal \n 
URL:https://senso-voerendaal.nl/evenement/seniorenorkest-2/2026-07-14/
LOCATION:De Borenburg\, Furenthela 16\, Voerendaal\, 6367 TL\, Nederland
CATEGORIES:Activiteit
ATTACH;FMTTYPE=image/jpeg:https://senso-voerendaal.nl/wp-content/uploads/2024/03/seniorenorkest-360x270-1.jpg
END:VEVENT
END:VCALENDAR