BEGIN:VCALENDAR
VERSION:2.0
PRODID:-//Senso Voerendaal - ECPv6.15.16//NONSGML v1.0//EN
CALSCALE:GREGORIAN
METHOD:PUBLISH
X-WR-CALNAME:Senso Voerendaal
X-ORIGINAL-URL:https://senso-voerendaal.nl
X-WR-CALDESC:Evenementen voor Senso Voerendaal
REFRESH-INTERVAL;VALUE=DURATION:PT1H
X-Robots-Tag:noindex
X-PUBLISHED-TTL:PT1H
BEGIN:VTIMEZONE
TZID:Europe/Amsterdam
BEGIN:DAYLIGHT
TZOFFSETFROM:+0100
TZOFFSETTO:+0200
TZNAME:CEST
DTSTART:20250330T010000
END:DAYLIGHT
BEGIN:STANDARD
TZOFFSETFROM:+0200
TZOFFSETTO:+0100
TZNAME:CET
DTSTART:20251026T010000
END:STANDARD
BEGIN:DAYLIGHT
TZOFFSETFROM:+0100
TZOFFSETTO:+0200
TZNAME:CEST
DTSTART:20260329T010000
END:DAYLIGHT
BEGIN:STANDARD
TZOFFSETFROM:+0200
TZOFFSETTO:+0100
TZNAME:CET
DTSTART:20261025T010000
END:STANDARD
BEGIN:DAYLIGHT
TZOFFSETFROM:+0100
TZOFFSETTO:+0200
TZNAME:CEST
DTSTART:20270328T010000
END:DAYLIGHT
BEGIN:STANDARD
TZOFFSETFROM:+0200
TZOFFSETTO:+0100
TZNAME:CET
DTSTART:20271031T010000
END:STANDARD
END:VTIMEZONE
BEGIN:VEVENT
DTSTART;TZID=Europe/Amsterdam:20260420T100000
DTEND;TZID=Europe/Amsterdam:20260420T120000
DTSTAMP:20260420T112023
CREATED:20250410T082812Z
LAST-MODIFIED:20251016T142711Z
UID:10003584-1776679200-1776686400@senso-voerendaal.nl
SUMMARY:Tafeltennis
DESCRIPTION:  \nBewegen – Senso Voerendaal (senso-voerendaal.nl) \n 
URL:https://senso-voerendaal.nl/evenement/tafeltennis-2-2/2026-04-20/
LOCATION:Kunderhoes\, Hogeweg 74\, Voerendaal\, Limburg\, 6367 BG\, Nederland
CATEGORIES:Bewegen
ATTACH;FMTTYPE=image/png:https://senso-voerendaal.nl/wp-content/uploads/2024/02/image-248x300-1.png
END:VEVENT
BEGIN:VEVENT
DTSTART;TZID=Europe/Amsterdam:20260427T100000
DTEND;TZID=Europe/Amsterdam:20260427T120000
DTSTAMP:20260420T112023
CREATED:20250410T082812Z
LAST-MODIFIED:20251016T142711Z
UID:10003585-1777284000-1777291200@senso-voerendaal.nl
SUMMARY:Tafeltennis
DESCRIPTION:  \nBewegen – Senso Voerendaal (senso-voerendaal.nl) \n 
URL:https://senso-voerendaal.nl/evenement/tafeltennis-2-2/2026-04-27/
LOCATION:Kunderhoes\, Hogeweg 74\, Voerendaal\, Limburg\, 6367 BG\, Nederland
CATEGORIES:Bewegen
ATTACH;FMTTYPE=image/png:https://senso-voerendaal.nl/wp-content/uploads/2024/02/image-248x300-1.png
END:VEVENT
BEGIN:VEVENT
DTSTART;TZID=Europe/Amsterdam:20260504T100000
DTEND;TZID=Europe/Amsterdam:20260504T120000
DTSTAMP:20260420T112023
CREATED:20250410T082812Z
LAST-MODIFIED:20251016T142711Z
UID:10003586-1777888800-1777896000@senso-voerendaal.nl
SUMMARY:Tafeltennis
DESCRIPTION:  \nBewegen – Senso Voerendaal (senso-voerendaal.nl) \n 
URL:https://senso-voerendaal.nl/evenement/tafeltennis-2-2/2026-05-04/
LOCATION:Kunderhoes\, Hogeweg 74\, Voerendaal\, Limburg\, 6367 BG\, Nederland
CATEGORIES:Bewegen
ATTACH;FMTTYPE=image/png:https://senso-voerendaal.nl/wp-content/uploads/2024/02/image-248x300-1.png
END:VEVENT
BEGIN:VEVENT
DTSTART;TZID=Europe/Amsterdam:20260511T100000
DTEND;TZID=Europe/Amsterdam:20260511T120000
DTSTAMP:20260420T112023
CREATED:20250410T082812Z
LAST-MODIFIED:20251016T142711Z
UID:10003587-1778493600-1778500800@senso-voerendaal.nl
SUMMARY:Tafeltennis
DESCRIPTION:  \nBewegen – Senso Voerendaal (senso-voerendaal.nl) \n 
URL:https://senso-voerendaal.nl/evenement/tafeltennis-2-2/2026-05-11/
LOCATION:Kunderhoes\, Hogeweg 74\, Voerendaal\, Limburg\, 6367 BG\, Nederland
CATEGORIES:Bewegen
ATTACH;FMTTYPE=image/png:https://senso-voerendaal.nl/wp-content/uploads/2024/02/image-248x300-1.png
END:VEVENT
BEGIN:VEVENT
DTSTART;TZID=Europe/Amsterdam:20260518T100000
DTEND;TZID=Europe/Amsterdam:20260518T120000
DTSTAMP:20260420T112023
CREATED:20250410T082812Z
LAST-MODIFIED:20251016T142711Z
UID:10003588-1779098400-1779105600@senso-voerendaal.nl
SUMMARY:Tafeltennis
DESCRIPTION:  \nBewegen – Senso Voerendaal (senso-voerendaal.nl) \n 
URL:https://senso-voerendaal.nl/evenement/tafeltennis-2-2/2026-05-18/
LOCATION:Kunderhoes\, Hogeweg 74\, Voerendaal\, Limburg\, 6367 BG\, Nederland
CATEGORIES:Bewegen
ATTACH;FMTTYPE=image/png:https://senso-voerendaal.nl/wp-content/uploads/2024/02/image-248x300-1.png
END:VEVENT
BEGIN:VEVENT
DTSTART;TZID=Europe/Amsterdam:20260601T100000
DTEND;TZID=Europe/Amsterdam:20260601T120000
DTSTAMP:20260420T112023
CREATED:20250410T082812Z
LAST-MODIFIED:20251016T142711Z
UID:10003590-1780308000-1780315200@senso-voerendaal.nl
SUMMARY:Tafeltennis
DESCRIPTION:  \nBewegen – Senso Voerendaal (senso-voerendaal.nl) \n 
URL:https://senso-voerendaal.nl/evenement/tafeltennis-2-2/2026-06-01/
LOCATION:Kunderhoes\, Hogeweg 74\, Voerendaal\, Limburg\, 6367 BG\, Nederland
CATEGORIES:Bewegen
ATTACH;FMTTYPE=image/png:https://senso-voerendaal.nl/wp-content/uploads/2024/02/image-248x300-1.png
END:VEVENT
BEGIN:VEVENT
DTSTART;TZID=Europe/Amsterdam:20260608T100000
DTEND;TZID=Europe/Amsterdam:20260608T120000
DTSTAMP:20260420T112023
CREATED:20250410T082812Z
LAST-MODIFIED:20251016T142711Z
UID:10003591-1780912800-1780920000@senso-voerendaal.nl
SUMMARY:Tafeltennis
DESCRIPTION:  \nBewegen – Senso Voerendaal (senso-voerendaal.nl) \n 
URL:https://senso-voerendaal.nl/evenement/tafeltennis-2-2/2026-06-08/
LOCATION:Kunderhoes\, Hogeweg 74\, Voerendaal\, Limburg\, 6367 BG\, Nederland
CATEGORIES:Bewegen
ATTACH;FMTTYPE=image/png:https://senso-voerendaal.nl/wp-content/uploads/2024/02/image-248x300-1.png
END:VEVENT
BEGIN:VEVENT
DTSTART;TZID=Europe/Amsterdam:20260615T100000
DTEND;TZID=Europe/Amsterdam:20260615T120000
DTSTAMP:20260420T112023
CREATED:20250410T082812Z
LAST-MODIFIED:20251016T142711Z
UID:10003592-1781517600-1781524800@senso-voerendaal.nl
SUMMARY:Tafeltennis
DESCRIPTION:  \nBewegen – Senso Voerendaal (senso-voerendaal.nl) \n 
URL:https://senso-voerendaal.nl/evenement/tafeltennis-2-2/2026-06-15/
LOCATION:Kunderhoes\, Hogeweg 74\, Voerendaal\, Limburg\, 6367 BG\, Nederland
CATEGORIES:Bewegen
ATTACH;FMTTYPE=image/png:https://senso-voerendaal.nl/wp-content/uploads/2024/02/image-248x300-1.png
END:VEVENT
BEGIN:VEVENT
DTSTART;TZID=Europe/Amsterdam:20260622T100000
DTEND;TZID=Europe/Amsterdam:20260622T120000
DTSTAMP:20260420T112023
CREATED:20250410T082812Z
LAST-MODIFIED:20251016T142711Z
UID:10003593-1782122400-1782129600@senso-voerendaal.nl
SUMMARY:Tafeltennis
DESCRIPTION:  \nBewegen – Senso Voerendaal (senso-voerendaal.nl) \n 
URL:https://senso-voerendaal.nl/evenement/tafeltennis-2-2/2026-06-22/
LOCATION:Kunderhoes\, Hogeweg 74\, Voerendaal\, Limburg\, 6367 BG\, Nederland
CATEGORIES:Bewegen
ATTACH;FMTTYPE=image/png:https://senso-voerendaal.nl/wp-content/uploads/2024/02/image-248x300-1.png
END:VEVENT
BEGIN:VEVENT
DTSTART;TZID=Europe/Amsterdam:20260629T100000
DTEND;TZID=Europe/Amsterdam:20260629T120000
DTSTAMP:20260420T112023
CREATED:20250410T082812Z
LAST-MODIFIED:20251016T142711Z
UID:10003594-1782727200-1782734400@senso-voerendaal.nl
SUMMARY:Tafeltennis
DESCRIPTION:  \nBewegen – Senso Voerendaal (senso-voerendaal.nl) \n 
URL:https://senso-voerendaal.nl/evenement/tafeltennis-2-2/2026-06-29/
LOCATION:Kunderhoes\, Hogeweg 74\, Voerendaal\, Limburg\, 6367 BG\, Nederland
CATEGORIES:Bewegen
ATTACH;FMTTYPE=image/png:https://senso-voerendaal.nl/wp-content/uploads/2024/02/image-248x300-1.png
END:VEVENT
BEGIN:VEVENT
DTSTART;TZID=Europe/Amsterdam:20260706T100000
DTEND;TZID=Europe/Amsterdam:20260706T120000
DTSTAMP:20260420T112023
CREATED:20250410T082812Z
LAST-MODIFIED:20251016T142711Z
UID:10003595-1783332000-1783339200@senso-voerendaal.nl
SUMMARY:Tafeltennis
DESCRIPTION:  \nBewegen – Senso Voerendaal (senso-voerendaal.nl) \n 
URL:https://senso-voerendaal.nl/evenement/tafeltennis-2-2/2026-07-06/
LOCATION:Kunderhoes\, Hogeweg 74\, Voerendaal\, Limburg\, 6367 BG\, Nederland
CATEGORIES:Bewegen
ATTACH;FMTTYPE=image/png:https://senso-voerendaal.nl/wp-content/uploads/2024/02/image-248x300-1.png
END:VEVENT
BEGIN:VEVENT
DTSTART;TZID=Europe/Amsterdam:20260824T100000
DTEND;TZID=Europe/Amsterdam:20260824T120000
DTSTAMP:20260420T112023
CREATED:20250410T082812Z
LAST-MODIFIED:20251016T142711Z
UID:10003602-1787565600-1787572800@senso-voerendaal.nl
SUMMARY:Tafeltennis
DESCRIPTION:  \nBewegen – Senso Voerendaal (senso-voerendaal.nl) \n 
URL:https://senso-voerendaal.nl/evenement/tafeltennis-2-2/2026-08-24/
LOCATION:Kunderhoes\, Hogeweg 74\, Voerendaal\, Limburg\, 6367 BG\, Nederland
CATEGORIES:Bewegen
ATTACH;FMTTYPE=image/png:https://senso-voerendaal.nl/wp-content/uploads/2024/02/image-248x300-1.png
END:VEVENT
BEGIN:VEVENT
DTSTART;TZID=Europe/Amsterdam:20260831T100000
DTEND;TZID=Europe/Amsterdam:20260831T120000
DTSTAMP:20260420T112023
CREATED:20250410T082812Z
LAST-MODIFIED:20251016T142711Z
UID:10003603-1788170400-1788177600@senso-voerendaal.nl
SUMMARY:Tafeltennis
DESCRIPTION:  \nBewegen – Senso Voerendaal (senso-voerendaal.nl) \n 
URL:https://senso-voerendaal.nl/evenement/tafeltennis-2-2/2026-08-31/
LOCATION:Kunderhoes\, Hogeweg 74\, Voerendaal\, Limburg\, 6367 BG\, Nederland
CATEGORIES:Bewegen
ATTACH;FMTTYPE=image/png:https://senso-voerendaal.nl/wp-content/uploads/2024/02/image-248x300-1.png
END:VEVENT
BEGIN:VEVENT
DTSTART;TZID=Europe/Amsterdam:20260907T100000
DTEND;TZID=Europe/Amsterdam:20260907T120000
DTSTAMP:20260420T112023
CREATED:20250410T082812Z
LAST-MODIFIED:20251016T142711Z
UID:10003604-1788775200-1788782400@senso-voerendaal.nl
SUMMARY:Tafeltennis
DESCRIPTION:  \nBewegen – Senso Voerendaal (senso-voerendaal.nl) \n 
URL:https://senso-voerendaal.nl/evenement/tafeltennis-2-2/2026-09-07/
LOCATION:Kunderhoes\, Hogeweg 74\, Voerendaal\, Limburg\, 6367 BG\, Nederland
CATEGORIES:Bewegen
ATTACH;FMTTYPE=image/png:https://senso-voerendaal.nl/wp-content/uploads/2024/02/image-248x300-1.png
END:VEVENT
BEGIN:VEVENT
DTSTART;TZID=Europe/Amsterdam:20260914T100000
DTEND;TZID=Europe/Amsterdam:20260914T120000
DTSTAMP:20260420T112023
CREATED:20250410T082812Z
LAST-MODIFIED:20251016T142711Z
UID:10003605-1789380000-1789387200@senso-voerendaal.nl
SUMMARY:Tafeltennis
DESCRIPTION:  \nBewegen – Senso Voerendaal (senso-voerendaal.nl) \n 
URL:https://senso-voerendaal.nl/evenement/tafeltennis-2-2/2026-09-14/
LOCATION:Kunderhoes\, Hogeweg 74\, Voerendaal\, Limburg\, 6367 BG\, Nederland
CATEGORIES:Bewegen
ATTACH;FMTTYPE=image/png:https://senso-voerendaal.nl/wp-content/uploads/2024/02/image-248x300-1.png
END:VEVENT
BEGIN:VEVENT
DTSTART;TZID=Europe/Amsterdam:20260921T100000
DTEND;TZID=Europe/Amsterdam:20260921T120000
DTSTAMP:20260420T112023
CREATED:20250410T082812Z
LAST-MODIFIED:20251016T142711Z
UID:10003606-1789984800-1789992000@senso-voerendaal.nl
SUMMARY:Tafeltennis
DESCRIPTION:  \nBewegen – Senso Voerendaal (senso-voerendaal.nl) \n 
URL:https://senso-voerendaal.nl/evenement/tafeltennis-2-2/2026-09-21/
LOCATION:Kunderhoes\, Hogeweg 74\, Voerendaal\, Limburg\, 6367 BG\, Nederland
CATEGORIES:Bewegen
ATTACH;FMTTYPE=image/png:https://senso-voerendaal.nl/wp-content/uploads/2024/02/image-248x300-1.png
END:VEVENT
BEGIN:VEVENT
DTSTART;TZID=Europe/Amsterdam:20260928T100000
DTEND;TZID=Europe/Amsterdam:20260928T120000
DTSTAMP:20260420T112023
CREATED:20250410T082812Z
LAST-MODIFIED:20251016T142711Z
UID:10003607-1790589600-1790596800@senso-voerendaal.nl
SUMMARY:Tafeltennis
DESCRIPTION:  \nBewegen – Senso Voerendaal (senso-voerendaal.nl) \n 
URL:https://senso-voerendaal.nl/evenement/tafeltennis-2-2/2026-09-28/
LOCATION:Kunderhoes\, Hogeweg 74\, Voerendaal\, Limburg\, 6367 BG\, Nederland
CATEGORIES:Bewegen
ATTACH;FMTTYPE=image/png:https://senso-voerendaal.nl/wp-content/uploads/2024/02/image-248x300-1.png
END:VEVENT
BEGIN:VEVENT
DTSTART;TZID=Europe/Amsterdam:20261005T100000
DTEND;TZID=Europe/Amsterdam:20261005T120000
DTSTAMP:20260420T112023
CREATED:20250410T082812Z
LAST-MODIFIED:20251016T142711Z
UID:10003608-1791194400-1791201600@senso-voerendaal.nl
SUMMARY:Tafeltennis
DESCRIPTION:  \nBewegen – Senso Voerendaal (senso-voerendaal.nl) \n 
URL:https://senso-voerendaal.nl/evenement/tafeltennis-2-2/2026-10-05/
LOCATION:Kunderhoes\, Hogeweg 74\, Voerendaal\, Limburg\, 6367 BG\, Nederland
CATEGORIES:Bewegen
ATTACH;FMTTYPE=image/png:https://senso-voerendaal.nl/wp-content/uploads/2024/02/image-248x300-1.png
END:VEVENT
BEGIN:VEVENT
DTSTART;TZID=Europe/Amsterdam:20261012T100000
DTEND;TZID=Europe/Amsterdam:20261012T120000
DTSTAMP:20260420T112023
CREATED:20250410T082812Z
LAST-MODIFIED:20251016T142711Z
UID:10003609-1791799200-1791806400@senso-voerendaal.nl
SUMMARY:Tafeltennis
DESCRIPTION:  \nBewegen – Senso Voerendaal (senso-voerendaal.nl) \n 
URL:https://senso-voerendaal.nl/evenement/tafeltennis-2-2/2026-10-12/
LOCATION:Kunderhoes\, Hogeweg 74\, Voerendaal\, Limburg\, 6367 BG\, Nederland
CATEGORIES:Bewegen
ATTACH;FMTTYPE=image/png:https://senso-voerendaal.nl/wp-content/uploads/2024/02/image-248x300-1.png
END:VEVENT
BEGIN:VEVENT
DTSTART;TZID=Europe/Amsterdam:20261019T100000
DTEND;TZID=Europe/Amsterdam:20261019T120000
DTSTAMP:20260420T112023
CREATED:20250410T082812Z
LAST-MODIFIED:20251016T142711Z
UID:10003610-1792404000-1792411200@senso-voerendaal.nl
SUMMARY:Tafeltennis
DESCRIPTION:  \nBewegen – Senso Voerendaal (senso-voerendaal.nl) \n 
URL:https://senso-voerendaal.nl/evenement/tafeltennis-2-2/2026-10-19/
LOCATION:Kunderhoes\, Hogeweg 74\, Voerendaal\, Limburg\, 6367 BG\, Nederland
CATEGORIES:Bewegen
ATTACH;FMTTYPE=image/png:https://senso-voerendaal.nl/wp-content/uploads/2024/02/image-248x300-1.png
END:VEVENT
BEGIN:VEVENT
DTSTART;TZID=Europe/Amsterdam:20261026T100000
DTEND;TZID=Europe/Amsterdam:20261026T120000
DTSTAMP:20260420T112023
CREATED:20250410T082812Z
LAST-MODIFIED:20251016T142711Z
UID:10003611-1793008800-1793016000@senso-voerendaal.nl
SUMMARY:Tafeltennis
DESCRIPTION:  \nBewegen – Senso Voerendaal (senso-voerendaal.nl) \n 
URL:https://senso-voerendaal.nl/evenement/tafeltennis-2-2/2026-10-26/
LOCATION:Kunderhoes\, Hogeweg 74\, Voerendaal\, Limburg\, 6367 BG\, Nederland
CATEGORIES:Bewegen
ATTACH;FMTTYPE=image/png:https://senso-voerendaal.nl/wp-content/uploads/2024/02/image-248x300-1.png
END:VEVENT
BEGIN:VEVENT
DTSTART;TZID=Europe/Amsterdam:20261102T100000
DTEND;TZID=Europe/Amsterdam:20261102T120000
DTSTAMP:20260420T112023
CREATED:20250410T082812Z
LAST-MODIFIED:20251016T142711Z
UID:10003612-1793613600-1793620800@senso-voerendaal.nl
SUMMARY:Tafeltennis
DESCRIPTION:  \nBewegen – Senso Voerendaal (senso-voerendaal.nl) \n 
URL:https://senso-voerendaal.nl/evenement/tafeltennis-2-2/2026-11-02/
LOCATION:Kunderhoes\, Hogeweg 74\, Voerendaal\, Limburg\, 6367 BG\, Nederland
CATEGORIES:Bewegen
ATTACH;FMTTYPE=image/png:https://senso-voerendaal.nl/wp-content/uploads/2024/02/image-248x300-1.png
END:VEVENT
BEGIN:VEVENT
DTSTART;TZID=Europe/Amsterdam:20261109T100000
DTEND;TZID=Europe/Amsterdam:20261109T120000
DTSTAMP:20260420T112023
CREATED:20250410T082812Z
LAST-MODIFIED:20251016T142711Z
UID:10003613-1794218400-1794225600@senso-voerendaal.nl
SUMMARY:Tafeltennis
DESCRIPTION:  \nBewegen – Senso Voerendaal (senso-voerendaal.nl) \n 
URL:https://senso-voerendaal.nl/evenement/tafeltennis-2-2/2026-11-09/
LOCATION:Kunderhoes\, Hogeweg 74\, Voerendaal\, Limburg\, 6367 BG\, Nederland
CATEGORIES:Bewegen
ATTACH;FMTTYPE=image/png:https://senso-voerendaal.nl/wp-content/uploads/2024/02/image-248x300-1.png
END:VEVENT
BEGIN:VEVENT
DTSTART;TZID=Europe/Amsterdam:20261116T100000
DTEND;TZID=Europe/Amsterdam:20261116T120000
DTSTAMP:20260420T112023
CREATED:20250410T082812Z
LAST-MODIFIED:20251016T142711Z
UID:10003614-1794823200-1794830400@senso-voerendaal.nl
SUMMARY:Tafeltennis
DESCRIPTION:  \nBewegen – Senso Voerendaal (senso-voerendaal.nl) \n 
URL:https://senso-voerendaal.nl/evenement/tafeltennis-2-2/2026-11-16/
LOCATION:Kunderhoes\, Hogeweg 74\, Voerendaal\, Limburg\, 6367 BG\, Nederland
CATEGORIES:Bewegen
ATTACH;FMTTYPE=image/png:https://senso-voerendaal.nl/wp-content/uploads/2024/02/image-248x300-1.png
END:VEVENT
BEGIN:VEVENT
DTSTART;TZID=Europe/Amsterdam:20261123T100000
DTEND;TZID=Europe/Amsterdam:20261123T120000
DTSTAMP:20260420T112023
CREATED:20250410T082812Z
LAST-MODIFIED:20251016T142711Z
UID:10003615-1795428000-1795435200@senso-voerendaal.nl
SUMMARY:Tafeltennis
DESCRIPTION:  \nBewegen – Senso Voerendaal (senso-voerendaal.nl) \n 
URL:https://senso-voerendaal.nl/evenement/tafeltennis-2-2/2026-11-23/
LOCATION:Kunderhoes\, Hogeweg 74\, Voerendaal\, Limburg\, 6367 BG\, Nederland
CATEGORIES:Bewegen
ATTACH;FMTTYPE=image/png:https://senso-voerendaal.nl/wp-content/uploads/2024/02/image-248x300-1.png
END:VEVENT
BEGIN:VEVENT
DTSTART;TZID=Europe/Amsterdam:20261130T100000
DTEND;TZID=Europe/Amsterdam:20261130T120000
DTSTAMP:20260420T112023
CREATED:20250410T082812Z
LAST-MODIFIED:20251016T142711Z
UID:10003616-1796032800-1796040000@senso-voerendaal.nl
SUMMARY:Tafeltennis
DESCRIPTION:  \nBewegen – Senso Voerendaal (senso-voerendaal.nl) \n 
URL:https://senso-voerendaal.nl/evenement/tafeltennis-2-2/2026-11-30/
LOCATION:Kunderhoes\, Hogeweg 74\, Voerendaal\, Limburg\, 6367 BG\, Nederland
CATEGORIES:Bewegen
ATTACH;FMTTYPE=image/png:https://senso-voerendaal.nl/wp-content/uploads/2024/02/image-248x300-1.png
END:VEVENT
BEGIN:VEVENT
DTSTART;TZID=Europe/Amsterdam:20261207T100000
DTEND;TZID=Europe/Amsterdam:20261207T120000
DTSTAMP:20260420T112023
CREATED:20250410T082812Z
LAST-MODIFIED:20251016T142711Z
UID:10003617-1796637600-1796644800@senso-voerendaal.nl
SUMMARY:Tafeltennis
DESCRIPTION:  \nBewegen – Senso Voerendaal (senso-voerendaal.nl) \n 
URL:https://senso-voerendaal.nl/evenement/tafeltennis-2-2/2026-12-07/
LOCATION:Kunderhoes\, Hogeweg 74\, Voerendaal\, Limburg\, 6367 BG\, Nederland
CATEGORIES:Bewegen
ATTACH;FMTTYPE=image/png:https://senso-voerendaal.nl/wp-content/uploads/2024/02/image-248x300-1.png
END:VEVENT
BEGIN:VEVENT
DTSTART;TZID=Europe/Amsterdam:20261214T100000
DTEND;TZID=Europe/Amsterdam:20261214T120000
DTSTAMP:20260420T112023
CREATED:20250410T082812Z
LAST-MODIFIED:20251016T142711Z
UID:10003618-1797242400-1797249600@senso-voerendaal.nl
SUMMARY:Tafeltennis
DESCRIPTION:  \nBewegen – Senso Voerendaal (senso-voerendaal.nl) \n 
URL:https://senso-voerendaal.nl/evenement/tafeltennis-2-2/2026-12-14/
LOCATION:Kunderhoes\, Hogeweg 74\, Voerendaal\, Limburg\, 6367 BG\, Nederland
CATEGORIES:Bewegen
ATTACH;FMTTYPE=image/png:https://senso-voerendaal.nl/wp-content/uploads/2024/02/image-248x300-1.png
END:VEVENT
END:VCALENDAR