BEGIN:VCALENDAR
VERSION:2.0
PRODID:-//Senso Voerendaal - ECPv6.15.16//NONSGML v1.0//EN
CALSCALE:GREGORIAN
METHOD:PUBLISH
X-ORIGINAL-URL:https://senso-voerendaal.nl
X-WR-CALDESC:Evenementen voor Senso Voerendaal
REFRESH-INTERVAL;VALUE=DURATION:PT1H
X-Robots-Tag:noindex
X-PUBLISHED-TTL:PT1H
BEGIN:VTIMEZONE
TZID:Europe/Amsterdam
BEGIN:DAYLIGHT
TZOFFSETFROM:+0100
TZOFFSETTO:+0200
TZNAME:CEST
DTSTART:20250330T010000
END:DAYLIGHT
BEGIN:STANDARD
TZOFFSETFROM:+0200
TZOFFSETTO:+0100
TZNAME:CET
DTSTART:20251026T010000
END:STANDARD
BEGIN:DAYLIGHT
TZOFFSETFROM:+0100
TZOFFSETTO:+0200
TZNAME:CEST
DTSTART:20260329T010000
END:DAYLIGHT
BEGIN:STANDARD
TZOFFSETFROM:+0200
TZOFFSETTO:+0100
TZNAME:CET
DTSTART:20261025T010000
END:STANDARD
BEGIN:DAYLIGHT
TZOFFSETFROM:+0100
TZOFFSETTO:+0200
TZNAME:CEST
DTSTART:20270328T010000
END:DAYLIGHT
BEGIN:STANDARD
TZOFFSETFROM:+0200
TZOFFSETTO:+0100
TZNAME:CET
DTSTART:20271031T010000
END:STANDARD
END:VTIMEZONE
BEGIN:VEVENT
DTSTART;VALUE=DATE:20260524
DTEND;VALUE=DATE:20260526
DTSTAMP:20260420T051503
CREATED:20251016T131124Z
LAST-MODIFIED:20251016T131124Z
UID:10004185-1779580800-1779753599@senso-voerendaal.nl
SUMMARY:Pinksteren
DESCRIPTION:Geen Senso activiteiten
URL:https://senso-voerendaal.nl/evenement/pinksteren/
CATEGORIES:Activiteit
END:VEVENT
BEGIN:VEVENT
DTSTART;TZID=Europe/Amsterdam:20260526T093000
DTEND;TZID=Europe/Amsterdam:20260526T140000
DTSTAMP:20260420T051503
CREATED:20240320T132615Z
LAST-MODIFIED:20251006T163044Z
UID:10003349-1779787800-1779804000@senso-voerendaal.nl
SUMMARY:Fietstochten
DESCRIPTION:Bewegen – Senso Voerendaal \n 
URL:https://senso-voerendaal.nl/evenement/fietstochten-2-2/2026-05-26/
LOCATION:Kunderhoes\, Hogeweg 74\, Voerendaal\, Limburg\, 6367 BG\, Nederland
CATEGORIES:Bewegen
ATTACH;FMTTYPE=image/jpeg:https://senso-voerendaal.nl/wp-content/uploads/2024/03/fietstocht.jpg
END:VEVENT
BEGIN:VEVENT
DTSTART;TZID=Europe/Amsterdam:20260526T103000
DTEND;TZID=Europe/Amsterdam:20260526T123000
DTSTAMP:20260420T051503
CREATED:20250818T080415Z
LAST-MODIFIED:20251016T141548Z
UID:10004038-1779791400-1779798600@senso-voerendaal.nl
SUMMARY:Chi Neng Qiong
DESCRIPTION:  \n  \n  \nBewegen – Senso Voerendaal
URL:https://senso-voerendaal.nl/evenement/chi-neng-qiong/2026-05-26/
LOCATION:Kunderhoes\, Hogeweg 74\, Voerendaal\, Limburg\, 6367 BG\, Nederland
CATEGORIES:Bewegen
ATTACH;FMTTYPE=image/jpeg:https://senso-voerendaal.nl/wp-content/uploads/2025/01/Qigong.jpg
END:VEVENT
BEGIN:VEVENT
DTSTART;TZID=Europe/Amsterdam:20260526T150000
DTEND;TZID=Europe/Amsterdam:20260526T160000
DTSTAMP:20260420T051503
CREATED:20240417T115732Z
LAST-MODIFIED:20251016T143031Z
UID:10003797-1779807600-1779811200@senso-voerendaal.nl
SUMMARY:Bewegen op muziek
DESCRIPTION:Bewegen – Senso Voerendaal  \n 
URL:https://senso-voerendaal.nl/evenement/bewegen-op-muziek-3-2/2026-05-26/
LOCATION:Kunderhoes\, Hogeweg 74\, Voerendaal\, Limburg\, 6367 BG\, Nederland
CATEGORIES:Bewegen
ATTACH;FMTTYPE=image/jpeg:https://senso-voerendaal.nl/wp-content/uploads/2024/03/OIP-8.jpg
END:VEVENT
BEGIN:VEVENT
DTSTART;TZID=Europe/Amsterdam:20260526T190000
DTEND;TZID=Europe/Amsterdam:20260526T203000
DTSTAMP:20260420T051503
CREATED:20240325T124542Z
LAST-MODIFIED:20251016T123312Z
UID:10003485-1779822000-1779827400@senso-voerendaal.nl
SUMMARY:Seniorenorkest
DESCRIPTION:  \nActiviteiten – Senso Voerendaal \n 
URL:https://senso-voerendaal.nl/evenement/seniorenorkest-2/2026-05-26/
LOCATION:De Borenburg\, Furenthela 16\, Voerendaal\, 6367 TL\, Nederland
CATEGORIES:Activiteit
ATTACH;FMTTYPE=image/jpeg:https://senso-voerendaal.nl/wp-content/uploads/2024/03/seniorenorkest-360x270-1.jpg
END:VEVENT
BEGIN:VEVENT
DTSTART;TZID=Europe/Amsterdam:20260526T190000
DTEND;TZID=Europe/Amsterdam:20260526T210000
DTSTAMP:20260420T051503
CREATED:20240325T125209Z
LAST-MODIFIED:20251016T144004Z
UID:10004102-1779822000-1779829200@senso-voerendaal.nl
SUMMARY:Koersballen
DESCRIPTION:Activiteiten – Senso Voerendaal
URL:https://senso-voerendaal.nl/evenement/koersballen-2-2-2-2/2026-05-26/
LOCATION:Kunderhoes\, Hogeweg 74\, Voerendaal\, Limburg\, 6367 BG\, Nederland
CATEGORIES:Activiteit
ATTACH;FMTTYPE=image/jpeg:https://senso-voerendaal.nl/wp-content/uploads/2024/02/koersball.jpg
END:VEVENT
BEGIN:VEVENT
DTSTART;TZID=Europe/Amsterdam:20260527T093000
DTEND;TZID=Europe/Amsterdam:20260527T113000
DTSTAMP:20260420T051503
CREATED:20240320T132655Z
LAST-MODIFIED:20251201T140144Z
UID:10003849-1779874200-1779881400@senso-voerendaal.nl
SUMMARY:Tekenen en schilderen
DESCRIPTION:Activiteiten – Senso Voerendaal \n 
URL:https://senso-voerendaal.nl/evenement/tekenen-en-schilderen-2/2026-05-27/
LOCATION:Kunderhoes\, Hogeweg 74\, Voerendaal\, Limburg\, 6367 BG\, Nederland
CATEGORIES:Activiteit
ATTACH;FMTTYPE=image/jpeg:https://senso-voerendaal.nl/wp-content/uploads/2024/03/Schilderen_10-360x240-1.jpg
END:VEVENT
BEGIN:VEVENT
DTSTART;TZID=Europe/Amsterdam:20260527T111500
DTEND;TZID=Europe/Amsterdam:20260527T121500
DTSTAMP:20260420T051503
CREATED:20251006T155432Z
LAST-MODIFIED:20251016T143344Z
UID:10003641-1779880500-1779884100@senso-voerendaal.nl
SUMMARY:Tai CHI
DESCRIPTION:  \nBewegen – Senso Voerendaal \n 
URL:https://senso-voerendaal.nl/evenement/tai-chi-2-2-3/2026-05-27/
LOCATION:Kunderhoes\, Hogeweg 74\, Voerendaal\, Limburg\, 6367 BG\, Nederland
CATEGORIES:Bewegen
ATTACH;FMTTYPE=image/jpeg:https://senso-voerendaal.nl/wp-content/uploads/2024/03/tai-chi.jpg
END:VEVENT
BEGIN:VEVENT
DTSTART;TZID=Europe/Amsterdam:20260527T160000
DTEND;TZID=Europe/Amsterdam:20260527T170000
DTSTAMP:20260420T051503
CREATED:20240325T122413Z
LAST-MODIFIED:20251119T173325Z
UID:10003537-1779897600-1779901200@senso-voerendaal.nl
SUMMARY:Seniorenkoor
DESCRIPTION:Activiteiten/#seniorenkoor
URL:https://senso-voerendaal.nl/evenement/seniorenkoor-3/2026-05-27/
LOCATION:Kunderhoes\, Hogeweg 74\, Voerendaal\, Limburg\, 6367 BG\, Nederland
CATEGORIES:Activiteit
END:VEVENT
BEGIN:VEVENT
DTSTART;TZID=Europe/Amsterdam:20260528T093000
DTEND;TZID=Europe/Amsterdam:20260528T140000
DTSTAMP:20260420T051503
CREATED:20240320T132615Z
LAST-MODIFIED:20251006T163044Z
UID:10003350-1779960600-1779976800@senso-voerendaal.nl
SUMMARY:Fietstochten
DESCRIPTION:Bewegen – Senso Voerendaal \n 
URL:https://senso-voerendaal.nl/evenement/fietstochten-2-2/2026-05-28/
LOCATION:Kunderhoes\, Hogeweg 74\, Voerendaal\, Limburg\, 6367 BG\, Nederland
CATEGORIES:Bewegen
ATTACH;FMTTYPE=image/jpeg:https://senso-voerendaal.nl/wp-content/uploads/2024/03/fietstocht.jpg
END:VEVENT
BEGIN:VEVENT
DTSTART;TZID=Europe/Amsterdam:20260528T140000
DTEND;TZID=Europe/Amsterdam:20260528T160000
DTSTAMP:20260420T051503
CREATED:20240325T121534Z
LAST-MODIFIED:20251016T143548Z
UID:10003953-1779976800-1779984000@senso-voerendaal.nl
SUMMARY:Soosmiddag
DESCRIPTION:
URL:https://senso-voerendaal.nl/evenement/soosmiddag-2/2026-05-28/
LOCATION:Kunderhoes\, Hogeweg 74\, Voerendaal\, Limburg\, 6367 BG\, Nederland
CATEGORIES:Activiteit
ATTACH;FMTTYPE=image/jpeg:https://senso-voerendaal.nl/wp-content/uploads/2024/03/downloaden-1.jpg
END:VEVENT
BEGIN:VEVENT
DTSTART;TZID=Europe/Amsterdam:20260528T141500
DTEND;TZID=Europe/Amsterdam:20260528T151500
DTSTAMP:20260420T051503
CREATED:20240417T120315Z
LAST-MODIFIED:20251016T143635Z
UID:10003693-1779977700-1779981300@senso-voerendaal.nl
SUMMARY:Tai-Chi
DESCRIPTION:  \nBewegen – Senso Voerendaal \n 
URL:https://senso-voerendaal.nl/evenement/tai-chi-2-2-2/2026-05-28/
ATTACH;FMTTYPE=image/jpeg:https://senso-voerendaal.nl/wp-content/uploads/2024/03/tai-chi.jpg
END:VEVENT
BEGIN:VEVENT
DTSTART;TZID=Europe/Amsterdam:20260528T153000
DTEND;TZID=Europe/Amsterdam:20260528T163000
DTSTAMP:20260420T051503
CREATED:20240417T120721Z
LAST-MODIFIED:20251016T143720Z
UID:10003745-1779982200-1779985800@senso-voerendaal.nl
SUMMARY:Line dance
DESCRIPTION:
URL:https://senso-voerendaal.nl/evenement/line-dance-2/2026-05-28/
LOCATION:Kunderhoes\, Hogeweg 74\, Voerendaal\, Limburg\, 6367 BG\, Nederland
CATEGORIES:Bewegen
ATTACH;FMTTYPE=image/jpeg:https://senso-voerendaal.nl/wp-content/uploads/2024/02/download-1.jpg
END:VEVENT
BEGIN:VEVENT
DTSTART;TZID=Europe/Amsterdam:20260528T190000
DTEND;TZID=Europe/Amsterdam:20260528T210000
DTSTAMP:20260420T051503
CREATED:20240325T125209Z
LAST-MODIFIED:20251016T144004Z
UID:10004103-1779994800-1780002000@senso-voerendaal.nl
SUMMARY:Koersballen
DESCRIPTION:Activiteiten – Senso Voerendaal
URL:https://senso-voerendaal.nl/evenement/koersballen-2-2-2-2/2026-05-28/
LOCATION:Kunderhoes\, Hogeweg 74\, Voerendaal\, Limburg\, 6367 BG\, Nederland
CATEGORIES:Activiteit
ATTACH;FMTTYPE=image/jpeg:https://senso-voerendaal.nl/wp-content/uploads/2024/02/koersball.jpg
END:VEVENT
BEGIN:VEVENT
DTSTART;TZID=Europe/Amsterdam:20260529T094500
DTEND;TZID=Europe/Amsterdam:20260529T104500
DTSTAMP:20260420T051503
CREATED:20240417T115933Z
LAST-MODIFIED:20251016T143839Z
UID:10003902-1780047900-1780051500@senso-voerendaal.nl
SUMMARY:Yoga
DESCRIPTION:bewegen/#yoga
URL:https://senso-voerendaal.nl/evenement/yoga-2-2-2/2026-05-29/
CATEGORIES:Bewegen
ATTACH;FMTTYPE=image/jpeg:https://senso-voerendaal.nl/wp-content/uploads/2024/03/yoga.jpg
END:VEVENT
END:VCALENDAR